Back to Multiple platform build/check report for BioC 3.12
ABCDE[F]GHIJKLMNOPQRSTUVWXYZ

Multiple platform build/check report for BioC 3.12

All results for package fCCAC

This page was generated on 2021-05-05 12:08:46 -0400 (Wed, 05 May 2021).

Package 594/1974HostnameOS / ArchINSTALLBUILDCHECKBUILD BIN
fCCAC 1.16.0  (landing page)
Pedro Madrigal
Snapshot Date: 2021-05-04 14:50:13 -0400 (Tue, 04 May 2021)
URL: https://git.bioconductor.org/packages/fCCAC
Branch: RELEASE_3_12
Last Commit: 34a8c76
Last Changed Date: 2020-10-27 11:19:21 -0400 (Tue, 27 Oct 2020)
malbec1Linux (Ubuntu 18.04.5 LTS) / x86_64  OK    OK    OK  UNNEEDED, same version exists in internal repository
tokay1Windows Server 2012 R2 Standard / x64  OK    OK    OK    OK  UNNEEDED, same version exists in internal repository
merida1macOS 10.14.6 Mojave / x86_64  OK    OK    OK    OK  UNNEEDED, same version exists in internal repository