Back to Multiple platform build/check report for BioC 3.12
ABCD[E]FGHIJKLMNOPQRSTUVWXYZ

BUILD report for epivizrChart on merida1

This page was generated on 2021-05-05 12:14:09 -0400 (Wed, 05 May 2021).

To the developers/maintainers of the epivizrChart package:
Please make sure to use the following settings in order to reproduce any error or warning you see on this page.
Package 561/1974HostnameOS / ArchINSTALLBUILDCHECKBUILD BIN
epivizrChart 1.12.0  (landing page)
Hector Corrada Bravo
Snapshot Date: 2021-05-04 14:50:13 -0400 (Tue, 04 May 2021)
URL: https://git.bioconductor.org/packages/epivizrChart
Branch: RELEASE_3_12
Last Commit: ca6387d
Last Changed Date: 2020-10-27 11:25:55 -0400 (Tue, 27 Oct 2020)
malbec1Linux (Ubuntu 18.04.5 LTS) / x86_64  OK    OK    OK  UNNEEDED, same version exists in internal repository
tokay1Windows Server 2012 R2 Standard / x64  OK    OK    OK    OK  UNNEEDED, same version exists in internal repository
merida1macOS 10.14.6 Mojave / x86_64  OK    OK    OK    OK  UNNEEDED, same version exists in internal repository

Summary

Package: epivizrChart
Version: 1.12.0
Command: /Library/Frameworks/R.framework/Versions/Current/Resources/bin/R CMD build --keep-empty-dirs --no-resave-data epivizrChart
StartedAt: 2021-05-04 19:22:32 -0400 (Tue, 04 May 2021)
EndedAt: 2021-05-04 19:25:04 -0400 (Tue, 04 May 2021)
EllapsedTime: 151.8 seconds
RetCode: 0
Status:   OK  
PackageFile: epivizrChart_1.12.0.tar.gz
PackageFileSize: 5.475 MiB

Command output

##############################################################################
##############################################################################
###
### Running command:
###
###   /Library/Frameworks/R.framework/Versions/Current/Resources/bin/R CMD build --keep-empty-dirs --no-resave-data epivizrChart
###
##############################################################################
##############################################################################


* checking for file ‘epivizrChart/DESCRIPTION’ ... OK
* preparing ‘epivizrChart’:
* checking DESCRIPTION meta-information ... OK
* installing the package to build vignettes
* creating vignettes ... OK
* checking for LF line-endings in source and make files and shell scripts
* checking for empty or unneeded directories
* building ‘epivizrChart_1.12.0.tar.gz’