Back to Multiple platform build/check report for BioC 3.12
ABCD[E]FGHIJKLMNOPQRSTUVWXYZ

BUILD BIN report for epigenomix on merida1

This page was generated on 2021-05-05 12:14:09 -0400 (Wed, 05 May 2021).

To the developers/maintainers of the epigenomix package:
Please make sure to use the following settings in order to reproduce any error or warning you see on this page.
Package 556/1974HostnameOS / ArchINSTALLBUILDCHECKBUILD BIN
epigenomix 1.30.0  (landing page)
Hans-Ulrich Klein
Snapshot Date: 2021-05-04 14:50:13 -0400 (Tue, 04 May 2021)
URL: https://git.bioconductor.org/packages/epigenomix
Branch: RELEASE_3_12
Last Commit: 56b3595
Last Changed Date: 2020-10-27 10:49:42 -0400 (Tue, 27 Oct 2020)
malbec1Linux (Ubuntu 18.04.5 LTS) / x86_64  OK    OK    OK  UNNEEDED, same version exists in internal repository
tokay1Windows Server 2012 R2 Standard / x64  OK    OK    OK    OK  UNNEEDED, same version exists in internal repository
merida1macOS 10.14.6 Mojave / x86_64  OK    OK    OK    OK  UNNEEDED, same version exists in internal repository

Summary

Package: epigenomix
Version: 1.30.0
Command: rm -rf epigenomix.buildbin-libdir && mkdir epigenomix.buildbin-libdir && /Users/biocbuild/BBS/utils/build-universal.sh epigenomix_1.30.0.tar.gz /Library/Frameworks/R.framework/Versions/Current/Resources/bin/R epigenomix.buildbin-libdir
StartedAt: 2021-05-05 08:57:45 -0400 (Wed, 05 May 2021)
EndedAt: 2021-05-05 08:58:47 -0400 (Wed, 05 May 2021)
EllapsedTime: 61.9 seconds
RetCode: 0
Status:   OK  
PackageFile: epigenomix_1.30.0.tgz
PackageFileSize: 976.8 KiB

Command output

##############################################################################
##############################################################################
###
### Running command:
###
###   rm -rf epigenomix.buildbin-libdir && mkdir epigenomix.buildbin-libdir && /Users/biocbuild/BBS/utils/build-universal.sh epigenomix_1.30.0.tar.gz /Library/Frameworks/R.framework/Versions/Current/Resources/bin/R epigenomix.buildbin-libdir
###
##############################################################################
##############################################################################


>>>>>>> 
>>>>>>> INSTALLATION WITH 'R CMD INSTALL --preclean --no-multiarch --library=epigenomix.buildbin-libdir epigenomix_1.30.0.tar.gz'
>>>>>>> 

* installing *source* package ‘epigenomix’ ...
** using staged installation
** R
** data
** inst
** byte-compile and prepare package for lazy loading
Warning in .recacheSubclasses(def@className, def, env) :
  undefined subclass "numericVector" of class "Mnumeric"; definition not updated
** help
*** installing help indices
** building package indices
** installing vignettes
** testing if installed package can be loaded from temporary location
Warning in .recacheSubclasses(def@className, def, env) :
  undefined subclass "numericVector" of class "Mnumeric"; definition not updated
** testing if installed package can be loaded from final location
Warning in .recacheSubclasses(def@className, def, env) :
  undefined subclass "numericVector" of class "Mnumeric"; definition not updated
** testing if installed package keeps a record of temporary installation path
* DONE (epigenomix)