Back to Multiple platform build/check report for BioC 3.12
ABCD[E]FGHIJKLMNOPQRSTUVWXYZ

INSTALL report for enrichTF on malbec1

This page was generated on 2021-05-05 12:09:48 -0400 (Wed, 05 May 2021).

To the developers/maintainers of the enrichTF package:
Please make sure to use the following settings in order to reproduce any error or warning you see on this page.
Package 551/1974HostnameOS / ArchINSTALLBUILDCHECKBUILD BIN
enrichTF 1.6.0  (landing page)
Zheng Wei
Snapshot Date: 2021-05-04 14:50:13 -0400 (Tue, 04 May 2021)
URL: https://git.bioconductor.org/packages/enrichTF
Branch: RELEASE_3_12
Last Commit: 1e2abb2
Last Changed Date: 2020-10-27 11:45:51 -0400 (Tue, 27 Oct 2020)
malbec1Linux (Ubuntu 18.04.5 LTS) / x86_64  OK    OK    OK  UNNEEDED, same version exists in internal repository
tokay1Windows Server 2012 R2 Standard / x64  OK    OK    OK    OK  UNNEEDED, same version exists in internal repository
merida1macOS 10.14.6 Mojave / x86_64  OK    OK    OK    OK  UNNEEDED, same version exists in internal repository

Summary

Package: enrichTF
Version: 1.6.0
Command: /home/biocbuild/bbs-3.12-bioc/R/bin/R CMD INSTALL enrichTF
StartedAt: 2021-05-04 17:20:14 -0400 (Tue, 04 May 2021)
EndedAt: 2021-05-04 17:21:03 -0400 (Tue, 04 May 2021)
EllapsedTime: 49.6 seconds
RetCode: 0
Status:   OK  

Command output

##############################################################################
##############################################################################
###
### Running command:
###
###   /home/biocbuild/bbs-3.12-bioc/R/bin/R CMD INSTALL enrichTF
###
##############################################################################
##############################################################################


* installing to library ‘/home/biocbuild/bbs-3.12-bioc/R/library’
* installing *source* package ‘enrichTF’ ...
** using staged installation
** R
** inst
** byte-compile and prepare package for lazy loading
** help
*** installing help indices
** building package indices
** installing vignettes
** testing if installed package can be loaded from temporary location
Warning in options(stringsAsFactors = TRUE) :
  'options(stringsAsFactors = TRUE)' is deprecated and will be disabled
** testing if installed package can be loaded from final location
Warning in options(stringsAsFactors = TRUE) :
  'options(stringsAsFactors = TRUE)' is deprecated and will be disabled
** testing if installed package keeps a record of temporary installation path
* DONE (enrichTF)