Back to Multiple platform build/check report for BioC 3.12
ABCD[E]FGHIJKLMNOPQRSTUVWXYZ

Multiple platform build/check report for BioC 3.12

All results for package edgeR

This page was generated on 2021-05-06 12:25:49 -0400 (Thu, 06 May 2021).

Package 533/1974HostnameOS / ArchINSTALLBUILDCHECKBUILD BIN
edgeR 3.32.1  (landing page)
Yunshun Chen , Gordon Smyth , Aaron Lun , Mark Robinson
Snapshot Date: 2021-05-05 14:51:38 -0400 (Wed, 05 May 2021)
URL: https://git.bioconductor.org/packages/edgeR
Branch: RELEASE_3_12
Last Commit: b881d80
Last Changed Date: 2021-01-14 00:54:32 -0400 (Thu, 14 Jan 2021)
malbec1Linux (Ubuntu 18.04.5 LTS) / x86_64  OK    OK    OK  UNNEEDED, same version exists in internal repository
tokay1Windows Server 2012 R2 Standard / x64  OK    OK    OK    OK  UNNEEDED, same version exists in internal repository
merida1macOS 10.14.6 Mojave / x86_64  OK    OK    OK    OK  UNNEEDED, same version exists in internal repository

Results for Bioconductor software packages that depend directly on package edgeR

QUICK STATSOS / ArchINSTALLBUILDCHECKBUILD BIN
malbec1Linux (Ubuntu 18.04.5 LTS) / x86_64
0099
0594
021577
tokay1Windows Server 2012 R2 Standard / x64
0096
0492
132563
0092
merida1macOS 10.14.6 Mojave / x86_64
0198
0594
011479
0094
Package 1/99HostnameOS / ArchINSTALLBUILDCHECKBUILD BIN
affycoretools 1.62.0  (landing page)
James W. MacDonald
Last Commit: c9779e4
Last Changed Date: 2020-10-27 10:27:23 -0400
malbec1Linux (Ubuntu 18.04.5 LTS) / x86_64  OK    OK    OK  UNNEEDED, same version exists in internal repository
tokay1Windows Server 2012 R2 Standard / x64  OK    OK    WARNINGS    OK  UNNEEDED, same version exists in internal repository
merida1macOS 10.14.6 Mojave / x86_64  OK    OK    OK    OK  UNNEEDED, same version exists in internal repository
Package 2/99HostnameOS / ArchINSTALLBUILDCHECKBUILD BIN
anota2seq 1.12.0  (landing page)
Christian Oertlin , Julie Lorent
Last Commit: 4435c78
Last Changed Date: 2020-10-27 11:28:38 -0400
malbec1Linux (Ubuntu 18.04.5 LTS) / x86_64  OK    OK    OK  UNNEEDED, same version exists in internal repository
tokay1Windows Server 2012 R2 Standard / x64  OK    OK    OK    OK  UNNEEDED, same version exists in internal repository
merida1macOS 10.14.6 Mojave / x86_64  OK    OK    OK    OK  UNNEEDED, same version exists in internal repository
Package 3/99HostnameOS / ArchINSTALLBUILDCHECKBUILD BIN
ArrayExpressHTS 1.40.0  (landing page)
Angela Goncalves , Andrew Tikhonov
Last Commit: 8e951b9
Last Changed Date: 2020-10-27 10:41:33 -0400
malbec1Linux (Ubuntu 18.04.5 LTS) / x86_64  OK    OK    WARNINGS  UNNEEDED, same version exists in internal repository
tokay1Windows Server 2012 R2 Standard / x64... NOT SUPPORTED ...
merida1macOS 10.14.6 Mojave / x86_64  OK    OK    OK    OK  UNNEEDED, same version exists in internal repository
Package 4/99HostnameOS / ArchINSTALLBUILDCHECKBUILD BIN
ASpli 2.0.0  (landing page)
Estefania Mancini
Last Commit: 641dc04
Last Changed Date: 2020-10-27 11:16:38 -0400
malbec1Linux (Ubuntu 18.04.5 LTS) / x86_64  OK    OK    OK  UNNEEDED, same version exists in internal repository
tokay1Windows Server 2012 R2 Standard / x64  OK    OK    OK    OK  UNNEEDED, same version exists in internal repository
merida1macOS 10.14.6 Mojave / x86_64  OK    OK    OK    OK  UNNEEDED, same version exists in internal repository
Package 5/99HostnameOS / ArchINSTALLBUILDCHECKBUILD BIN
ATACseqQC 1.14.4  (landing page)
Jianhong Ou
Last Commit: 0728a45
Last Changed Date: 2020-11-05 09:56:56 -0400
malbec1Linux (Ubuntu 18.04.5 LTS) / x86_64  OK    OK    OK  UNNEEDED, same version exists in internal repository
tokay1Windows Server 2012 R2 Standard / x64  OK    OK    OK    OK  UNNEEDED, same version exists in internal repository
merida1macOS 10.14.6 Mojave / x86_64  OK    OK    OK    OK  UNNEEDED, same version exists in internal repository
Package 6/99HostnameOS / ArchINSTALLBUILDCHECKBUILD BIN
AWFisher 1.4.0  (landing page)
Zhiguang Huo
Last Commit: f83e5c2
Last Changed Date: 2020-10-27 11:47:23 -0400
malbec1Linux (Ubuntu 18.04.5 LTS) / x86_64  OK    OK    OK  UNNEEDED, same version exists in internal repository
tokay1Windows Server 2012 R2 Standard / x64  OK    OK    OK    OK  UNNEEDED, same version exists in internal repository
merida1macOS 10.14.6 Mojave / x86_64  OK    OK    OK    OK  UNNEEDED, same version exists in internal repository
Package 7/99HostnameOS / ArchINSTALLBUILDCHECKBUILD BIN
baySeq 2.24.0  (landing page)
Thomas J. Hardcastle
Last Commit: 4221784
Last Changed Date: 2020-10-27 10:36:38 -0400
malbec1Linux (Ubuntu 18.04.5 LTS) / x86_64  OK    OK    OK  UNNEEDED, same version exists in internal repository
tokay1Windows Server 2012 R2 Standard / x64  OK    OK    OK    OK  UNNEEDED, same version exists in internal repository
merida1macOS 10.14.6 Mojave / x86_64  OK    OK    OK    OK  UNNEEDED, same version exists in internal repository
Package 8/99HostnameOS / ArchINSTALLBUILDCHECKBUILD BIN
BioQC 1.18.0  (landing page)
Jitao David Zhang
Last Commit: 93ea3cd
Last Changed Date: 2020-10-27 11:09:46 -0400
malbec1Linux (Ubuntu 18.04.5 LTS) / x86_64  OK    OK    OK  UNNEEDED, same version exists in internal repository
tokay1Windows Server 2012 R2 Standard / x64  OK    OK    OK    OK  UNNEEDED, same version exists in internal repository
merida1macOS 10.14.6 Mojave / x86_64  OK    OK    OK    OK  UNNEEDED, same version exists in internal repository
Package 9/99HostnameOS / ArchINSTALLBUILDCHECKBUILD BIN
ChromSCape 1.0.0  (landing page)
Pacome Prompsy
Last Commit: c84df0d
Last Changed Date: 2020-10-27 12:02:02 -0400
malbec1Linux (Ubuntu 18.04.5 LTS) / x86_64  OK    OK    OK  UNNEEDED, same version exists in internal repository
tokay1Windows Server 2012 R2 Standard / x64  OK    OK    OK    OK  UNNEEDED, same version exists in internal repository
merida1macOS 10.14.6 Mojave / x86_64  OK    OK    OK    OK  UNNEEDED, same version exists in internal repository
Package 10/99HostnameOS / ArchINSTALLBUILDCHECKBUILD BIN
circRNAprofiler 1.4.2  (landing page)
Simona Aufiero
Last Commit: d699b41
Last Changed Date: 2021-03-04 02:48:10 -0400
malbec1Linux (Ubuntu 18.04.5 LTS) / x86_64  OK    OK    OK  UNNEEDED, same version exists in internal repository
tokay1Windows Server 2012 R2 Standard / x64  OK    OK    OK    OK  UNNEEDED, same version exists in internal repository
merida1macOS 10.14.6 Mojave / x86_64  OK    OK    OK    OK  UNNEEDED, same version exists in internal repository
Package 11/99HostnameOS / ArchINSTALLBUILDCHECKBUILD BIN
clusterExperiment 2.10.1  (landing page)
Elizabeth Purdom
Last Commit: 499be02
Last Changed Date: 2021-02-05 16:08:37 -0400
malbec1Linux (Ubuntu 18.04.5 LTS) / x86_64  OK    OK    WARNINGS  UNNEEDED, same version exists in internal repository
tokay1Windows Server 2012 R2 Standard / x64  OK    OK    WARNINGS    OK  UNNEEDED, same version exists in internal repository
merida1macOS 10.14.6 Mojave / x86_64  OK    OK    WARNINGS    OK  UNNEEDED, same version exists in internal repository
Package 12/99HostnameOS / ArchINSTALLBUILDCHECKBUILD BIN
CNVRanger 1.6.1  (landing page)
Ludwig Geistlinger
Last Commit: a995fa8
Last Changed Date: 2020-12-09 15:36:10 -0400
malbec1Linux (Ubuntu 18.04.5 LTS) / x86_64  OK    OK    OK  UNNEEDED, same version exists in internal repository
tokay1Windows Server 2012 R2 Standard / x64  OK    OK    OK    OK  UNNEEDED, same version exists in internal repository
merida1macOS 10.14.6 Mojave / x86_64  OK    OK    OK    OK  UNNEEDED, same version exists in internal repository
Package 13/99HostnameOS / ArchINSTALLBUILDCHECKBUILD BIN
compcodeR 1.26.1  (landing page)
Charlotte Soneson
Last Commit: b692f6a
Last Changed Date: 2020-11-08 11:24:58 -0400
malbec1Linux (Ubuntu 18.04.5 LTS) / x86_64  OK    OK    WARNINGS  UNNEEDED, same version exists in internal repository
tokay1Windows Server 2012 R2 Standard / x64  OK    OK    WARNINGS    OK  UNNEEDED, same version exists in internal repository
merida1macOS 10.14.6 Mojave / x86_64  OK    OK    WARNINGS    OK  UNNEEDED, same version exists in internal repository
Package 14/99HostnameOS / ArchINSTALLBUILDCHECKBUILD BIN
consensusDE 1.8.0  (landing page)
Ashley J. Waardenberg
Last Commit: 0ade359
Last Changed Date: 2020-10-27 11:40:12 -0400
malbec1Linux (Ubuntu 18.04.5 LTS) / x86_64  OK    OK    OK  UNNEEDED, same version exists in internal repository
tokay1Windows Server 2012 R2 Standard / x64  OK    OK    OK    OK  UNNEEDED, same version exists in internal repository
merida1macOS 10.14.6 Mojave / x86_64  OK    OK    OK    OK  UNNEEDED, same version exists in internal repository
Package 15/99HostnameOS / ArchINSTALLBUILDCHECKBUILD BIN
coseq 1.14.0  (landing page)
Andrea Rau
Last Commit: 25e5aa6
Last Changed Date: 2020-10-27 11:20:42 -0400
malbec1Linux (Ubuntu 18.04.5 LTS) / x86_64  OK    OK    OK  UNNEEDED, same version exists in internal repository
tokay1Windows Server 2012 R2 Standard / x64  OK    OK    OK    OK  UNNEEDED, same version exists in internal repository
merida1macOS 10.14.6 Mojave / x86_64  OK    OK    OK    OK  UNNEEDED, same version exists in internal repository
Package 16/99HostnameOS / ArchINSTALLBUILDCHECKBUILD BIN
countsimQC 1.8.1  (landing page)
Charlotte Soneson
Last Commit: 9ad1241
Last Changed Date: 2021-02-02 16:20:16 -0400
malbec1Linux (Ubuntu 18.04.5 LTS) / x86_64  OK    OK    OK  UNNEEDED, same version exists in internal repository
tokay1Windows Server 2012 R2 Standard / x64  OK    OK    OK    OK  UNNEEDED, same version exists in internal repository
merida1macOS 10.14.6 Mojave / x86_64  OK    OK    OK    OK  UNNEEDED, same version exists in internal repository
Package 17/99HostnameOS / ArchINSTALLBUILDCHECKBUILD BIN
csaw 1.24.3  (landing page)
Aaron Lun
Last Commit: 9bad47b
Last Changed Date: 2020-11-09 23:33:24 -0400
malbec1Linux (Ubuntu 18.04.5 LTS) / x86_64  OK    OK    OK  UNNEEDED, same version exists in internal repository
tokay1Windows Server 2012 R2 Standard / x64  OK    OK    OK    OK  UNNEEDED, same version exists in internal repository
merida1macOS 10.14.6 Mojave / x86_64  OK    OK    OK    OK  UNNEEDED, same version exists in internal repository
Package 18/99HostnameOS / ArchINSTALLBUILDCHECKBUILD BIN
DaMiRseq 2.2.0  (landing page)
Mattia Chiesa
Last Commit: 2d32a85
Last Changed Date: 2020-10-27 11:22:28 -0400
malbec1Linux (Ubuntu 18.04.5 LTS) / x86_64  OK    OK    OK  UNNEEDED, same version exists in internal repository
tokay1Windows Server 2012 R2 Standard / x64  OK    OK    OK    OK  UNNEEDED, same version exists in internal repository
merida1macOS 10.14.6 Mojave / x86_64  ERROR    ERROR  skippedskipped
Package 19/99HostnameOS / ArchINSTALLBUILDCHECKBUILD BIN
DBChIP 1.34.0  (landing page)
Kun Liang
Last Commit: a165505
Last Changed Date: 2020-10-27 10:46:27 -0400
malbec1Linux (Ubuntu 18.04.5 LTS) / x86_64  OK    OK    WARNINGS  UNNEEDED, same version exists in internal repository
tokay1Windows Server 2012 R2 Standard / x64  OK    OK    WARNINGS    OK  UNNEEDED, same version exists in internal repository
merida1macOS 10.14.6 Mojave / x86_64  OK    OK    WARNINGS    OK  UNNEEDED, same version exists in internal repository
Package 20/99HostnameOS / ArchINSTALLBUILDCHECKBUILD BIN
debrowser 1.18.3  (landing page)
Alper Kucukural
Last Commit: 8dbbe8b
Last Changed Date: 2021-04-23 12:57:32 -0400
malbec1Linux (Ubuntu 18.04.5 LTS) / x86_64  OK    OK    OK  UNNEEDED, same version exists in internal repository
tokay1Windows Server 2012 R2 Standard / x64  OK    OK    OK    OK  UNNEEDED, same version exists in internal repository
merida1macOS 10.14.6 Mojave / x86_64  OK    OK    OK    OK  UNNEEDED, same version exists in internal repository
Package 21/99HostnameOS / ArchINSTALLBUILDCHECKBUILD BIN
DEComplexDisease 1.10.0  (landing page)
Guofeng Meng
Last Commit: 0ebebc3
Last Changed Date: 2020-10-27 11:31:59 -0400
malbec1Linux (Ubuntu 18.04.5 LTS) / x86_64  OK    OK    OK  UNNEEDED, same version exists in internal repository
tokay1Windows Server 2012 R2 Standard / x64  OK    OK    OK    OK  UNNEEDED, same version exists in internal repository
merida1macOS 10.14.6 Mojave / x86_64  OK    OK    OK    OK  UNNEEDED, same version exists in internal repository
Package 22/99HostnameOS / ArchINSTALLBUILDCHECKBUILD BIN
DEFormats 1.18.0  (landing page)
Andrzej Oleś
Last Commit: 5297c56
Last Changed Date: 2020-10-27 11:13:03 -0400
malbec1Linux (Ubuntu 18.04.5 LTS) / x86_64  OK    OK    OK  UNNEEDED, same version exists in internal repository
tokay1Windows Server 2012 R2 Standard / x64  OK    OK    OK    OK  UNNEEDED, same version exists in internal repository
merida1macOS 10.14.6 Mojave / x86_64  OK    OK    OK    OK  UNNEEDED, same version exists in internal repository
Package 23/99HostnameOS / ArchINSTALLBUILDCHECKBUILD BIN
DEGreport 1.26.0  (landing page)
Lorena Pantano
Last Commit: 18aeb4f
Last Changed Date: 2020-10-27 10:57:10 -0400
malbec1Linux (Ubuntu 18.04.5 LTS) / x86_64  OK    OK    OK  UNNEEDED, same version exists in internal repository
tokay1Windows Server 2012 R2 Standard / x64  OK    OK    OK    OK  UNNEEDED, same version exists in internal repository
merida1macOS 10.14.6 Mojave / x86_64  OK    OK    OK    OK  UNNEEDED, same version exists in internal repository
Package 24/99HostnameOS / ArchINSTALLBUILDCHECKBUILD BIN
DEsubs 1.16.0  (landing page)
Aristidis G. Vrahatis , Panos Balomenos
Last Commit: f47d89e
Last Changed Date: 2020-10-27 11:18:09 -0400
malbec1Linux (Ubuntu 18.04.5 LTS) / x86_64  OK    OK    OK  UNNEEDED, same version exists in internal repository
tokay1Windows Server 2012 R2 Standard / x64  OK    OK    OK    OK  UNNEEDED, same version exists in internal repository
merida1macOS 10.14.6 Mojave / x86_64  OK    OK    OK    OK  UNNEEDED, same version exists in internal repository
Package 25/99HostnameOS / ArchINSTALLBUILDCHECKBUILD BIN
diffcyt 1.10.0  (landing page)
Lukas M. Weber
Last Commit: d186f82
Last Changed Date: 2020-10-27 11:34:10 -0400
malbec1Linux (Ubuntu 18.04.5 LTS) / x86_64  OK    OK    OK  UNNEEDED, same version exists in internal repository
tokay1Windows Server 2012 R2 Standard / x64  OK    OK    OK    OK  UNNEEDED, same version exists in internal repository
merida1macOS 10.14.6 Mojave / x86_64  OK    OK    OK    OK  UNNEEDED, same version exists in internal repository
Package 26/99HostnameOS / ArchINSTALLBUILDCHECKBUILD BIN
diffHic 1.22.0  (landing page)
Aaron Lun
Last Commit: db4e4f8
Last Changed Date: 2020-10-27 11:05:00 -0400
malbec1Linux (Ubuntu 18.04.5 LTS) / x86_64  OK    OK    OK  UNNEEDED, same version exists in internal repository
tokay1Windows Server 2012 R2 Standard / x64  OK    OK    WARNINGS    OK  UNNEEDED, same version exists in internal repository
merida1macOS 10.14.6 Mojave / x86_64  OK    OK    OK    OK  UNNEEDED, same version exists in internal repository
Package 27/99HostnameOS / ArchINSTALLBUILDCHECKBUILD BIN
diffloop 1.18.0  (landing page)
Caleb Lareau
Last Commit: df423a8
Last Changed Date: 2020-10-27 11:14:27 -0400
malbec1Linux (Ubuntu 18.04.5 LTS) / x86_64  OK    OK    OK  UNNEEDED, same version exists in internal repository
tokay1Windows Server 2012 R2 Standard / x64  OK    OK    WARNINGS    OK  UNNEEDED, same version exists in internal repository
merida1macOS 10.14.6 Mojave / x86_64  OK    OK    OK    OK  UNNEEDED, same version exists in internal repository
Package 28/99HostnameOS / ArchINSTALLBUILDCHECKBUILD BIN
dittoSeq 1.2.6  (landing page)
Daniel Bunis
Last Commit: cbf2618
Last Changed Date: 2021-04-15 16:12:07 -0400
malbec1Linux (Ubuntu 18.04.5 LTS) / x86_64  OK    ERROR  skipped
tokay1Windows Server 2012 R2 Standard / x64  OK    ERROR  skippedskipped
merida1macOS 10.14.6 Mojave / x86_64  OK    ERROR  skippedskipped
Package 29/99HostnameOS / ArchINSTALLBUILDCHECKBUILD BIN
DMRcate 2.4.1  (landing page)
Tim Peters
Last Commit: bc6242a
Last Changed Date: 2021-01-13 23:09:44 -0400
malbec1Linux (Ubuntu 18.04.5 LTS) / x86_64  OK    OK    OK  UNNEEDED, same version exists in internal repository
tokay1Windows Server 2012 R2 Standard / x64  OK    OK    ERROR    OK  
merida1macOS 10.14.6 Mojave / x86_64  OK    OK    OK    OK  UNNEEDED, same version exists in internal repository
Package 30/99HostnameOS / ArchINSTALLBUILDCHECKBUILD BIN
doseR 1.6.0  (landing page)
ake.vastermark
Last Commit: 9c21c34
Last Changed Date: 2020-10-27 11:43:13 -0400
malbec1Linux (Ubuntu 18.04.5 LTS) / x86_64  OK    OK    OK  UNNEEDED, same version exists in internal repository
tokay1Windows Server 2012 R2 Standard / x64  OK    OK    OK    OK  UNNEEDED, same version exists in internal repository
merida1macOS 10.14.6 Mojave / x86_64  OK    OK    OK    OK  UNNEEDED, same version exists in internal repository
Package 31/99HostnameOS / ArchINSTALLBUILDCHECKBUILD BIN
DRIMSeq 1.18.0  (landing page)
Malgorzata Nowicka
Last Commit: 3b9c0e8
Last Changed Date: 2020-10-27 11:12:40 -0400
malbec1Linux (Ubuntu 18.04.5 LTS) / x86_64  OK    OK    WARNINGS  UNNEEDED, same version exists in internal repository
tokay1Windows Server 2012 R2 Standard / x64  OK    OK    WARNINGS    OK  UNNEEDED, same version exists in internal repository
merida1macOS 10.14.6 Mojave / x86_64  OK    OK    WARNINGS    OK  UNNEEDED, same version exists in internal repository
Package 32/99HostnameOS / ArchINSTALLBUILDCHECKBUILD BIN
DropletUtils 1.10.3  (landing page)
Aaron Lun
Last Commit: 4bdf932
Last Changed Date: 2021-02-01 11:41:53 -0400
malbec1Linux (Ubuntu 18.04.5 LTS) / x86_64  OK    OK    OK  UNNEEDED, same version exists in internal repository
tokay1Windows Server 2012 R2 Standard / x64  OK    OK    OK    OK  UNNEEDED, same version exists in internal repository
merida1macOS 10.14.6 Mojave / x86_64  OK    OK    OK    OK  UNNEEDED, same version exists in internal repository
Package 33/99HostnameOS / ArchINSTALLBUILDCHECKBUILD BIN
easyRNASeq 2.26.0  (landing page)
Nicolas Delhomme
Last Commit: e3ce60a
Last Changed Date: 2020-10-27 10:44:21 -0400
malbec1Linux (Ubuntu 18.04.5 LTS) / x86_64  OK    ERROR  skipped
tokay1Windows Server 2012 R2 Standard / x64  OK    ERROR  skippedskipped
merida1macOS 10.14.6 Mojave / x86_64  OK    OK    OK    OK  UNNEEDED, same version exists in internal repository
Package 34/99HostnameOS / ArchINSTALLBUILDCHECKBUILD BIN
EDDA 1.28.0  (landing page)
Chia Kuan Hui Burton , Niranjan Nagarajan
Last Commit: 8f36bfe
Last Changed Date: 2020-10-27 10:54:58 -0400
malbec1Linux (Ubuntu 18.04.5 LTS) / x86_64  OK    OK    WARNINGS  UNNEEDED, same version exists in internal repository
tokay1Windows Server 2012 R2 Standard / x64  OK    OK    WARNINGS    OK  UNNEEDED, same version exists in internal repository
merida1macOS 10.14.6 Mojave / x86_64  OK    OK    WARNINGS    OK  UNNEEDED, same version exists in internal repository
Package 35/99HostnameOS / ArchINSTALLBUILDCHECKBUILD BIN
eegc 1.16.0  (landing page)
Xiaoyuan Zhou
Last Commit: 8e13c5e
Last Changed Date: 2020-10-27 11:17:14 -0400
malbec1Linux (Ubuntu 18.04.5 LTS) / x86_64  OK    OK    WARNINGS  UNNEEDED, same version exists in internal repository
tokay1Windows Server 2012 R2 Standard / x64  OK    OK    WARNINGS    OK  UNNEEDED, same version exists in internal repository
merida1macOS 10.14.6 Mojave / x86_64  OK    OK    WARNINGS    OK  UNNEEDED, same version exists in internal repository
Package 36/99HostnameOS / ArchINSTALLBUILDCHECKBUILD BIN
EGSEA 1.18.1  (landing page)
Monther Alhamdoosh
Last Commit: f1be510
Last Changed Date: 2021-01-27 17:53:54 -0400
malbec1Linux (Ubuntu 18.04.5 LTS) / x86_64  OK    OK    OK  UNNEEDED, same version exists in internal repository
tokay1Windows Server 2012 R2 Standard / x64  OK    OK    OK    OK  UNNEEDED, same version exists in internal repository
merida1macOS 10.14.6 Mojave / x86_64  OK    OK    OK    OK  UNNEEDED, same version exists in internal repository
Package 37/99HostnameOS / ArchINSTALLBUILDCHECKBUILD BIN
eisaR 1.2.0  (landing page)
Michael Stadler
Last Commit: e93caba
Last Changed Date: 2020-10-27 11:54:24 -0400
malbec1Linux (Ubuntu 18.04.5 LTS) / x86_64  OK    OK    OK  UNNEEDED, same version exists in internal repository
tokay1Windows Server 2012 R2 Standard / x64  OK    OK    OK    OK  UNNEEDED, same version exists in internal repository
merida1macOS 10.14.6 Mojave / x86_64  OK    OK    OK    OK  UNNEEDED, same version exists in internal repository
Package 38/99HostnameOS / ArchINSTALLBUILDCHECKBUILD BIN
EnrichmentBrowser 2.20.7  (landing page)
Ludwig Geistlinger
Last Commit: 4e4444e
Last Changed Date: 2020-12-09 17:07:17 -0400
malbec1Linux (Ubuntu 18.04.5 LTS) / x86_64  OK    OK    OK  UNNEEDED, same version exists in internal repository
tokay1Windows Server 2012 R2 Standard / x64  OK    OK    OK    OK  UNNEEDED, same version exists in internal repository
merida1macOS 10.14.6 Mojave / x86_64  OK    OK    OK    OK  UNNEEDED, same version exists in internal repository
Package 39/99HostnameOS / ArchINSTALLBUILDCHECKBUILD BIN
erccdashboard 1.24.0  (landing page)
Sarah Munro
Last Commit: b13c8b8
Last Changed Date: 2020-10-27 10:58:20 -0400
malbec1Linux (Ubuntu 18.04.5 LTS) / x86_64  OK    OK    OK  UNNEEDED, same version exists in internal repository
tokay1Windows Server 2012 R2 Standard / x64  OK    OK    OK    OK  UNNEEDED, same version exists in internal repository
merida1macOS 10.14.6 Mojave / x86_64  OK    OK    OK    OK  UNNEEDED, same version exists in internal repository
Package 40/99HostnameOS / ArchINSTALLBUILDCHECKBUILD BIN
ERSSA 1.8.0  (landing page)
Zixuan Shao
Last Commit: 88db202
Last Changed Date: 2020-10-27 11:38:46 -0400
malbec1Linux (Ubuntu 18.04.5 LTS) / x86_64  OK    OK    OK  UNNEEDED, same version exists in internal repository
tokay1Windows Server 2012 R2 Standard / x64  OK    OK    OK    OK  UNNEEDED, same version exists in internal repository
merida1macOS 10.14.6 Mojave / x86_64  OK    OK    OK    OK  UNNEEDED, same version exists in internal repository
Package 41/99HostnameOS / ArchINSTALLBUILDCHECKBUILD BIN
GDCRNATools 1.10.1  (landing page)
Ruidong Li
Last Commit: 0827796
Last Changed Date: 2020-11-25 02:46:19 -0400
malbec1Linux (Ubuntu 18.04.5 LTS) / x86_64  OK    OK    OK  UNNEEDED, same version exists in internal repository
tokay1Windows Server 2012 R2 Standard / x64  OK    OK    OK    OK  UNNEEDED, same version exists in internal repository
merida1macOS 10.14.6 Mojave / x86_64  OK    OK    OK    OK  UNNEEDED, same version exists in internal repository
Package 42/99HostnameOS / ArchINSTALLBUILDCHECKBUILD BIN
Glimma 2.0.0  (landing page)
Shian Su
Last Commit: 40bebaa
Last Changed Date: 2020-10-27 11:13:43 -0400
malbec1Linux (Ubuntu 18.04.5 LTS) / x86_64  OK    OK    OK  UNNEEDED, same version exists in internal repository
tokay1Windows Server 2012 R2 Standard / x64  OK    OK    OK    OK  UNNEEDED, same version exists in internal repository
merida1macOS 10.14.6 Mojave / x86_64  OK    OK    OK    OK  UNNEEDED, same version exists in internal repository
Package 43/99HostnameOS / ArchINSTALLBUILDCHECKBUILD BIN
GSEABenchmarkeR 1.10.1  (landing page)
Ludwig Geistlinger
Last Commit: 4980161
Last Changed Date: 2020-12-09 16:49:51 -0400
malbec1Linux (Ubuntu 18.04.5 LTS) / x86_64  OK    OK    OK  UNNEEDED, same version exists in internal repository
tokay1Windows Server 2012 R2 Standard / x64  OK    OK    OK    OK  UNNEEDED, same version exists in internal repository
merida1macOS 10.14.6 Mojave / x86_64  OK    OK    OK    OK  UNNEEDED, same version exists in internal repository
Package 44/99HostnameOS / ArchINSTALLBUILDCHECKBUILD BIN
HTSFilter 1.30.1  (landing page)
Andrea Rau
Last Commit: e4979de
Last Changed Date: 2020-12-16 05:55:34 -0400
malbec1Linux (Ubuntu 18.04.5 LTS) / x86_64  OK    OK    OK  UNNEEDED, same version exists in internal repository
tokay1Windows Server 2012 R2 Standard / x64  OK    OK    OK    OK  UNNEEDED, same version exists in internal repository
merida1macOS 10.14.6 Mojave / x86_64  OK    OK    OK    OK  UNNEEDED, same version exists in internal repository
Package 45/99HostnameOS / ArchINSTALLBUILDCHECKBUILD BIN
icetea 1.8.0  (landing page)
Vivek Bhardwaj
Last Commit: 72b27ba
Last Changed Date: 2020-10-27 11:36:17 -0400
malbec1Linux (Ubuntu 18.04.5 LTS) / x86_64  OK    OK    OK  UNNEEDED, same version exists in internal repository
tokay1Windows Server 2012 R2 Standard / x64  OK    OK    OK    OK  UNNEEDED, same version exists in internal repository
merida1macOS 10.14.6 Mojave / x86_64  OK    OK    OK    OK  UNNEEDED, same version exists in internal repository
Package 46/99HostnameOS / ArchINSTALLBUILDCHECKBUILD BIN
infercnv 1.6.0  (landing page)
Christophe Georgescu
Last Commit: eb60cdc
Last Changed Date: 2020-10-27 11:46:01 -0400
malbec1Linux (Ubuntu 18.04.5 LTS) / x86_64  OK    OK    OK  UNNEEDED, same version exists in internal repository
tokay1Windows Server 2012 R2 Standard / x64  OK    OK    OK    OK  UNNEEDED, same version exists in internal repository
merida1macOS 10.14.6 Mojave / x86_64  OK    OK    OK    OK  UNNEEDED, same version exists in internal repository
Package 47/99HostnameOS / ArchINSTALLBUILDCHECKBUILD BIN
IntEREst 1.14.0  (landing page)
Ali Oghabian , Mikko Frilander
Last Commit: 514e896
Last Changed Date: 2020-10-27 11:22:16 -0400
malbec1Linux (Ubuntu 18.04.5 LTS) / x86_64  OK    OK    OK  UNNEEDED, same version exists in internal repository
tokay1Windows Server 2012 R2 Standard / x64  OK    OK    WARNINGS    OK  UNNEEDED, same version exists in internal repository
merida1macOS 10.14.6 Mojave / x86_64  OK    OK    OK    OK  UNNEEDED, same version exists in internal repository
Package 48/99HostnameOS / ArchINSTALLBUILDCHECKBUILD BIN
IsoformSwitchAnalyzeR 1.12.0  (landing page)
Kristoffer Vitting-Seerup
Last Commit: c799e51
Last Changed Date: 2020-10-27 11:24:48 -0400
malbec1Linux (Ubuntu 18.04.5 LTS) / x86_64  OK    OK    OK  UNNEEDED, same version exists in internal repository
tokay1Windows Server 2012 R2 Standard / x64  OK    OK    OK    OK  UNNEEDED, same version exists in internal repository
merida1macOS 10.14.6 Mojave / x86_64  OK    OK    OK    OK  UNNEEDED, same version exists in internal repository
Package 49/99HostnameOS / ArchINSTALLBUILDCHECKBUILD BIN
KnowSeq 1.4.5  (landing page)
Daniel Castillo-Secilla
Last Commit: c76e9c0
Last Changed Date: 2021-05-02 18:24:59 -0400
malbec1Linux (Ubuntu 18.04.5 LTS) / x86_64  OK    OK    OK  UNNEEDED, same version exists in internal repository
tokay1Windows Server 2012 R2 Standard / x64  OK    OK    OK    OK  UNNEEDED, same version exists in internal repository
merida1macOS 10.14.6 Mojave / x86_64  OK    OK    OK    OK  UNNEEDED, same version exists in internal repository
Package 50/99HostnameOS / ArchINSTALLBUILDCHECKBUILD BIN
Maaslin2 1.4.0  (landing page)
Lauren McIver
Last Commit: a352d2d
Last Changed Date: 2020-10-27 11:47:47 -0400
malbec1Linux (Ubuntu 18.04.5 LTS) / x86_64  OK    OK    OK  UNNEEDED, same version exists in internal repository
tokay1Windows Server 2012 R2 Standard / x64  OK    OK    OK    OK  UNNEEDED, same version exists in internal repository
merida1macOS 10.14.6 Mojave / x86_64  OK    OK    OK    OK  UNNEEDED, same version exists in internal repository
Package 51/99HostnameOS / ArchINSTALLBUILDCHECKBUILD BIN
MEDIPS 1.42.0  (landing page)
Lukas Chavez
Last Commit: 661e51c
Last Changed Date: 2020-10-27 10:39:33 -0400
malbec1Linux (Ubuntu 18.04.5 LTS) / x86_64  OK    OK    OK  UNNEEDED, same version exists in internal repository
tokay1Windows Server 2012 R2 Standard / x64  OK    OK    OK    OK  UNNEEDED, same version exists in internal repository
merida1macOS 10.14.6 Mojave / x86_64  OK    OK    OK    OK  UNNEEDED, same version exists in internal repository
Package 52/99HostnameOS / ArchINSTALLBUILDCHECKBUILD BIN
metaseqR 1.30.0  (landing page)
Panagiotis Moulos
Last Commit: 42215cd
Last Changed Date: 2020-10-27 10:55:21 -0400
malbec1Linux (Ubuntu 18.04.5 LTS) / x86_64  OK    OK    WARNINGS  UNNEEDED, same version exists in internal repository
tokay1Windows Server 2012 R2 Standard / x64  OK    OK    WARNINGS    OK  UNNEEDED, same version exists in internal repository
merida1macOS 10.14.6 Mojave / x86_64  OK    OK    WARNINGS    OK  UNNEEDED, same version exists in internal repository
Package 53/99HostnameOS / ArchINSTALLBUILDCHECKBUILD BIN
metaseqR2 1.2.0  (landing page)
Panagiotis Moulos
Last Commit: 2bcc067
Last Changed Date: 2020-10-27 11:57:00 -0400
malbec1Linux (Ubuntu 18.04.5 LTS) / x86_64  OK    OK    OK  UNNEEDED, same version exists in internal repository
tokay1Windows Server 2012 R2 Standard / x64  OK    OK    OK    OK  UNNEEDED, same version exists in internal repository
merida1macOS 10.14.6 Mojave / x86_64  OK    OK    OK    OK  UNNEEDED, same version exists in internal repository
Package 54/99HostnameOS / ArchINSTALLBUILDCHECKBUILD BIN
methylMnM 1.28.0  (landing page)
Yan Zhou
Last Commit: 64fb516
Last Changed Date: 2020-10-27 10:53:22 -0400
malbec1Linux (Ubuntu 18.04.5 LTS) / x86_64  OK    OK    OK  UNNEEDED, same version exists in internal repository
tokay1Windows Server 2012 R2 Standard / x64  OK    OK    OK    OK  UNNEEDED, same version exists in internal repository
merida1macOS 10.14.6 Mojave / x86_64  OK    OK    OK    OK  UNNEEDED, same version exists in internal repository
Package 55/99HostnameOS / ArchINSTALLBUILDCHECKBUILD BIN
MIGSA 1.14.1  (landing page)
Juan C. Rodriguez
Last Commit: 270bd75
Last Changed Date: 2020-10-28 17:27:49 -0400
malbec1Linux (Ubuntu 18.04.5 LTS) / x86_64  OK    OK    OK  UNNEEDED, same version exists in internal repository
tokay1Windows Server 2012 R2 Standard / x64  OK    OK    OK    OK  UNNEEDED, same version exists in internal repository
merida1macOS 10.14.6 Mojave / x86_64  OK    OK    OK    OK  UNNEEDED, same version exists in internal repository
Package 56/99HostnameOS / ArchINSTALLBUILDCHECKBUILD BIN
MLSeq 2.8.0  (landing page)
Gokmen Zararsiz
Last Commit: 1b39bbe
Last Changed Date: 2020-10-27 10:55:23 -0400
malbec1Linux (Ubuntu 18.04.5 LTS) / x86_64  OK    OK    OK  UNNEEDED, same version exists in internal repository
tokay1Windows Server 2012 R2 Standard / x64  OK    OK    OK    OK  UNNEEDED, same version exists in internal repository
merida1macOS 10.14.6 Mojave / x86_64  OK    OK    OK    OK  UNNEEDED, same version exists in internal repository
Package 57/99HostnameOS / ArchINSTALLBUILDCHECKBUILD BIN
msgbsR 1.14.0  (landing page)
Benjamin Mayne
Last Commit: 9b64d08
Last Changed Date: 2020-10-27 11:24:25 -0400
malbec1Linux (Ubuntu 18.04.5 LTS) / x86_64  OK    OK    WARNINGS  UNNEEDED, same version exists in internal repository
tokay1Windows Server 2012 R2 Standard / x64  OK    OK    WARNINGS    OK  UNNEEDED, same version exists in internal repository
merida1macOS 10.14.6 Mojave / x86_64  OK    OK    WARNINGS    OK  UNNEEDED, same version exists in internal repository
Package 58/99HostnameOS / ArchINSTALLBUILDCHECKBUILD BIN
msmsTests 1.28.0  (landing page)
Josep Gregori i Font
Last Commit: d21b2c9
Last Changed Date: 2020-10-27 10:51:53 -0400
malbec1Linux (Ubuntu 18.04.5 LTS) / x86_64  OK    OK    OK  UNNEEDED, same version exists in internal repository
tokay1Windows Server 2012 R2 Standard / x64  OK    OK    OK    OK  UNNEEDED, same version exists in internal repository
merida1macOS 10.14.6 Mojave / x86_64  OK    OK    OK    OK  UNNEEDED, same version exists in internal repository
Package 59/99HostnameOS / ArchINSTALLBUILDCHECKBUILD BIN
multiHiCcompare 1.8.0  (landing page)
John Stansfield , Mikhail Dozmorov
Last Commit: d2e0a2e
Last Changed Date: 2020-10-27 11:37:56 -0400
malbec1Linux (Ubuntu 18.04.5 LTS) / x86_64  OK    ERROR  skipped
tokay1Windows Server 2012 R2 Standard / x64  OK    ERROR  skippedskipped
merida1macOS 10.14.6 Mojave / x86_64  OK    ERROR  skippedskipped
Package 60/99HostnameOS / ArchINSTALLBUILDCHECKBUILD BIN
muscat 1.4.0  (landing page)
Helena L. Crowell
Last Commit: f9eef39
Last Changed Date: 2020-10-27 11:48:47 -0400
malbec1Linux (Ubuntu 18.04.5 LTS) / x86_64  OK    OK    OK  UNNEEDED, same version exists in internal repository
tokay1Windows Server 2012 R2 Standard / x64  OK    OK    WARNINGS    OK  UNNEEDED, same version exists in internal repository
merida1macOS 10.14.6 Mojave / x86_64  OK    OK    OK    OK  UNNEEDED, same version exists in internal repository
Package 61/99HostnameOS / ArchINSTALLBUILDCHECKBUILD BIN
NBSplice 1.8.0  (landing page)
Gabriela Merino
Last Commit: 870d8c4
Last Changed Date: 2020-10-27 11:37:10 -0400
malbec1Linux (Ubuntu 18.04.5 LTS) / x86_64  OK    OK    OK  UNNEEDED, same version exists in internal repository
tokay1Windows Server 2012 R2 Standard / x64  OK    OK    OK    OK  UNNEEDED, same version exists in internal repository
merida1macOS 10.14.6 Mojave / x86_64  OK    OK    OK    OK  UNNEEDED, same version exists in internal repository
Package 62/99HostnameOS / ArchINSTALLBUILDCHECKBUILD BIN
PathoStat 1.16.0  (landing page)
Solaiappan Manimaran
Last Commit: d3ef0ce
Last Changed Date: 2020-10-27 11:18:31 -0400
malbec1Linux (Ubuntu 18.04.5 LTS) / x86_64  OK    OK    OK  UNNEEDED, same version exists in internal repository
tokay1Windows Server 2012 R2 Standard / x64  OK    OK    OK    OK  UNNEEDED, same version exists in internal repository
merida1macOS 10.14.6 Mojave / x86_64  OK    OK    OK    OK  UNNEEDED, same version exists in internal repository
Package 63/99HostnameOS / ArchINSTALLBUILDCHECKBUILD BIN
PROPER 1.22.0  (landing page)
Hao Wu
Last Commit: 7986f27
Last Changed Date: 2020-10-27 11:01:26 -0400
malbec1Linux (Ubuntu 18.04.5 LTS) / x86_64  OK    OK    WARNINGS  UNNEEDED, same version exists in internal repository
tokay1Windows Server 2012 R2 Standard / x64  OK    OK    WARNINGS    OK  UNNEEDED, same version exists in internal repository
merida1macOS 10.14.6 Mojave / x86_64  OK    OK    WARNINGS    OK  UNNEEDED, same version exists in internal repository
Package 64/99HostnameOS / ArchINSTALLBUILDCHECKBUILD BIN
psichomics 1.16.0  (landing page)
Nuno Saraiva-Agostinho
Last Commit: 7b7d873
Last Changed Date: 2020-10-27 11:18:41 -0400
malbec1Linux (Ubuntu 18.04.5 LTS) / x86_64  OK    OK    ERROR  
tokay1Windows Server 2012 R2 Standard / x64  OK    OK    ERROR    OK  
merida1macOS 10.14.6 Mojave / x86_64  OK    OK    OK    OK  UNNEEDED, same version exists in internal repository
Package 65/99HostnameOS / ArchINSTALLBUILDCHECKBUILD BIN
RCM 1.6.0  (landing page)
Joris Meys
Last Commit: 14befb4
Last Changed Date: 2020-10-27 11:41:34 -0400
malbec1Linux (Ubuntu 18.04.5 LTS) / x86_64  OK    OK    OK  UNNEEDED, same version exists in internal repository
tokay1Windows Server 2012 R2 Standard / x64  OK    OK    OK    OK  UNNEEDED, same version exists in internal repository
merida1macOS 10.14.6 Mojave / x86_64  OK    OK    OK    OK  UNNEEDED, same version exists in internal repository
Package 66/99HostnameOS / ArchINSTALLBUILDCHECKBUILD BIN
regsplice 1.16.0  (landing page)
Lukas M. Weber
Last Commit: 110cc93
Last Changed Date: 2020-10-27 11:19:08 -0400
malbec1Linux (Ubuntu 18.04.5 LTS) / x86_64  OK    OK    OK  UNNEEDED, same version exists in internal repository
tokay1Windows Server 2012 R2 Standard / x64  OK    OK    WARNINGS    OK  UNNEEDED, same version exists in internal repository
merida1macOS 10.14.6 Mojave / x86_64  OK    OK    OK    OK  UNNEEDED, same version exists in internal repository
Package 67/99HostnameOS / ArchINSTALLBUILDCHECKBUILD BIN
Repitools 1.36.0  (landing page)
Mark Robinson
Last Commit: 60617aa
Last Changed Date: 2020-10-27 10:41:57 -0400
malbec1Linux (Ubuntu 18.04.5 LTS) / x86_64  OK    OK    OK  UNNEEDED, same version exists in internal repository
tokay1Windows Server 2012 R2 Standard / x64  OK    OK    WARNINGS    OK  UNNEEDED, same version exists in internal repository
merida1macOS 10.14.6 Mojave / x86_64  OK    OK    OK    OK  UNNEEDED, same version exists in internal repository
Package 68/99HostnameOS / ArchINSTALLBUILDCHECKBUILD BIN
ReportingTools 2.30.2  (landing page)
Jason A. Hackney , Gabriel Becker
Last Commit: d0b7f53
Last Changed Date: 2021-03-08 14:30:05 -0400
malbec1Linux (Ubuntu 18.04.5 LTS) / x86_64  OK    OK    OK  UNNEEDED, same version exists in internal repository
tokay1Windows Server 2012 R2 Standard / x64  OK    OK    OK    OK  UNNEEDED, same version exists in internal repository
merida1macOS 10.14.6 Mojave / x86_64  OK    OK    OK    OK  UNNEEDED, same version exists in internal repository
Package 69/99HostnameOS / ArchINSTALLBUILDCHECKBUILD BIN
rnaSeqMap 2.48.0  (landing page)
Michal Okoniewski
Last Commit: a8c515e
Last Changed Date: 2020-10-27 10:39:23 -0400
malbec1Linux (Ubuntu 18.04.5 LTS) / x86_64  OK    OK    OK  UNNEEDED, same version exists in internal repository
tokay1Windows Server 2012 R2 Standard / x64  OK    OK    OK    OK  UNNEEDED, same version exists in internal repository
merida1macOS 10.14.6 Mojave / x86_64  OK    OK    OK    OK  UNNEEDED, same version exists in internal repository
Package 70/99HostnameOS / ArchINSTALLBUILDCHECKBUILD BIN
RNASeqR 1.8.0  (landing page)
Kuan-Hao Chao
Last Commit: 07483cd
Last Changed Date: 2020-10-27 11:39:29 -0400
malbec1Linux (Ubuntu 18.04.5 LTS) / x86_64  OK    OK    OK  UNNEEDED, same version exists in internal repository
tokay1Windows Server 2012 R2 Standard / x64... NOT SUPPORTED ...
merida1macOS 10.14.6 Mojave / x86_64  OK    OK    OK    OK  UNNEEDED, same version exists in internal repository
Package 71/99HostnameOS / ArchINSTALLBUILDCHECKBUILD BIN
RnaSeqSampleSize 2.0.0  (landing page)
Shilin Zhao Developer
Last Commit: 8998a44
Last Changed Date: 2020-10-27 12:02:33 -0400
malbec1Linux (Ubuntu 18.04.5 LTS) / x86_64  OK    OK    OK  UNNEEDED, same version exists in internal repository
tokay1Windows Server 2012 R2 Standard / x64  OK    OK    OK    OK  UNNEEDED, same version exists in internal repository
merida1macOS 10.14.6 Mojave / x86_64  OK    OK    OK    OK  UNNEEDED, same version exists in internal repository
Package 72/99HostnameOS / ArchINSTALLBUILDCHECKBUILD BIN
ROSeq 1.2.10  (landing page)
Krishan Gupta
Last Commit: 9540c4e
Last Changed Date: 2021-02-16 13:09:09 -0400
malbec1Linux (Ubuntu 18.04.5 LTS) / x86_64  OK    OK    OK  UNNEEDED, same version exists in internal repository
tokay1Windows Server 2012 R2 Standard / x64  OK    OK    OK    OK  UNNEEDED, same version exists in internal repository
merida1macOS 10.14.6 Mojave / x86_64  OK    OK    OK    OK  UNNEEDED, same version exists in internal repository
Package 73/99HostnameOS / ArchINSTALLBUILDCHECKBUILD BIN
RUVSeq 1.24.0  (landing page)
Davide Risso
Last Commit: eab5505
Last Changed Date: 2020-10-27 10:57:05 -0400
malbec1Linux (Ubuntu 18.04.5 LTS) / x86_64  OK    OK    OK  UNNEEDED, same version exists in internal repository
tokay1Windows Server 2012 R2 Standard / x64  OK    OK    OK    OK  UNNEEDED, same version exists in internal repository
merida1macOS 10.14.6 Mojave / x86_64  OK    OK    OK    OK  UNNEEDED, same version exists in internal repository
Package 74/99HostnameOS / ArchINSTALLBUILDCHECKBUILD BIN
samExploreR 1.14.0  (landing page)
shailesh tripathi
Last Commit: 0f68474
Last Changed Date: 2020-10-27 11:20:27 -0400
malbec1Linux (Ubuntu 18.04.5 LTS) / x86_64  OK    ERROR  skipped
tokay1Windows Server 2012 R2 Standard / x64... NOT SUPPORTED ...
merida1macOS 10.14.6 Mojave / x86_64  OK    ERROR  skippedskipped
Package 75/99HostnameOS / ArchINSTALLBUILDCHECKBUILD BIN
scCB2 1.0.0  (landing page)
Zijian Ni
Last Commit: 8c6771d
Last Changed Date: 2020-10-27 11:58:43 -0400
malbec1Linux (Ubuntu 18.04.5 LTS) / x86_64  OK    OK    OK  UNNEEDED, same version exists in internal repository
tokay1Windows Server 2012 R2 Standard / x64  OK    OK    OK    OK  UNNEEDED, same version exists in internal repository
merida1macOS 10.14.6 Mojave / x86_64  OK    OK    OK    OK  UNNEEDED, same version exists in internal repository
Package 76/99HostnameOS / ArchINSTALLBUILDCHECKBUILD BIN
scde 2.18.0  (landing page)
Jean Fan
Last Commit: 34da197
Last Changed Date: 2020-10-27 11:09:27 -0400
malbec1Linux (Ubuntu 18.04.5 LTS) / x86_64  OK    OK    WARNINGS  UNNEEDED, same version exists in internal repository
tokay1Windows Server 2012 R2 Standard / x64  OK    OK    WARNINGS    OK  UNNEEDED, same version exists in internal repository
merida1macOS 10.14.6 Mojave / x86_64  OK    OK    WARNINGS    OK  UNNEEDED, same version exists in internal repository
Package 77/99HostnameOS / ArchINSTALLBUILDCHECKBUILD BIN
scone 1.14.0  (landing page)
Davide Risso
Last Commit: 3fa8d6b
Last Changed Date: 2020-10-27 11:20:29 -0400
malbec1Linux (Ubuntu 18.04.5 LTS) / x86_64  OK    OK    OK  UNNEEDED, same version exists in internal repository
tokay1Windows Server 2012 R2 Standard / x64  OK    OK    WARNINGS    OK  UNNEEDED, same version exists in internal repository
merida1macOS 10.14.6 Mojave / x86_64  OK    OK    OK    OK  UNNEEDED, same version exists in internal repository
Package 78/99HostnameOS / ArchINSTALLBUILDCHECKBUILD BIN
scran 1.18.7  (landing page)
Aaron Lun
Last Commit: 5849abc
Last Changed Date: 2021-04-16 03:30:33 -0400
malbec1Linux (Ubuntu 18.04.5 LTS) / x86_64  OK    OK    WARNINGS  UNNEEDED, same version exists in internal repository
tokay1Windows Server 2012 R2 Standard / x64  OK    OK    WARNINGS    OK  UNNEEDED, same version exists in internal repository
merida1macOS 10.14.6 Mojave / x86_64  OK    OK    WARNINGS    OK  UNNEEDED, same version exists in internal repository
Package 79/99HostnameOS / ArchINSTALLBUILDCHECKBUILD BIN
SEtools 1.4.0  (landing page)
Pierre-Luc Germain
Last Commit: 035e0cc
Last Changed Date: 2020-10-27 11:49:14 -0400
malbec1Linux (Ubuntu 18.04.5 LTS) / x86_64  OK    OK    WARNINGS  UNNEEDED, same version exists in internal repository
tokay1Windows Server 2012 R2 Standard / x64  OK    OK    WARNINGS    OK  UNNEEDED, same version exists in internal repository
merida1macOS 10.14.6 Mojave / x86_64  OK    OK    WARNINGS    OK  UNNEEDED, same version exists in internal repository
Package 80/99HostnameOS / ArchINSTALLBUILDCHECKBUILD BIN
SIMD 1.8.0  (landing page)
Jiadi Zhu
Last Commit: fa7dbdc
Last Changed Date: 2020-10-27 11:38:43 -0400
malbec1Linux (Ubuntu 18.04.5 LTS) / x86_64  OK    OK    OK  UNNEEDED, same version exists in internal repository
tokay1Windows Server 2012 R2 Standard / x64  OK    OK    OK    OK  UNNEEDED, same version exists in internal repository
merida1macOS 10.14.6 Mojave / x86_64  OK    OK    OK    OK  UNNEEDED, same version exists in internal repository
Package 81/99HostnameOS / ArchINSTALLBUILDCHECKBUILD BIN
SingleCellSignalR 1.2.0  (landing page)
Jacques Colinge
Last Commit: 666b92d
Last Changed Date: 2020-10-27 11:56:58 -0400
malbec1Linux (Ubuntu 18.04.5 LTS) / x86_64  OK    OK    OK  UNNEEDED, same version exists in internal repository
tokay1Windows Server 2012 R2 Standard / x64  OK    OK    OK    OK  UNNEEDED, same version exists in internal repository
merida1macOS 10.14.6 Mojave / x86_64  OK    OK    OK    OK  UNNEEDED, same version exists in internal repository
Package 82/99HostnameOS / ArchINSTALLBUILDCHECKBUILD BIN
singscore 1.10.0  (landing page)
Dharmesh D. Bhuva
Last Commit: 485b0c1
Last Changed Date: 2020-10-27 11:35:14 -0400
malbec1Linux (Ubuntu 18.04.5 LTS) / x86_64  OK    OK    OK  UNNEEDED, same version exists in internal repository
tokay1Windows Server 2012 R2 Standard / x64  OK    OK    OK    OK  UNNEEDED, same version exists in internal repository
merida1macOS 10.14.6 Mojave / x86_64  OK    OK    OK    OK  UNNEEDED, same version exists in internal repository
Package 83/99HostnameOS / ArchINSTALLBUILDCHECKBUILD BIN
spatialHeatmap 1.0.0  (landing page)
Jianhai Zhang
Last Commit: c4cba0e
Last Changed Date: 2020-10-27 12:02:06 -0400
malbec1Linux (Ubuntu 18.04.5 LTS) / x86_64  OK    OK    OK  UNNEEDED, same version exists in internal repository
tokay1Windows Server 2012 R2 Standard / x64  OK    OK    OK    OK  UNNEEDED, same version exists in internal repository
merida1macOS 10.14.6 Mojave / x86_64  OK    OK    OK    OK  UNNEEDED, same version exists in internal repository
Package 84/99HostnameOS / ArchINSTALLBUILDCHECKBUILD BIN
splatter 1.14.1  (landing page)
Luke Zappia
Last Commit: 8c83847
Last Changed Date: 2020-12-01 04:45:41 -0400
malbec1Linux (Ubuntu 18.04.5 LTS) / x86_64  OK    OK    OK  UNNEEDED, same version exists in internal repository
tokay1Windows Server 2012 R2 Standard / x64  OK    OK    OK    OK  UNNEEDED, same version exists in internal repository
merida1macOS 10.14.6 Mojave / x86_64  OK    OK    OK    OK  UNNEEDED, same version exists in internal repository
Package 85/99HostnameOS / ArchINSTALLBUILDCHECKBUILD BIN
SPsimSeq 1.0.0  (landing page)
Joris Meys
Last Commit: 1123f18
Last Changed Date: 2020-10-27 11:58:00 -0400
malbec1Linux (Ubuntu 18.04.5 LTS) / x86_64  OK    OK    OK  UNNEEDED, same version exists in internal repository
tokay1Windows Server 2012 R2 Standard / x64  OK    OK    OK    OK  UNNEEDED, same version exists in internal repository
merida1macOS 10.14.6 Mojave / x86_64  OK    OK    OK    OK  UNNEEDED, same version exists in internal repository
Package 86/99HostnameOS / ArchINSTALLBUILDCHECKBUILD BIN
STATegRa 1.26.0  (landing page)
David Gomez-Cabrero , Núria Planell
Last Commit: 064ea6c
Last Changed Date: 2020-10-27 11:00:09 -0400
malbec1Linux (Ubuntu 18.04.5 LTS) / x86_64  OK    OK    OK  UNNEEDED, same version exists in internal repository
tokay1Windows Server 2012 R2 Standard / x64  OK    OK    OK    OK  UNNEEDED, same version exists in internal repository
merida1macOS 10.14.6 Mojave / x86_64  OK    OK    OK    OK  UNNEEDED, same version exists in internal repository
Package 87/99HostnameOS / ArchINSTALLBUILDCHECKBUILD BIN
sva 3.38.0  (landing page)
Jeffrey T. Leek , John D. Storey
Last Commit: 5ded8ba
Last Changed Date: 2020-10-27 10:43:22 -0400
malbec1Linux (Ubuntu 18.04.5 LTS) / x86_64  OK    OK    OK  UNNEEDED, same version exists in internal repository
tokay1Windows Server 2012 R2 Standard / x64  OK    OK    OK    OK  UNNEEDED, same version exists in internal repository
merida1macOS 10.14.6 Mojave / x86_64  OK    OK    OK    OK  UNNEEDED, same version exists in internal repository
Package 88/99HostnameOS / ArchINSTALLBUILDCHECKBUILD BIN
SVAPLSseq 1.16.0  (landing page)
Sutirtha Chakraborty
Last Commit: 70c6583
Last Changed Date: 2020-10-27 11:17:00 -0400
malbec1Linux (Ubuntu 18.04.5 LTS) / x86_64  OK    OK    ERROR  
tokay1Windows Server 2012 R2 Standard / x64  OK    OK    ERROR    OK  
merida1macOS 10.14.6 Mojave / x86_64  OK    OK    ERROR    OK  
Package 89/99HostnameOS / ArchINSTALLBUILDCHECKBUILD BIN
systemPipeR 1.24.6  (landing page)
Thomas Girke
Last Commit: a9dc042
Last Changed Date: 2021-05-01 02:53:49 -0400
malbec1Linux (Ubuntu 18.04.5 LTS) / x86_64  OK    OK    OK  UNNEEDED, same version exists in internal repository
tokay1Windows Server 2012 R2 Standard / x64  OK    OK    OK    OK  UNNEEDED, same version exists in internal repository
merida1macOS 10.14.6 Mojave / x86_64  OK    OK    OK    OK  UNNEEDED, same version exists in internal repository
Package 90/99HostnameOS / ArchINSTALLBUILDCHECKBUILD BIN
TBSignatureProfiler 1.2.0  (landing page)
David Jenkins
Last Commit: 16ccdd3
Last Changed Date: 2020-10-27 11:56:28 -0400
malbec1Linux (Ubuntu 18.04.5 LTS) / x86_64  OK    OK    OK  UNNEEDED, same version exists in internal repository
tokay1Windows Server 2012 R2 Standard / x64  OK    OK    OK    OK  UNNEEDED, same version exists in internal repository
merida1macOS 10.14.6 Mojave / x86_64  OK    OK    OK    OK  UNNEEDED, same version exists in internal repository
Package 91/99HostnameOS / ArchINSTALLBUILDCHECKBUILD BIN
TCC 1.30.0  (landing page)
Jianqiang Sun
Last Commit: 40c62a0
Last Changed Date: 2020-10-27 10:52:27 -0400
malbec1Linux (Ubuntu 18.04.5 LTS) / x86_64  OK    OK    OK  UNNEEDED, same version exists in internal repository
tokay1Windows Server 2012 R2 Standard / x64  OK    OK    WARNINGS    OK  UNNEEDED, same version exists in internal repository
merida1macOS 10.14.6 Mojave / x86_64  OK    OK    OK    OK  UNNEEDED, same version exists in internal repository
Package 92/99HostnameOS / ArchINSTALLBUILDCHECKBUILD BIN
TCseq 1.14.0  (landing page)
Mengjun Wu
Last Commit: 3a210f7
Last Changed Date: 2020-10-27 11:20:39 -0400
malbec1Linux (Ubuntu 18.04.5 LTS) / x86_64  OK    OK    OK  UNNEEDED, same version exists in internal repository
tokay1Windows Server 2012 R2 Standard / x64  OK    OK    OK    OK  UNNEEDED, same version exists in internal repository
merida1macOS 10.14.6 Mojave / x86_64  OK    OK    OK    OK  UNNEEDED, same version exists in internal repository
Package 93/99HostnameOS / ArchINSTALLBUILDCHECKBUILD BIN
TimeSeriesExperiment 1.8.0  (landing page)
Lan Huong Nguyen
Last Commit: 99d7630
Last Changed Date: 2020-10-27 11:40:31 -0400
malbec1Linux (Ubuntu 18.04.5 LTS) / x86_64  OK    OK    WARNINGS  UNNEEDED, same version exists in internal repository
tokay1Windows Server 2012 R2 Standard / x64  OK    OK    WARNINGS    OK  UNNEEDED, same version exists in internal repository
merida1macOS 10.14.6 Mojave / x86_64  OK    OK    WARNINGS    OK  UNNEEDED, same version exists in internal repository
Package 94/99HostnameOS / ArchINSTALLBUILDCHECKBUILD BIN
tradeSeq 1.4.0  (landing page)
Hector Roux de Bezieux
Last Commit: 867b90c
Last Changed Date: 2020-10-27 11:51:33 -0400
malbec1Linux (Ubuntu 18.04.5 LTS) / x86_64  OK    OK    OK  UNNEEDED, same version exists in internal repository
tokay1Windows Server 2012 R2 Standard / x64  OK    OK    TIMEOUT    OK  
merida1macOS 10.14.6 Mojave / x86_64  OK    OK    OK    OK  UNNEEDED, same version exists in internal repository
Package 95/99HostnameOS / ArchINSTALLBUILDCHECKBUILD BIN
tRanslatome 1.28.0  (landing page)
Toma Tebaldi , Erik Dassi
Last Commit: 5f9ed1a
Last Changed Date: 2020-10-27 10:50:58 -0400
malbec1Linux (Ubuntu 18.04.5 LTS) / x86_64  OK    OK    WARNINGS  UNNEEDED, same version exists in internal repository
tokay1Windows Server 2012 R2 Standard / x64  OK    OK    WARNINGS    OK  UNNEEDED, same version exists in internal repository
merida1macOS 10.14.6 Mojave / x86_64  OK    OK    WARNINGS    OK  UNNEEDED, same version exists in internal repository
Package 96/99HostnameOS / ArchINSTALLBUILDCHECKBUILD BIN
tweeDEseq 1.36.0  (landing page)
Juan R Gonzalez
Last Commit: 0c9d10f
Last Changed Date: 2020-10-27 10:43:48 -0400
malbec1Linux (Ubuntu 18.04.5 LTS) / x86_64  OK    OK    OK  UNNEEDED, same version exists in internal repository
tokay1Windows Server 2012 R2 Standard / x64  OK    OK    WARNINGS    OK  UNNEEDED, same version exists in internal repository
merida1macOS 10.14.6 Mojave / x86_64  OK    OK    OK    OK  UNNEEDED, same version exists in internal repository
Package 97/99HostnameOS / ArchINSTALLBUILDCHECKBUILD BIN
vidger 1.10.0  (landing page)
Brandon Monier
Last Commit: 3d28424
Last Changed Date: 2020-10-27 11:32:40 -0400
malbec1Linux (Ubuntu 18.04.5 LTS) / x86_64  OK    OK    OK  UNNEEDED, same version exists in internal repository
tokay1Windows Server 2012 R2 Standard / x64  OK    OK    OK    OK  UNNEEDED, same version exists in internal repository
merida1macOS 10.14.6 Mojave / x86_64  OK    OK    OK    OK  UNNEEDED, same version exists in internal repository
Package 98/99HostnameOS / ArchINSTALLBUILDCHECKBUILD BIN
yarn 1.16.0  (landing page)
Joseph N Paulson
Last Commit: ff5a18c
Last Changed Date: 2020-10-27 11:19:26 -0400
malbec1Linux (Ubuntu 18.04.5 LTS) / x86_64  OK    OK    OK  UNNEEDED, same version exists in internal repository
tokay1Windows Server 2012 R2 Standard / x64  OK    OK    WARNINGS    OK  UNNEEDED, same version exists in internal repository
merida1macOS 10.14.6 Mojave / x86_64  OK    OK    OK    OK  UNNEEDED, same version exists in internal repository
Package 99/99HostnameOS / ArchINSTALLBUILDCHECKBUILD BIN
zinbwave 1.12.0  (landing page)
Davide Risso
Last Commit: b936f8e
Last Changed Date: 2020-10-27 11:24:55 -0400
malbec1Linux (Ubuntu 18.04.5 LTS) / x86_64  OK    ERROR  skipped
tokay1Windows Server 2012 R2 Standard / x64  OK    ERROR  skippedskipped
merida1macOS 10.14.6 Mojave / x86_64  OK    ERROR  skippedskipped