Back to Multiple platform build/check report for BioC 3.12
ABC[D]EFGHIJKLMNOPQRSTUVWXYZ

BUILD report for destiny on tokay1

This page was generated on 2021-05-05 12:11:41 -0400 (Wed, 05 May 2021).

To the developers/maintainers of the destiny package:
Please make sure to use the following settings in order to reproduce any error or warning you see on this page.
Package 467/1974HostnameOS / ArchINSTALLBUILDCHECKBUILD BIN
destiny 3.4.0  (landing page)
Philipp Angerer
Snapshot Date: 2021-05-04 14:50:13 -0400 (Tue, 04 May 2021)
URL: https://git.bioconductor.org/packages/destiny
Branch: RELEASE_3_12
Last Commit: a7323c8
Last Changed Date: 2020-10-27 11:06:55 -0400 (Tue, 27 Oct 2020)
malbec1Linux (Ubuntu 18.04.5 LTS) / x86_64  OK    ERROR  skipped
tokay1Windows Server 2012 R2 Standard / x64  OK    OK    WARNINGS    OK  UNNEEDED, same version exists in internal repository
merida1macOS 10.14.6 Mojave / x86_64  OK    ERROR  skippedskipped

Summary

Package: destiny
Version: 3.4.0
Command: chmod a+r destiny -R && C:\Users\biocbuild\bbs-3.12-bioc\R\bin\R.exe CMD build --keep-empty-dirs --no-resave-data destiny
StartedAt: 2021-05-04 20:36:49 -0400 (Tue, 04 May 2021)
EndedAt: 2021-05-04 20:39:00 -0400 (Tue, 04 May 2021)
EllapsedTime: 130.8 seconds
RetCode: 0
Status:   OK   
PackageFile: destiny_3.4.0.tar.gz
PackageFileSize: 8.593 MiB

Command output

##############################################################################
##############################################################################
###
### Running command:
###
###   chmod a+r destiny -R && C:\Users\biocbuild\bbs-3.12-bioc\R\bin\R.exe CMD build --keep-empty-dirs --no-resave-data destiny
###
##############################################################################
##############################################################################


* checking for file 'destiny/DESCRIPTION' ... OK
* preparing 'destiny':
* checking DESCRIPTION meta-information ... OK
* cleaning src
* installing the package to build vignettes
* creating vignettes ... OK
* cleaning src
* checking for LF line-endings in source and make files and shell scripts
* checking for empty or unneeded directories
WARNING: directory 'destiny/build' is empty
* looking to see if a 'data/datalist' file should be added
* building 'destiny_3.4.0.tar.gz'