Back to Multiple platform build/check report for BioC 3.12
ABC[D]EFGHIJKLMNOPQRSTUVWXYZ

Multiple platform build/check report for BioC 3.12

All results for package debrowser

This page was generated on 2021-05-05 12:08:43 -0400 (Wed, 05 May 2021).

Package 435/1974HostnameOS / ArchINSTALLBUILDCHECKBUILD BIN
debrowser 1.18.3  (landing page)
Alper Kucukural
Snapshot Date: 2021-05-04 14:50:13 -0400 (Tue, 04 May 2021)
URL: https://git.bioconductor.org/packages/debrowser
Branch: RELEASE_3_12
Last Commit: 8dbbe8b
Last Changed Date: 2021-04-23 12:57:32 -0400 (Fri, 23 Apr 2021)
malbec1Linux (Ubuntu 18.04.5 LTS) / x86_64  OK    OK    OK  UNNEEDED, same version exists in internal repository
tokay1Windows Server 2012 R2 Standard / x64  OK    OK    OK    OK  UNNEEDED, same version exists in internal repository
merida1macOS 10.14.6 Mojave / x86_64  OK    OK    OK    OK  UNNEEDED, same version exists in internal repository