Back to Multiple platform build/check report for BioC 3.12
AB[C]DEFGHIJKLMNOPQRSTUVWXYZ

BUILD report for crossmeta on tokay1

This page was generated on 2021-05-05 12:11:37 -0400 (Wed, 05 May 2021).

To the developers/maintainers of the crossmeta package:
Please make sure to use the following settings in order to reproduce any error or warning you see on this page.
Package 400/1974HostnameOS / ArchINSTALLBUILDCHECKBUILD BIN
crossmeta 1.16.1  (landing page)
Alex Pickering
Snapshot Date: 2021-05-04 14:50:13 -0400 (Tue, 04 May 2021)
URL: https://git.bioconductor.org/packages/crossmeta
Branch: RELEASE_3_12
Last Commit: 02d63d6
Last Changed Date: 2020-11-02 13:21:38 -0400 (Mon, 02 Nov 2020)
malbec1Linux (Ubuntu 18.04.5 LTS) / x86_64  OK    OK    WARNINGS  UNNEEDED, same version exists in internal repository
tokay1Windows Server 2012 R2 Standard / x64  OK    OK    WARNINGS    OK  UNNEEDED, same version exists in internal repository
merida1macOS 10.14.6 Mojave / x86_64  OK    OK    WARNINGS    OK  UNNEEDED, same version exists in internal repository

Summary

Package: crossmeta
Version: 1.16.1
Command: chmod a+r crossmeta -R && C:\Users\biocbuild\bbs-3.12-bioc\R\bin\R.exe CMD build --keep-empty-dirs --no-resave-data crossmeta
StartedAt: 2021-05-04 20:27:23 -0400 (Tue, 04 May 2021)
EndedAt: 2021-05-04 20:28:03 -0400 (Tue, 04 May 2021)
EllapsedTime: 40.1 seconds
RetCode: 0
Status:   OK   
PackageFile: crossmeta_1.16.1.tar.gz
PackageFileSize: 2.948 MiB

Command output

##############################################################################
##############################################################################
###
### Running command:
###
###   chmod a+r crossmeta -R && C:\Users\biocbuild\bbs-3.12-bioc\R\bin\R.exe CMD build --keep-empty-dirs --no-resave-data crossmeta
###
##############################################################################
##############################################################################


* checking for file 'crossmeta/DESCRIPTION' ... OK
* preparing 'crossmeta':
* checking DESCRIPTION meta-information ... OK
* installing the package to build vignettes
* creating vignettes ... OK
* checking for LF line-endings in source and make files and shell scripts
* checking for empty or unneeded directories
* building 'crossmeta_1.16.1.tar.gz'