Back to Multiple platform build/check report for BioC 3.12
AB[C]DEFGHIJKLMNOPQRSTUVWXYZ

INSTALL report for crossmeta on merida1

This page was generated on 2021-05-05 12:14:02 -0400 (Wed, 05 May 2021).

To the developers/maintainers of the crossmeta package:
Please make sure to use the following settings in order to reproduce any error or warning you see on this page.
Package 400/1974HostnameOS / ArchINSTALLBUILDCHECKBUILD BIN
crossmeta 1.16.1  (landing page)
Alex Pickering
Snapshot Date: 2021-05-04 14:50:13 -0400 (Tue, 04 May 2021)
URL: https://git.bioconductor.org/packages/crossmeta
Branch: RELEASE_3_12
Last Commit: 02d63d6
Last Changed Date: 2020-11-02 13:21:38 -0400 (Mon, 02 Nov 2020)
malbec1Linux (Ubuntu 18.04.5 LTS) / x86_64  OK    OK    WARNINGS  UNNEEDED, same version exists in internal repository
tokay1Windows Server 2012 R2 Standard / x64  OK    OK    WARNINGS    OK  UNNEEDED, same version exists in internal repository
merida1macOS 10.14.6 Mojave / x86_64  OK    OK    WARNINGS    OK  UNNEEDED, same version exists in internal repository

Summary

Package: crossmeta
Version: 1.16.1
Command: /Library/Frameworks/R.framework/Versions/Current/Resources/bin/R CMD INSTALL crossmeta
StartedAt: 2021-05-04 17:59:33 -0400 (Tue, 04 May 2021)
EndedAt: 2021-05-04 18:00:00 -0400 (Tue, 04 May 2021)
EllapsedTime: 27.3 seconds
RetCode: 0
Status:   OK  

Command output

##############################################################################
##############################################################################
###
### Running command:
###
###   /Library/Frameworks/R.framework/Versions/Current/Resources/bin/R CMD INSTALL crossmeta
###
##############################################################################
##############################################################################


* installing to library ‘/Library/Frameworks/R.framework/Versions/4.0/Resources/library’
* installing *source* package ‘crossmeta’ ...
** using staged installation
** R
** data
*** moving datasets to lazyload DB
** inst
** byte-compile and prepare package for lazy loading
** help
*** installing help indices
** building package indices
** installing vignettes
** testing if installed package can be loaded from temporary location
** testing if installed package can be loaded from final location
** testing if installed package keeps a record of temporary installation path
* DONE (crossmeta)