Back to Multiple platform build/check report for BioC 3.12
AB[C]DEFGHIJKLMNOPQRSTUVWXYZ

Multiple platform build/check report for BioC 3.12

All results for package crossmeta

This page was generated on 2021-05-05 12:08:43 -0400 (Wed, 05 May 2021).

Package 400/1974HostnameOS / ArchINSTALLBUILDCHECKBUILD BIN
crossmeta 1.16.1  (landing page)
Alex Pickering
Snapshot Date: 2021-05-04 14:50:13 -0400 (Tue, 04 May 2021)
URL: https://git.bioconductor.org/packages/crossmeta
Branch: RELEASE_3_12
Last Commit: 02d63d6
Last Changed Date: 2020-11-02 13:21:38 -0400 (Mon, 02 Nov 2020)
malbec1Linux (Ubuntu 18.04.5 LTS) / x86_64  OK    OK    WARNINGS  UNNEEDED, same version exists in internal repository
tokay1Windows Server 2012 R2 Standard / x64  OK    OK    WARNINGS    OK  UNNEEDED, same version exists in internal repository
merida1macOS 10.14.6 Mojave / x86_64  OK    OK    WARNINGS    OK  UNNEEDED, same version exists in internal repository