Back to Multiple platform build/check report for BioC 3.12
AB[C]DEFGHIJKLMNOPQRSTUVWXYZ

BUILD BIN report for clipper on tokay1

This page was generated on 2021-05-05 12:11:32 -0400 (Wed, 05 May 2021).

To the developers/maintainers of the clipper package:
Please make sure to use the following settings in order to reproduce any error or warning you see on this page.
Package 312/1974HostnameOS / ArchINSTALLBUILDCHECKBUILD BIN
clipper 1.30.0  (landing page)
Paolo Martini
Snapshot Date: 2021-05-04 14:50:13 -0400 (Tue, 04 May 2021)
URL: https://git.bioconductor.org/packages/clipper
Branch: RELEASE_3_12
Last Commit: 3a1d234
Last Changed Date: 2020-10-27 10:48:58 -0400 (Tue, 27 Oct 2020)
malbec1Linux (Ubuntu 18.04.5 LTS) / x86_64  OK    OK    OK  UNNEEDED, same version exists in internal repository
tokay1Windows Server 2012 R2 Standard / x64  OK    OK    OK    OK  UNNEEDED, same version exists in internal repository
merida1macOS 10.14.6 Mojave / x86_64  OK    OK    OK    OK  UNNEEDED, same version exists in internal repository

Summary

Package: clipper
Version: 1.30.0
Command: rm -rf clipper.buildbin-libdir && mkdir clipper.buildbin-libdir && C:\Users\biocbuild\bbs-3.12-bioc\R\bin\R.exe CMD INSTALL --merge-multiarch --build --library=clipper.buildbin-libdir clipper_1.30.0.tar.gz
StartedAt: 2021-05-05 08:47:04 -0400 (Wed, 05 May 2021)
EndedAt: 2021-05-05 08:48:32 -0400 (Wed, 05 May 2021)
EllapsedTime: 88.7 seconds
RetCode: 0
Status:   OK   
PackageFile: clipper_1.30.0.zip
PackageFileSize: 705.8 KiB

Command output

##############################################################################
##############################################################################
###
### Running command:
###
###   rm -rf clipper.buildbin-libdir && mkdir clipper.buildbin-libdir && C:\Users\biocbuild\bbs-3.12-bioc\R\bin\R.exe CMD INSTALL --merge-multiarch --build --library=clipper.buildbin-libdir clipper_1.30.0.tar.gz
###
##############################################################################
##############################################################################



install for i386

* installing *source* package 'clipper' ...
** using staged installation
** R
** inst
** byte-compile and prepare package for lazy loading
No methods found in package 'GenomicRanges' for request: 'c' when loading 'qpgraph'
** help
*** installing help indices
  converting help for package 'clipper'
    finding HTML links ... done
    clipper                                 html  
    clipperAllRoots                         html  
    cliqueMeanTest                          html  
    cliqueMixedTest                         html  
    cliquePairedTest                        html  
    cliqueVarianceTest                      html  
    deleteEdge                              html  
    easyClip                                html  
    easyLook                                html  
    getGraphEntryGenes                      html  
    getJunctionTreePaths                    html  
    nameCliques                             html  
    pathwayTest                             html  
    plotInCytoscape                         html  
    prunePaths                              html  
** building package indices
** installing vignettes
** testing if installed package can be loaded from temporary location
No methods found in package 'GenomicRanges' for request: 'c' when loading 'qpgraph'
** testing if installed package can be loaded from final location
No methods found in package 'GenomicRanges' for request: 'c' when loading 'qpgraph'
** testing if installed package keeps a record of temporary installation path

install for x64

* installing *source* package 'clipper' ...
** testing if installed package can be loaded
No methods found in package 'GenomicRanges' for request: 'c' when loading 'qpgraph'
* MD5 sums
packaged installation of 'clipper' as clipper_1.30.0.zip
* DONE (clipper)