Back to Multiple platform build/check report for BioC 3.12
AB[C]DEFGHIJKLMNOPQRSTUVWXYZ

BUILD BIN report for cghMCR on merida1

This page was generated on 2021-05-05 12:13:53 -0400 (Wed, 05 May 2021).

To the developers/maintainers of the cghMCR package:
Please make sure to use the following settings in order to reproduce any error or warning you see on this page.
Package 270/1974HostnameOS / ArchINSTALLBUILDCHECKBUILD BIN
cghMCR 1.48.0  (landing page)
J. Zhang
Snapshot Date: 2021-05-04 14:50:13 -0400 (Tue, 04 May 2021)
URL: https://git.bioconductor.org/packages/cghMCR
Branch: RELEASE_3_12
Last Commit: 5b6061f
Last Changed Date: 2020-10-27 10:28:30 -0400 (Tue, 27 Oct 2020)
malbec1Linux (Ubuntu 18.04.5 LTS) / x86_64  OK    OK    WARNINGS  UNNEEDED, same version exists in internal repository
tokay1Windows Server 2012 R2 Standard / x64  OK    OK    WARNINGS    OK  UNNEEDED, same version exists in internal repository
merida1macOS 10.14.6 Mojave / x86_64  OK    OK    WARNINGS    OK  UNNEEDED, same version exists in internal repository

Summary

Package: cghMCR
Version: 1.48.0
Command: rm -rf cghMCR.buildbin-libdir && mkdir cghMCR.buildbin-libdir && /Users/biocbuild/BBS/utils/build-universal.sh cghMCR_1.48.0.tar.gz /Library/Frameworks/R.framework/Versions/Current/Resources/bin/R cghMCR.buildbin-libdir
StartedAt: 2021-05-05 08:35:11 -0400 (Wed, 05 May 2021)
EndedAt: 2021-05-05 08:36:12 -0400 (Wed, 05 May 2021)
EllapsedTime: 61.1 seconds
RetCode: 0
Status:   OK  
PackageFile: cghMCR_1.48.0.tgz
PackageFileSize: 36.94 MiB

Command output

##############################################################################
##############################################################################
###
### Running command:
###
###   rm -rf cghMCR.buildbin-libdir && mkdir cghMCR.buildbin-libdir && /Users/biocbuild/BBS/utils/build-universal.sh cghMCR_1.48.0.tar.gz /Library/Frameworks/R.framework/Versions/Current/Resources/bin/R cghMCR.buildbin-libdir
###
##############################################################################
##############################################################################


>>>>>>> 
>>>>>>> INSTALLATION WITH 'R CMD INSTALL --preclean --no-multiarch --library=cghMCR.buildbin-libdir cghMCR_1.48.0.tar.gz'
>>>>>>> 

* installing *source* package ‘cghMCR’ ...
** using staged installation
** R
** data
** inst
** byte-compile and prepare package for lazy loading
** help
*** installing help indices
** building package indices
** installing vignettes
** testing if installed package can be loaded from temporary location
** testing if installed package can be loaded from final location
** testing if installed package keeps a record of temporary installation path
* DONE (cghMCR)