Back to Multiple platform build/check report for BioC 3.12
A[B]CDEFGHIJKLMNOPQRSTUVWXYZ

BUILD report for branchpointer on tokay1

This page was generated on 2021-05-05 12:11:26 -0400 (Wed, 05 May 2021).

To the developers/maintainers of the branchpointer package:
Please make sure to use the following settings in order to reproduce any error or warning you see on this page.
Package 205/1974HostnameOS / ArchINSTALLBUILDCHECKBUILD BIN
branchpointer 1.16.0  (landing page)
Beth Signal
Snapshot Date: 2021-05-04 14:50:13 -0400 (Tue, 04 May 2021)
URL: https://git.bioconductor.org/packages/branchpointer
Branch: RELEASE_3_12
Last Commit: 853ea53
Last Changed Date: 2020-10-27 11:22:25 -0400 (Tue, 27 Oct 2020)
malbec1Linux (Ubuntu 18.04.5 LTS) / x86_64  OK    OK    OK  UNNEEDED, same version exists in internal repository
tokay1Windows Server 2012 R2 Standard / x64  OK    OK    OK    OK  UNNEEDED, same version exists in internal repository
merida1macOS 10.14.6 Mojave / x86_64  OK    ERROR  skippedskipped

Summary

Package: branchpointer
Version: 1.16.0
Command: chmod a+r branchpointer -R && C:\Users\biocbuild\bbs-3.12-bioc\R\bin\R.exe CMD build --keep-empty-dirs --no-resave-data branchpointer
StartedAt: 2021-05-04 19:59:48 -0400 (Tue, 04 May 2021)
EndedAt: 2021-05-04 20:01:47 -0400 (Tue, 04 May 2021)
EllapsedTime: 118.8 seconds
RetCode: 0
Status:   OK   
PackageFile: branchpointer_1.16.0.tar.gz
PackageFileSize: 4.781 MiB

Command output

##############################################################################
##############################################################################
###
### Running command:
###
###   chmod a+r branchpointer -R && C:\Users\biocbuild\bbs-3.12-bioc\R\bin\R.exe CMD build --keep-empty-dirs --no-resave-data branchpointer
###
##############################################################################
##############################################################################


* checking for file 'branchpointer/DESCRIPTION' ... OK
* preparing 'branchpointer':
* checking DESCRIPTION meta-information ... OK
* installing the package to build vignettes
* creating vignettes ... OK
* checking for LF line-endings in source and make files and shell scripts
* checking for empty or unneeded directories
* looking to see if a 'data/datalist' file should be added
* building 'branchpointer_1.16.0.tar.gz'