Back to Multiple platform build/check report for BioC 3.12
A[B]CDEFGHIJKLMNOPQRSTUVWXYZ

INSTALL report for brainflowprobes on tokay1

This page was generated on 2021-05-05 12:11:26 -0400 (Wed, 05 May 2021).

To the developers/maintainers of the brainflowprobes package:
Please make sure to use the following settings in order to reproduce any error or warning you see on this page.
Package 202/1974HostnameOS / ArchINSTALLBUILDCHECKBUILD BIN
brainflowprobes 1.4.1  (landing page)
Amanda Price
Snapshot Date: 2021-05-04 14:50:13 -0400 (Tue, 04 May 2021)
URL: https://git.bioconductor.org/packages/brainflowprobes
Branch: RELEASE_3_12
Last Commit: 49252c4
Last Changed Date: 2020-12-18 19:52:36 -0400 (Fri, 18 Dec 2020)
malbec1Linux (Ubuntu 18.04.5 LTS) / x86_64  OK    OK    OK  UNNEEDED, same version exists in internal repository
tokay1Windows Server 2012 R2 Standard / x64  OK    OK    OK    OK  UNNEEDED, same version exists in internal repository
merida1macOS 10.14.6 Mojave / x86_64  OK    OK    OK    OK  UNNEEDED, same version exists in internal repository

Summary

Package: brainflowprobes
Version: 1.4.1
Command: C:\cygwin\bin\curl.exe -O http://172.29.0.3/BBS/3.12/bioc/src/contrib/brainflowprobes_1.4.1.tar.gz && rm -rf brainflowprobes.buildbin-libdir && mkdir brainflowprobes.buildbin-libdir && C:\Users\biocbuild\bbs-3.12-bioc\R\bin\R.exe CMD INSTALL --merge-multiarch --build --library=brainflowprobes.buildbin-libdir brainflowprobes_1.4.1.tar.gz && C:\Users\biocbuild\bbs-3.12-bioc\R\bin\R.exe CMD INSTALL brainflowprobes_1.4.1.zip && rm brainflowprobes_1.4.1.tar.gz brainflowprobes_1.4.1.zip
StartedAt: 2021-05-04 18:49:09 -0400 (Tue, 04 May 2021)
EndedAt: 2021-05-04 18:50:55 -0400 (Tue, 04 May 2021)
EllapsedTime: 106.1 seconds
RetCode: 0
Status:   OK   

Command output

##############################################################################
##############################################################################
###
### Running command:
###
###   C:\cygwin\bin\curl.exe -O http://172.29.0.3/BBS/3.12/bioc/src/contrib/brainflowprobes_1.4.1.tar.gz && rm -rf brainflowprobes.buildbin-libdir && mkdir brainflowprobes.buildbin-libdir && C:\Users\biocbuild\bbs-3.12-bioc\R\bin\R.exe CMD INSTALL --merge-multiarch --build --library=brainflowprobes.buildbin-libdir brainflowprobes_1.4.1.tar.gz && C:\Users\biocbuild\bbs-3.12-bioc\R\bin\R.exe CMD INSTALL brainflowprobes_1.4.1.zip && rm brainflowprobes_1.4.1.tar.gz brainflowprobes_1.4.1.zip
###
##############################################################################
##############################################################################


  % Total    % Received % Xferd  Average Speed   Time    Time     Time  Current
                                 Dload  Upload   Total   Spent    Left  Speed

  0     0    0     0    0     0      0      0 --:--:-- --:--:-- --:--:--     0
100 1599k  100 1599k    0     0  37.5M      0 --:--:-- --:--:-- --:--:-- 38.1M

install for i386

* installing *source* package 'brainflowprobes' ...
** using staged installation
** R
** data
*** moving datasets to lazyload DB
** inst
** byte-compile and prepare package for lazy loading
** help
*** installing help indices
  converting help for package 'brainflowprobes'
    finding HTML links ... done
    brainflowprobes-package                 html  
    brainflowprobes_cov                     html  
    check_pdf                               html  
    four_panels                             html  
    four_panels_example_cov                 html  
    get_nearest_annotation                  html  
    get_region_cov                          html  
    pd                                      html  
    plot_coverage                           html  
    region_info                             html  
** building package indices
** installing vignettes
** testing if installed package can be loaded from temporary location
** testing if installed package can be loaded from final location
** testing if installed package keeps a record of temporary installation path

install for x64

* installing *source* package 'brainflowprobes' ...
** testing if installed package can be loaded
* MD5 sums
packaged installation of 'brainflowprobes' as brainflowprobes_1.4.1.zip
* DONE (brainflowprobes)
* installing to library 'C:/Users/biocbuild/bbs-3.12-bioc/R/library'
package 'brainflowprobes' successfully unpacked and MD5 sums checked