Back to Multiple platform build/check report for BioC 3.12
A[B]CDEFGHIJKLMNOPQRSTUVWXYZ

Multiple platform build/check report for BioC 3.12

All results for package biomaRt

This page was generated on 2021-05-06 12:25:35 -0400 (Thu, 06 May 2021).

Package 177/1974HostnameOS / ArchINSTALLBUILDCHECKBUILD BIN
biomaRt 2.46.3  (landing page)
Mike Smith
Snapshot Date: 2021-05-05 14:51:38 -0400 (Wed, 05 May 2021)
URL: https://git.bioconductor.org/packages/biomaRt
Branch: RELEASE_3_12
Last Commit: 607b632
Last Changed Date: 2021-02-08 05:38:06 -0400 (Mon, 08 Feb 2021)
malbec1Linux (Ubuntu 18.04.5 LTS) / x86_64  OK    OK    OK  UNNEEDED, same version exists in internal repository
tokay1Windows Server 2012 R2 Standard / x64  OK    OK    OK    OK  UNNEEDED, same version exists in internal repository
merida1macOS 10.14.6 Mojave / x86_64  OK    OK    OK    OK  UNNEEDED, same version exists in internal repository

Results for Bioconductor software packages that depend directly on package biomaRt

QUICK STATSOS / ArchINSTALLBUILDCHECKBUILD BIN
malbec1Linux (Ubuntu 18.04.5 LTS) / x86_64
0083
0182
021763
tokay1Windows Server 2012 R2 Standard / x64
0081
0180
032552
0080
merida1macOS 10.14.6 Mojave / x86_64
0182
0182
051661
0082
Package 1/83HostnameOS / ArchINSTALLBUILDCHECKBUILD BIN
ArrayExpressHTS 1.40.0  (landing page)
Angela Goncalves , Andrew Tikhonov
Last Commit: 8e951b9
Last Changed Date: 2020-10-27 10:41:33 -0400
malbec1Linux (Ubuntu 18.04.5 LTS) / x86_64  OK    OK    WARNINGS  UNNEEDED, same version exists in internal repository
tokay1Windows Server 2012 R2 Standard / x64... NOT SUPPORTED ...
merida1macOS 10.14.6 Mojave / x86_64  OK    OK    OK    OK  UNNEEDED, same version exists in internal repository
Package 2/83HostnameOS / ArchINSTALLBUILDCHECKBUILD BIN
artMS 1.8.3  (landing page)
David Jimenez-Morales
Last Commit: 43a054f
Last Changed Date: 2021-04-06 03:18:38 -0400
malbec1Linux (Ubuntu 18.04.5 LTS) / x86_64  OK    OK    OK  UNNEEDED, same version exists in internal repository
tokay1Windows Server 2012 R2 Standard / x64  OK    OK    OK    OK  UNNEEDED, same version exists in internal repository
merida1macOS 10.14.6 Mojave / x86_64  OK    OK    OK    OK  UNNEEDED, same version exists in internal repository
Package 3/83HostnameOS / ArchINSTALLBUILDCHECKBUILD BIN
ASpediaFI 1.4.0  (landing page)
Doyeong Yu
Last Commit: d59c4a0
Last Changed Date: 2020-10-27 11:50:40 -0400
malbec1Linux (Ubuntu 18.04.5 LTS) / x86_64  OK    OK    OK  UNNEEDED, same version exists in internal repository
tokay1Windows Server 2012 R2 Standard / x64  OK    OK    OK    OK  UNNEEDED, same version exists in internal repository
merida1macOS 10.14.6 Mojave / x86_64  OK    OK    OK    OK  UNNEEDED, same version exists in internal repository
Package 4/83HostnameOS / ArchINSTALLBUILDCHECKBUILD BIN
BadRegionFinder 1.18.0  (landing page)
Sarah Sandmann
Last Commit: 54deba4
Last Changed Date: 2020-10-27 11:13:27 -0400
malbec1Linux (Ubuntu 18.04.5 LTS) / x86_64  OK    OK    OK  UNNEEDED, same version exists in internal repository
tokay1Windows Server 2012 R2 Standard / x64  OK    OK    OK    OK  UNNEEDED, same version exists in internal repository
merida1macOS 10.14.6 Mojave / x86_64  OK    OK    OK    OK  UNNEEDED, same version exists in internal repository
Package 5/83HostnameOS / ArchINSTALLBUILDCHECKBUILD BIN
BgeeCall 1.6.2  (landing page)
Julien Wollbrett
Last Commit: 1b74dcf
Last Changed Date: 2020-12-10 05:55:05 -0400
malbec1Linux (Ubuntu 18.04.5 LTS) / x86_64  OK    OK    OK  UNNEEDED, same version exists in internal repository
tokay1Windows Server 2012 R2 Standard / x64  OK    OK    OK    OK  UNNEEDED, same version exists in internal repository
merida1macOS 10.14.6 Mojave / x86_64  OK    OK    OK    OK  UNNEEDED, same version exists in internal repository
Package 6/83HostnameOS / ArchINSTALLBUILDCHECKBUILD BIN
BrainSABER 1.0.0  (landing page)
USD Biomedical Engineering
Last Commit: 378073c
Last Changed Date: 2020-10-27 11:57:38 -0400
malbec1Linux (Ubuntu 18.04.5 LTS) / x86_64  OK    OK    OK  UNNEEDED, same version exists in internal repository
tokay1Windows Server 2012 R2 Standard / x64  OK    OK    OK    OK  UNNEEDED, same version exists in internal repository
merida1macOS 10.14.6 Mojave / x86_64  OK    OK    OK    OK  UNNEEDED, same version exists in internal repository
Package 7/83HostnameOS / ArchINSTALLBUILDCHECKBUILD BIN
branchpointer 1.16.0  (landing page)
Beth Signal
Last Commit: 853ea53
Last Changed Date: 2020-10-27 11:22:25 -0400
malbec1Linux (Ubuntu 18.04.5 LTS) / x86_64  OK    OK    OK  UNNEEDED, same version exists in internal repository
tokay1Windows Server 2012 R2 Standard / x64  OK    OK    OK    OK  UNNEEDED, same version exists in internal repository
merida1macOS 10.14.6 Mojave / x86_64  OK    OK    OK    OK  UNNEEDED, same version exists in internal repository
Package 8/83HostnameOS / ArchINSTALLBUILDCHECKBUILD BIN
BUSpaRse 1.4.2  (landing page)
Lambda Moses
Last Commit: ac591a3
Last Changed Date: 2021-03-01 14:55:24 -0400
malbec1Linux (Ubuntu 18.04.5 LTS) / x86_64  OK    OK    OK  UNNEEDED, same version exists in internal repository
tokay1Windows Server 2012 R2 Standard / x64  OK    OK    OK    OK  UNNEEDED, same version exists in internal repository
merida1macOS 10.14.6 Mojave / x86_64  OK    OK    OK    OK  UNNEEDED, same version exists in internal repository
Package 9/83HostnameOS / ArchINSTALLBUILDCHECKBUILD BIN
ChIPpeakAnno 3.24.2  (landing page)
Jianhong Ou
Last Commit: 09d9fec
Last Changed Date: 2021-03-30 09:36:14 -0400
malbec1Linux (Ubuntu 18.04.5 LTS) / x86_64  OK    OK    OK  UNNEEDED, same version exists in internal repository
tokay1Windows Server 2012 R2 Standard / x64  OK    OK    OK    OK  UNNEEDED, same version exists in internal repository
merida1macOS 10.14.6 Mojave / x86_64  OK    OK    OK    OK  UNNEEDED, same version exists in internal repository
Package 10/83HostnameOS / ArchINSTALLBUILDCHECKBUILD BIN
chromPlot 1.18.0  (landing page)
Karen Y. Orostica
Last Commit: 69bd469
Last Changed Date: 2020-10-27 11:11:29 -0400
malbec1Linux (Ubuntu 18.04.5 LTS) / x86_64  OK    OK    OK  UNNEEDED, same version exists in internal repository
tokay1Windows Server 2012 R2 Standard / x64  OK    OK    WARNINGS    OK  UNNEEDED, same version exists in internal repository
merida1macOS 10.14.6 Mojave / x86_64  OK    OK    OK    OK  UNNEEDED, same version exists in internal repository
Package 11/83HostnameOS / ArchINSTALLBUILDCHECKBUILD BIN
CHRONOS 1.18.0  (landing page)
Panos Balomenos
Last Commit: 359ccf9
Last Changed Date: 2020-10-27 11:14:35 -0400
malbec1Linux (Ubuntu 18.04.5 LTS) / x86_64  OK    OK    OK  UNNEEDED, same version exists in internal repository
tokay1Windows Server 2012 R2 Standard / x64  OK    OK    OK    OK  UNNEEDED, same version exists in internal repository
merida1macOS 10.14.6 Mojave / x86_64  OK    OK    OK    OK  UNNEEDED, same version exists in internal repository
Package 12/83HostnameOS / ArchINSTALLBUILDCHECKBUILD BIN
coMET 1.22.0  (landing page)
Tiphaine Martin
Last Commit: a5dc4f7
Last Changed Date: 2020-10-27 11:01:48 -0400
malbec1Linux (Ubuntu 18.04.5 LTS) / x86_64  OK    OK    OK  UNNEEDED, same version exists in internal repository
tokay1Windows Server 2012 R2 Standard / x64  OK    OK    OK    OK  UNNEEDED, same version exists in internal repository
merida1macOS 10.14.6 Mojave / x86_64  OK    OK    OK    OK  UNNEEDED, same version exists in internal repository
Package 13/83HostnameOS / ArchINSTALLBUILDCHECKBUILD BIN
cTRAP 1.8.0  (landing page)
Nuno Saraiva-Agostinho
Last Commit: 1bd4716
Last Changed Date: 2020-10-27 11:39:57 -0400
malbec1Linux (Ubuntu 18.04.5 LTS) / x86_64  OK    OK    OK  UNNEEDED, same version exists in internal repository
tokay1Windows Server 2012 R2 Standard / x64  OK    OK    OK    OK  UNNEEDED, same version exists in internal repository
merida1macOS 10.14.6 Mojave / x86_64  OK    OK    OK    OK  UNNEEDED, same version exists in internal repository
Package 14/83HostnameOS / ArchINSTALLBUILDCHECKBUILD BIN
customProDB 1.30.1  (landing page)
Xiaojing Wang
Last Commit: 2c66727
Last Changed Date: 2021-04-26 13:05:49 -0400
malbec1Linux (Ubuntu 18.04.5 LTS) / x86_64  OK    OK    OK  UNNEEDED, same version exists in internal repository
tokay1Windows Server 2012 R2 Standard / x64  OK    OK    OK    OK  UNNEEDED, same version exists in internal repository
merida1macOS 10.14.6 Mojave / x86_64  OK    OK    OK    OK  UNNEEDED, same version exists in internal repository
Package 15/83HostnameOS / ArchINSTALLBUILDCHECKBUILD BIN
dagLogo 1.28.1  (landing page)
Jianhong Ou
Last Commit: 28e6088
Last Changed Date: 2020-12-03 08:26:09 -0400
malbec1Linux (Ubuntu 18.04.5 LTS) / x86_64  OK    OK    OK  UNNEEDED, same version exists in internal repository
tokay1Windows Server 2012 R2 Standard / x64  OK    OK    OK    OK  UNNEEDED, same version exists in internal repository
merida1macOS 10.14.6 Mojave / x86_64  OK    OK    OK    OK  UNNEEDED, same version exists in internal repository
Package 16/83HostnameOS / ArchINSTALLBUILDCHECKBUILD BIN
DEXSeq 1.36.0  (landing page)
Alejandro Reyes
Last Commit: f0a361a
Last Changed Date: 2020-10-27 10:41:49 -0400
malbec1Linux (Ubuntu 18.04.5 LTS) / x86_64  OK    OK    OK  UNNEEDED, same version exists in internal repository
tokay1Windows Server 2012 R2 Standard / x64  OK    OK    OK    OK  UNNEEDED, same version exists in internal repository
merida1macOS 10.14.6 Mojave / x86_64  OK    OK    OK    OK  UNNEEDED, same version exists in internal repository
Package 17/83HostnameOS / ArchINSTALLBUILDCHECKBUILD BIN
diffloop 1.18.0  (landing page)
Caleb Lareau
Last Commit: df423a8
Last Changed Date: 2020-10-27 11:14:27 -0400
malbec1Linux (Ubuntu 18.04.5 LTS) / x86_64  OK    OK    OK  UNNEEDED, same version exists in internal repository
tokay1Windows Server 2012 R2 Standard / x64  OK    OK    WARNINGS    OK  UNNEEDED, same version exists in internal repository
merida1macOS 10.14.6 Mojave / x86_64  OK    OK    OK    OK  UNNEEDED, same version exists in internal repository
Package 18/83HostnameOS / ArchINSTALLBUILDCHECKBUILD BIN
DominoEffect 1.10.1  (landing page)
Marija Buljan
Last Commit: 4fcce39
Last Changed Date: 2021-04-16 10:19:46 -0400
malbec1Linux (Ubuntu 18.04.5 LTS) / x86_64  OK    OK    OK  UNNEEDED, same version exists in internal repository
tokay1Windows Server 2012 R2 Standard / x64  OK    OK    OK    OK  UNNEEDED, same version exists in internal repository
merida1macOS 10.14.6 Mojave / x86_64  OK    OK    OK    OK  UNNEEDED, same version exists in internal repository
Package 19/83HostnameOS / ArchINSTALLBUILDCHECKBUILD BIN
DrugVsDisease 2.32.0  (landing page)
j. Saez-Rodriguez
Last Commit: c8ef84c
Last Changed Date: 2020-10-27 10:49:01 -0400
malbec1Linux (Ubuntu 18.04.5 LTS) / x86_64  OK    OK    OK  UNNEEDED, same version exists in internal repository
tokay1Windows Server 2012 R2 Standard / x64  OK    OK    OK    OK  UNNEEDED, same version exists in internal repository
merida1macOS 10.14.6 Mojave / x86_64  OK    OK    OK    OK  UNNEEDED, same version exists in internal repository
Package 20/83HostnameOS / ArchINSTALLBUILDCHECKBUILD BIN
easyRNASeq 2.26.0  (landing page)
Nicolas Delhomme
Last Commit: e3ce60a
Last Changed Date: 2020-10-27 10:44:21 -0400
malbec1Linux (Ubuntu 18.04.5 LTS) / x86_64  OK    ERROR  skipped
tokay1Windows Server 2012 R2 Standard / x64  OK    ERROR  skippedskipped
merida1macOS 10.14.6 Mojave / x86_64  OK    OK    OK    OK  UNNEEDED, same version exists in internal repository
Package 21/83HostnameOS / ArchINSTALLBUILDCHECKBUILD BIN
EDASeq 2.24.0  (landing page)
Davide Risso
Last Commit: c7c4531
Last Changed Date: 2020-10-27 10:42:52 -0400
malbec1Linux (Ubuntu 18.04.5 LTS) / x86_64  OK    OK    OK  UNNEEDED, same version exists in internal repository
tokay1Windows Server 2012 R2 Standard / x64  OK    OK    OK    OK  UNNEEDED, same version exists in internal repository
merida1macOS 10.14.6 Mojave / x86_64  OK    OK    OK    OK  UNNEEDED, same version exists in internal repository
Package 22/83HostnameOS / ArchINSTALLBUILDCHECKBUILD BIN
ELMER 2.14.0  (landing page)
Tiago Chedraoui Silva
Last Commit: 1a74024
Last Changed Date: 2020-10-27 11:05:43 -0400
malbec1Linux (Ubuntu 18.04.5 LTS) / x86_64  OK    OK    OK  UNNEEDED, same version exists in internal repository
tokay1Windows Server 2012 R2 Standard / x64  OK    OK    OK    OK  UNNEEDED, same version exists in internal repository
merida1macOS 10.14.6 Mojave / x86_64  OK    OK    OK    OK  UNNEEDED, same version exists in internal repository
Package 23/83HostnameOS / ArchINSTALLBUILDCHECKBUILD BIN
FRASER 1.2.1  (landing page)
Christian Mertes
Last Commit: 9160638
Last Changed Date: 2021-01-31 17:38:49 -0400
malbec1Linux (Ubuntu 18.04.5 LTS) / x86_64  OK    OK    OK  UNNEEDED, same version exists in internal repository
tokay1Windows Server 2012 R2 Standard / x64  OK    OK    OK    OK  UNNEEDED, same version exists in internal repository
merida1macOS 10.14.6 Mojave / x86_64  OK    OK    OK    OK  UNNEEDED, same version exists in internal repository
Package 24/83HostnameOS / ArchINSTALLBUILDCHECKBUILD BIN
GDCRNATools 1.10.1  (landing page)
Ruidong Li
Last Commit: 0827796
Last Changed Date: 2020-11-25 02:46:19 -0400
malbec1Linux (Ubuntu 18.04.5 LTS) / x86_64  OK    OK    OK  UNNEEDED, same version exists in internal repository
tokay1Windows Server 2012 R2 Standard / x64  OK    OK    OK    OK  UNNEEDED, same version exists in internal repository
merida1macOS 10.14.6 Mojave / x86_64  OK    OK    OK    OK  UNNEEDED, same version exists in internal repository
Package 25/83HostnameOS / ArchINSTALLBUILDCHECKBUILD BIN
GeneAccord 1.8.0  (landing page)
Ariane L. Moore
Last Commit: 0413942
Last Changed Date: 2020-10-27 11:37:41 -0400
malbec1Linux (Ubuntu 18.04.5 LTS) / x86_64  OK    OK    OK  UNNEEDED, same version exists in internal repository
tokay1Windows Server 2012 R2 Standard / x64  OK    OK    OK    OK  UNNEEDED, same version exists in internal repository
merida1macOS 10.14.6 Mojave / x86_64  OK    OK    OK    OK  UNNEEDED, same version exists in internal repository
Package 26/83HostnameOS / ArchINSTALLBUILDCHECKBUILD BIN
genefu 2.22.1  (landing page)
Benjamin Haibe-Kains
Last Commit: a5a0480
Last Changed Date: 2021-01-25 16:19:14 -0400
malbec1Linux (Ubuntu 18.04.5 LTS) / x86_64  OK    OK    OK  UNNEEDED, same version exists in internal repository
tokay1Windows Server 2012 R2 Standard / x64  OK    OK    WARNINGS    OK  UNNEEDED, same version exists in internal repository
merida1macOS 10.14.6 Mojave / x86_64  OK    OK    OK    OK  UNNEEDED, same version exists in internal repository
Package 27/83HostnameOS / ArchINSTALLBUILDCHECKBUILD BIN
GenomicFeatures 1.42.3  (landing page)
Bioconductor Package Maintainer
Last Commit: 9ce5435
Last Changed Date: 2021-03-31 23:51:33 -0400
malbec1Linux (Ubuntu 18.04.5 LTS) / x86_64  OK    OK    OK  UNNEEDED, same version exists in internal repository
tokay1Windows Server 2012 R2 Standard / x64  OK    OK    WARNINGS    OK  UNNEEDED, same version exists in internal repository
merida1macOS 10.14.6 Mojave / x86_64  OK    OK    OK    OK  UNNEEDED, same version exists in internal repository
Package 28/83HostnameOS / ArchINSTALLBUILDCHECKBUILD BIN
GenomicOZone 1.4.1  (landing page)
Mingzhou Song
Last Commit: 4bc5a11
Last Changed Date: 2021-04-27 11:18:29 -0400
malbec1Linux (Ubuntu 18.04.5 LTS) / x86_64  OK    OK    OK  UNNEEDED, same version exists in internal repository
tokay1Windows Server 2012 R2 Standard / x64  OK    OK    OK    OK  UNNEEDED, same version exists in internal repository
merida1macOS 10.14.6 Mojave / x86_64  OK    OK    OK    OK  UNNEEDED, same version exists in internal repository
Package 29/83HostnameOS / ArchINSTALLBUILDCHECKBUILD BIN
GenVisR 1.22.1  (landing page)
Zachary Skidmore
Last Commit: 2e30ead
Last Changed Date: 2020-12-25 19:00:29 -0400
malbec1Linux (Ubuntu 18.04.5 LTS) / x86_64  OK    OK    OK  UNNEEDED, same version exists in internal repository
tokay1Windows Server 2012 R2 Standard / x64  OK    OK    OK    OK  UNNEEDED, same version exists in internal repository
merida1macOS 10.14.6 Mojave / x86_64  OK    OK    ERROR    OK  
Package 30/83HostnameOS / ArchINSTALLBUILDCHECKBUILD BIN
gespeR 1.22.0  (landing page)
Fabian Schmich
Last Commit: b3af830
Last Changed Date: 2020-10-27 11:01:51 -0400
malbec1Linux (Ubuntu 18.04.5 LTS) / x86_64  OK    OK    WARNINGS  UNNEEDED, same version exists in internal repository
tokay1Windows Server 2012 R2 Standard / x64  OK    OK    WARNINGS    OK  UNNEEDED, same version exists in internal repository
merida1macOS 10.14.6 Mojave / x86_64  OK    OK    WARNINGS    OK  UNNEEDED, same version exists in internal repository
Package 31/83HostnameOS / ArchINSTALLBUILDCHECKBUILD BIN
glmSparseNet 1.8.1  (landing page)
André Veríssimo
Last Commit: 90162a3
Last Changed Date: 2021-04-13 13:13:39 -0400
malbec1Linux (Ubuntu 18.04.5 LTS) / x86_64  OK    OK    OK  UNNEEDED, same version exists in internal repository
tokay1Windows Server 2012 R2 Standard / x64  OK    OK    OK    OK  UNNEEDED, same version exists in internal repository
merida1macOS 10.14.6 Mojave / x86_64  OK    OK    OK    OK  UNNEEDED, same version exists in internal repository
Package 32/83HostnameOS / ArchINSTALLBUILDCHECKBUILD BIN
GOexpress 1.24.0  (landing page)
Kevin Rue-Albrecht
Last Commit: 6c7a0d5
Last Changed Date: 2020-10-27 10:59:02 -0400
malbec1Linux (Ubuntu 18.04.5 LTS) / x86_64  OK    OK    OK  UNNEEDED, same version exists in internal repository
tokay1Windows Server 2012 R2 Standard / x64  OK    OK    WARNINGS    OK  UNNEEDED, same version exists in internal repository
merida1macOS 10.14.6 Mojave / x86_64  OK    OK    OK    OK  UNNEEDED, same version exists in internal repository
Package 33/83HostnameOS / ArchINSTALLBUILDCHECKBUILD BIN
goSTAG 1.14.2  (landing page)
Brian D. Bennett
Last Commit: 33319d2
Last Changed Date: 2020-11-05 13:53:10 -0400
malbec1Linux (Ubuntu 18.04.5 LTS) / x86_64  OK    OK    OK  UNNEEDED, same version exists in internal repository
tokay1Windows Server 2012 R2 Standard / x64  OK    OK    OK    OK  UNNEEDED, same version exists in internal repository
merida1macOS 10.14.6 Mojave / x86_64  OK    OK    OK    OK  UNNEEDED, same version exists in internal repository
Package 34/83HostnameOS / ArchINSTALLBUILDCHECKBUILD BIN
gpart 1.8.0  (landing page)
Sun Ah Kim
Last Commit: 54a9514
Last Changed Date: 2020-10-27 11:38:51 -0400
malbec1Linux (Ubuntu 18.04.5 LTS) / x86_64  OK    OK    OK  UNNEEDED, same version exists in internal repository
tokay1Windows Server 2012 R2 Standard / x64  OK    OK    OK    OK  UNNEEDED, same version exists in internal repository
merida1macOS 10.14.6 Mojave / x86_64  OK    OK    OK    OK  UNNEEDED, same version exists in internal repository
Package 35/83HostnameOS / ArchINSTALLBUILDCHECKBUILD BIN
Gviz 1.34.1  (landing page)
Robert Ivanek
Last Commit: 5aa425a
Last Changed Date: 2021-03-14 18:05:41 -0400
malbec1Linux (Ubuntu 18.04.5 LTS) / x86_64  OK    OK    OK  UNNEEDED, same version exists in internal repository
tokay1Windows Server 2012 R2 Standard / x64  OK    OK    OK    OK  UNNEEDED, same version exists in internal repository
merida1macOS 10.14.6 Mojave / x86_64  OK    OK    OK    OK  UNNEEDED, same version exists in internal repository
Package 36/83HostnameOS / ArchINSTALLBUILDCHECKBUILD BIN
isobar 1.36.0  (landing page)
Florian P Breitwieser
Last Commit: 37cd3b5
Last Changed Date: 2020-10-27 10:43:37 -0400
malbec1Linux (Ubuntu 18.04.5 LTS) / x86_64  OK    OK    WARNINGS  UNNEEDED, same version exists in internal repository
tokay1Windows Server 2012 R2 Standard / x64  OK    OK    WARNINGS    OK  UNNEEDED, same version exists in internal repository
merida1macOS 10.14.6 Mojave / x86_64  OK    OK    WARNINGS    OK  UNNEEDED, same version exists in internal repository
Package 37/83HostnameOS / ArchINSTALLBUILDCHECKBUILD BIN
KEGGprofile 1.32.0  (landing page)
Shilin Zhao
Last Commit: 1f969f7
Last Changed Date: 2020-10-27 10:46:18 -0400
malbec1Linux (Ubuntu 18.04.5 LTS) / x86_64  OK    OK    OK  UNNEEDED, same version exists in internal repository
tokay1Windows Server 2012 R2 Standard / x64  OK    OK    OK    OK  UNNEEDED, same version exists in internal repository
merida1macOS 10.14.6 Mojave / x86_64  OK    OK    OK    OK  UNNEEDED, same version exists in internal repository
Package 38/83HostnameOS / ArchINSTALLBUILDCHECKBUILD BIN
mCSEA 1.10.0  (landing page)
Jordi Martorell-Marugán
Last Commit: a480d3b
Last Changed Date: 2020-10-27 11:31:18 -0400
malbec1Linux (Ubuntu 18.04.5 LTS) / x86_64  OK    OK    OK  UNNEEDED, same version exists in internal repository
tokay1Windows Server 2012 R2 Standard / x64  OK    OK    OK    OK  UNNEEDED, same version exists in internal repository
merida1macOS 10.14.6 Mojave / x86_64  OK    OK    OK    OK  UNNEEDED, same version exists in internal repository
Package 39/83HostnameOS / ArchINSTALLBUILDCHECKBUILD BIN
MEDIPS 1.42.0  (landing page)
Lukas Chavez
Last Commit: 661e51c
Last Changed Date: 2020-10-27 10:39:33 -0400
malbec1Linux (Ubuntu 18.04.5 LTS) / x86_64  OK    OK    OK  UNNEEDED, same version exists in internal repository
tokay1Windows Server 2012 R2 Standard / x64  OK    OK    OK    OK  UNNEEDED, same version exists in internal repository
merida1macOS 10.14.6 Mojave / x86_64  OK    OK    OK    OK  UNNEEDED, same version exists in internal repository
Package 40/83HostnameOS / ArchINSTALLBUILDCHECKBUILD BIN
MetaboSignal 1.20.0  (landing page)
Andrea Rodriguez-Martinez
Last Commit: 5554397
Last Changed Date: 2020-10-27 11:17:25 -0400
malbec1Linux (Ubuntu 18.04.5 LTS) / x86_64  OK    OK    OK  UNNEEDED, same version exists in internal repository
tokay1Windows Server 2012 R2 Standard / x64  OK    OK    OK    OK  UNNEEDED, same version exists in internal repository
merida1macOS 10.14.6 Mojave / x86_64  OK    OK    OK    OK  UNNEEDED, same version exists in internal repository
Package 41/83HostnameOS / ArchINSTALLBUILDCHECKBUILD BIN
metaseqR 1.30.0  (landing page)
Panagiotis Moulos
Last Commit: 42215cd
Last Changed Date: 2020-10-27 10:55:21 -0400
malbec1Linux (Ubuntu 18.04.5 LTS) / x86_64  OK    OK    WARNINGS  UNNEEDED, same version exists in internal repository
tokay1Windows Server 2012 R2 Standard / x64  OK    OK    WARNINGS    OK  UNNEEDED, same version exists in internal repository
merida1macOS 10.14.6 Mojave / x86_64  OK    OK    WARNINGS    OK  UNNEEDED, same version exists in internal repository
Package 42/83HostnameOS / ArchINSTALLBUILDCHECKBUILD BIN
metaseqR2 1.2.0  (landing page)
Panagiotis Moulos
Last Commit: 2bcc067
Last Changed Date: 2020-10-27 11:57:00 -0400
malbec1Linux (Ubuntu 18.04.5 LTS) / x86_64  OK    OK    OK  UNNEEDED, same version exists in internal repository
tokay1Windows Server 2012 R2 Standard / x64  OK    OK    OK    OK  UNNEEDED, same version exists in internal repository
merida1macOS 10.14.6 Mojave / x86_64  OK    OK    OK    OK  UNNEEDED, same version exists in internal repository
Package 43/83HostnameOS / ArchINSTALLBUILDCHECKBUILD BIN
methyAnalysis 1.32.0  (landing page)
Lei Huang
Last Commit: 722c722
Last Changed Date: 2020-10-27 10:46:56 -0400
malbec1Linux (Ubuntu 18.04.5 LTS) / x86_64  OK    OK    WARNINGS  UNNEEDED, same version exists in internal repository
tokay1Windows Server 2012 R2 Standard / x64... NOT SUPPORTED ...
merida1macOS 10.14.6 Mojave / x86_64  OK    OK    WARNINGS    OK  UNNEEDED, same version exists in internal repository
Package 44/83HostnameOS / ArchINSTALLBUILDCHECKBUILD BIN
MGFR 1.16.0  (landing page)
Khadija El Amrani
Last Commit: 93b83a8
Last Changed Date: 2020-10-27 11:15:55 -0400
malbec1Linux (Ubuntu 18.04.5 LTS) / x86_64  OK    OK    OK  UNNEEDED, same version exists in internal repository
tokay1Windows Server 2012 R2 Standard / x64  OK    OK    OK    OK  UNNEEDED, same version exists in internal repository
merida1macOS 10.14.6 Mojave / x86_64  OK    OK    OK    OK  UNNEEDED, same version exists in internal repository
Package 45/83HostnameOS / ArchINSTALLBUILDCHECKBUILD BIN
MineICA 1.30.0  (landing page)
Anne Biton
Last Commit: 136dd69
Last Changed Date: 2020-10-27 10:49:15 -0400
malbec1Linux (Ubuntu 18.04.5 LTS) / x86_64  OK    OK    WARNINGS  UNNEEDED, same version exists in internal repository
tokay1Windows Server 2012 R2 Standard / x64  OK    OK    WARNINGS    OK  UNNEEDED, same version exists in internal repository
merida1macOS 10.14.6 Mojave / x86_64  OK    OK    WARNINGS    OK  UNNEEDED, same version exists in internal repository
Package 46/83HostnameOS / ArchINSTALLBUILDCHECKBUILD BIN
MouseFM 1.0.0  (landing page)
Matthias Munz
Last Commit: b63d244
Last Changed Date: 2020-10-27 11:58:14 -0400
malbec1Linux (Ubuntu 18.04.5 LTS) / x86_64  OK    OK    ERROR  
tokay1Windows Server 2012 R2 Standard / x64  OK    OK    ERROR    OK  
merida1macOS 10.14.6 Mojave / x86_64  OK    OK    ERROR    OK  
Package 47/83HostnameOS / ArchINSTALLBUILDCHECKBUILD BIN
NoRCE 1.2.0  (landing page)
Gulden Olgun
Last Commit: 0ff701b
Last Changed Date: 2020-10-27 11:54:30 -0400
malbec1Linux (Ubuntu 18.04.5 LTS) / x86_64  OK    OK    OK  UNNEEDED, same version exists in internal repository
tokay1Windows Server 2012 R2 Standard / x64  OK    OK    ERROR    OK  
merida1macOS 10.14.6 Mojave / x86_64  OK    OK    OK    OK  UNNEEDED, same version exists in internal repository
Package 48/83HostnameOS / ArchINSTALLBUILDCHECKBUILD BIN
OncoScore 1.18.0  (landing page)
Luca De Sano
Last Commit: 73d475a
Last Changed Date: 2020-10-27 11:12:51 -0400
malbec1Linux (Ubuntu 18.04.5 LTS) / x86_64  OK    OK    OK  UNNEEDED, same version exists in internal repository
tokay1Windows Server 2012 R2 Standard / x64  OK    OK    OK    OK  UNNEEDED, same version exists in internal repository
merida1macOS 10.14.6 Mojave / x86_64  OK    OK    OK    OK  UNNEEDED, same version exists in internal repository
Package 49/83HostnameOS / ArchINSTALLBUILDCHECKBUILD BIN
oposSOM 2.8.0  (landing page)
Henry Loeffler-Wirth
Last Commit: a3dbe7e
Last Changed Date: 2020-10-27 10:57:22 -0400
malbec1Linux (Ubuntu 18.04.5 LTS) / x86_64  OK    OK    WARNINGS  UNNEEDED, same version exists in internal repository
tokay1Windows Server 2012 R2 Standard / x64  OK    OK    WARNINGS    OK  UNNEEDED, same version exists in internal repository
merida1macOS 10.14.6 Mojave / x86_64  OK    OK    WARNINGS    OK  UNNEEDED, same version exists in internal repository
Package 50/83HostnameOS / ArchINSTALLBUILDCHECKBUILD BIN
pcaExplorer 2.16.0  (landing page)
Federico Marini
Last Commit: d1867b5
Last Changed Date: 2020-10-27 11:13:51 -0400
malbec1Linux (Ubuntu 18.04.5 LTS) / x86_64  OK    OK    OK  UNNEEDED, same version exists in internal repository
tokay1Windows Server 2012 R2 Standard / x64  OK    OK    OK    OK  UNNEEDED, same version exists in internal repository
merida1macOS 10.14.6 Mojave / x86_64  OK    OK    OK    OK  UNNEEDED, same version exists in internal repository
Package 51/83HostnameOS / ArchINSTALLBUILDCHECKBUILD BIN
PGA 1.20.0  (landing page)
Bo Wen , Shaohang Xu
Last Commit: 4e7418a
Last Changed Date: 2020-10-27 11:05:59 -0400
malbec1Linux (Ubuntu 18.04.5 LTS) / x86_64  OK    OK    WARNINGS  UNNEEDED, same version exists in internal repository
tokay1Windows Server 2012 R2 Standard / x64  OK    OK    WARNINGS    OK  UNNEEDED, same version exists in internal repository
merida1macOS 10.14.6 Mojave / x86_64  ERROR    ERROR  skippedskipped
Package 52/83HostnameOS / ArchINSTALLBUILDCHECKBUILD BIN
phenoTest 1.38.0  (landing page)
Evarist Planet
Last Commit: 8d87466
Last Changed Date: 2020-10-27 10:40:00 -0400
malbec1Linux (Ubuntu 18.04.5 LTS) / x86_64  OK    OK    OK  UNNEEDED, same version exists in internal repository
tokay1Windows Server 2012 R2 Standard / x64  OK    OK    OK    OK  UNNEEDED, same version exists in internal repository
merida1macOS 10.14.6 Mojave / x86_64  OK    OK    OK    OK  UNNEEDED, same version exists in internal repository
Package 53/83HostnameOS / ArchINSTALLBUILDCHECKBUILD BIN
PPInfer 1.16.0  (landing page)
Dongmin Jung
Last Commit: 899c700
Last Changed Date: 2020-10-27 11:23:58 -0400
malbec1Linux (Ubuntu 18.04.5 LTS) / x86_64  OK    OK    OK  UNNEEDED, same version exists in internal repository
tokay1Windows Server 2012 R2 Standard / x64  OK    OK    OK    OK  UNNEEDED, same version exists in internal repository
merida1macOS 10.14.6 Mojave / x86_64  OK    OK    ERROR    OK  
Package 54/83HostnameOS / ArchINSTALLBUILDCHECKBUILD BIN
PrecisionTrialDrawer 1.6.0  (landing page)
Giorgio Melloni
Last Commit: 4d8e877
Last Changed Date: 2020-10-27 11:41:04 -0400
malbec1Linux (Ubuntu 18.04.5 LTS) / x86_64  OK    OK    OK  UNNEEDED, same version exists in internal repository
tokay1Windows Server 2012 R2 Standard / x64  OK    OK    OK    OK  UNNEEDED, same version exists in internal repository
merida1macOS 10.14.6 Mojave / x86_64  OK    OK    OK    OK  UNNEEDED, same version exists in internal repository
Package 55/83HostnameOS / ArchINSTALLBUILDCHECKBUILD BIN
pRoloc 1.30.0  (landing page)
Laurent Gatto
Last Commit: 9a69c5a
Last Changed Date: 2020-10-27 10:48:13 -0400
malbec1Linux (Ubuntu 18.04.5 LTS) / x86_64  OK    OK    OK  UNNEEDED, same version exists in internal repository
tokay1Windows Server 2012 R2 Standard / x64  OK    OK    WARNINGS    OK  UNNEEDED, same version exists in internal repository
merida1macOS 10.14.6 Mojave / x86_64  OK    OK    ERROR    OK  
Package 56/83HostnameOS / ArchINSTALLBUILDCHECKBUILD BIN
ProteoMM 1.8.0  (landing page)
Yuliya V Karpievitch
Last Commit: 3aecd00
Last Changed Date: 2020-10-27 11:39:55 -0400
malbec1Linux (Ubuntu 18.04.5 LTS) / x86_64  OK    OK    OK  UNNEEDED, same version exists in internal repository
tokay1Windows Server 2012 R2 Standard / x64  OK    OK    OK    OK  UNNEEDED, same version exists in internal repository
merida1macOS 10.14.6 Mojave / x86_64  OK    OK    OK    OK  UNNEEDED, same version exists in internal repository
Package 57/83HostnameOS / ArchINSTALLBUILDCHECKBUILD BIN
PSICQUIC 1.28.0  (landing page)
Paul Shannon
Last Commit: 60e58d6
Last Changed Date: 2020-10-27 10:53:53 -0400
malbec1Linux (Ubuntu 18.04.5 LTS) / x86_64  OK    OK    WARNINGS  UNNEEDED, same version exists in internal repository
tokay1Windows Server 2012 R2 Standard / x64  OK    OK    WARNINGS    OK  UNNEEDED, same version exists in internal repository
merida1macOS 10.14.6 Mojave / x86_64  OK    OK    WARNINGS    OK  UNNEEDED, same version exists in internal repository
Package 58/83HostnameOS / ArchINSTALLBUILDCHECKBUILD BIN
psygenet2r 1.22.5  (landing page)
Alba Gutierrez-Sacristan
Last Commit: c203eaf
Last Changed Date: 2021-01-28 14:18:44 -0400
malbec1Linux (Ubuntu 18.04.5 LTS) / x86_64  OK    OK    OK  UNNEEDED, same version exists in internal repository
tokay1Windows Server 2012 R2 Standard / x64  OK    OK    WARNINGS    OK  UNNEEDED, same version exists in internal repository
merida1macOS 10.14.6 Mojave / x86_64  OK    OK    OK    OK  UNNEEDED, same version exists in internal repository
Package 59/83HostnameOS / ArchINSTALLBUILDCHECKBUILD BIN
pwOmics 1.22.0  (landing page)
Maren Sitte
Last Commit: ae99184
Last Changed Date: 2020-10-27 11:05:19 -0400
malbec1Linux (Ubuntu 18.04.5 LTS) / x86_64  OK    OK    WARNINGS  UNNEEDED, same version exists in internal repository
tokay1Windows Server 2012 R2 Standard / x64  OK    OK    WARNINGS    OK  UNNEEDED, same version exists in internal repository
merida1macOS 10.14.6 Mojave / x86_64  OK    OK    WARNINGS    OK  UNNEEDED, same version exists in internal repository
Package 60/83HostnameOS / ArchINSTALLBUILDCHECKBUILD BIN
R453Plus1Toolbox 1.40.0  (landing page)
Hans-Ulrich Klein
Last Commit: 4524058
Last Changed Date: 2020-10-27 10:39:28 -0400
malbec1Linux (Ubuntu 18.04.5 LTS) / x86_64  OK    OK    OK  UNNEEDED, same version exists in internal repository
tokay1Windows Server 2012 R2 Standard / x64  OK    OK    OK    OK  UNNEEDED, same version exists in internal repository
merida1macOS 10.14.6 Mojave / x86_64  OK    OK    OK    OK  UNNEEDED, same version exists in internal repository
Package 61/83HostnameOS / ArchINSTALLBUILDCHECKBUILD BIN
ramwas 1.14.0  (landing page)
Andrey A Shabalin
Last Commit: b13659e
Last Changed Date: 2020-10-27 11:20:16 -0400
malbec1Linux (Ubuntu 18.04.5 LTS) / x86_64  OK    OK    OK  UNNEEDED, same version exists in internal repository
tokay1Windows Server 2012 R2 Standard / x64  OK    OK    WARNINGS    OK  UNNEEDED, same version exists in internal repository
merida1macOS 10.14.6 Mojave / x86_64  OK    OK    OK    OK  UNNEEDED, same version exists in internal repository
Package 62/83HostnameOS / ArchINSTALLBUILDCHECKBUILD BIN
recoup 1.18.0  (landing page)
Panagiotis Moulos
Last Commit: 71261f1
Last Changed Date: 2020-10-27 11:12:57 -0400
malbec1Linux (Ubuntu 18.04.5 LTS) / x86_64  OK    OK    OK  UNNEEDED, same version exists in internal repository
tokay1Windows Server 2012 R2 Standard / x64  OK    OK    OK    OK  UNNEEDED, same version exists in internal repository
merida1macOS 10.14.6 Mojave / x86_64  OK    OK    OK    OK  UNNEEDED, same version exists in internal repository
Package 63/83HostnameOS / ArchINSTALLBUILDCHECKBUILD BIN
RepViz 1.6.0  (landing page)
Thomas Faux, Asta Laiho
Last Commit: 10854f8
Last Changed Date: 2020-10-27 11:45:01 -0400
malbec1Linux (Ubuntu 18.04.5 LTS) / x86_64  OK    OK    WARNINGS  UNNEEDED, same version exists in internal repository
tokay1Windows Server 2012 R2 Standard / x64  OK    OK    WARNINGS    OK  UNNEEDED, same version exists in internal repository
merida1macOS 10.14.6 Mojave / x86_64  OK    OK    WARNINGS    OK  UNNEEDED, same version exists in internal repository
Package 64/83HostnameOS / ArchINSTALLBUILDCHECKBUILD BIN
rgsepd 1.22.0  (landing page)
Karl Stamm
Last Commit: 3c6fade
Last Changed Date: 2020-10-27 11:01:40 -0400
malbec1Linux (Ubuntu 18.04.5 LTS) / x86_64  OK    OK    OK  UNNEEDED, same version exists in internal repository
tokay1Windows Server 2012 R2 Standard / x64  OK    OK    OK    OK  UNNEEDED, same version exists in internal repository
merida1macOS 10.14.6 Mojave / x86_64  OK    OK    OK    OK  UNNEEDED, same version exists in internal repository
Package 65/83HostnameOS / ArchINSTALLBUILDCHECKBUILD BIN
RIPAT 1.0.0  (landing page)
Min-Jeong Baek
Last Commit: 3f0561e
Last Changed Date: 2020-10-27 12:00:00 -0400
malbec1Linux (Ubuntu 18.04.5 LTS) / x86_64  OK    OK    OK  UNNEEDED, same version exists in internal repository
tokay1Windows Server 2012 R2 Standard / x64  OK    OK    OK    OK  UNNEEDED, same version exists in internal repository
merida1macOS 10.14.6 Mojave / x86_64  OK    OK    OK    OK  UNNEEDED, same version exists in internal repository
Package 66/83HostnameOS / ArchINSTALLBUILDCHECKBUILD BIN
RNAither 2.38.0  (landing page)
Lars Kaderali
Last Commit: c2ad330
Last Changed Date: 2020-10-27 10:34:29 -0400
malbec1Linux (Ubuntu 18.04.5 LTS) / x86_64  OK    OK    WARNINGS  UNNEEDED, same version exists in internal repository
tokay1Windows Server 2012 R2 Standard / x64  OK    OK    WARNINGS    OK  UNNEEDED, same version exists in internal repository
merida1macOS 10.14.6 Mojave / x86_64  OK    OK    WARNINGS    OK  UNNEEDED, same version exists in internal repository
Package 67/83HostnameOS / ArchINSTALLBUILDCHECKBUILD BIN
RnaSeqSampleSize 2.0.0  (landing page)
Shilin Zhao Developer
Last Commit: 8998a44
Last Changed Date: 2020-10-27 12:02:33 -0400
malbec1Linux (Ubuntu 18.04.5 LTS) / x86_64  OK    OK    OK  UNNEEDED, same version exists in internal repository
tokay1Windows Server 2012 R2 Standard / x64  OK    OK    OK    OK  UNNEEDED, same version exists in internal repository
merida1macOS 10.14.6 Mojave / x86_64  OK    OK    OK    OK  UNNEEDED, same version exists in internal repository
Package 68/83HostnameOS / ArchINSTALLBUILDCHECKBUILD BIN
Roleswitch 1.28.0  (landing page)
Yue Li
Last Commit: 16aabfe
Last Changed Date: 2020-10-27 10:52:35 -0400
malbec1Linux (Ubuntu 18.04.5 LTS) / x86_64  OK    OK    ERROR  
tokay1Windows Server 2012 R2 Standard / x64  OK    OK    ERROR    OK  
merida1macOS 10.14.6 Mojave / x86_64  OK    OK    ERROR    OK  
Package 69/83HostnameOS / ArchINSTALLBUILDCHECKBUILD BIN
scPipe 1.12.0  (landing page)
Luyi Tian
Last Commit: 8acde69
Last Changed Date: 2020-10-27 11:28:50 -0400
malbec1Linux (Ubuntu 18.04.5 LTS) / x86_64  OK    OK    OK  UNNEEDED, same version exists in internal repository
tokay1Windows Server 2012 R2 Standard / x64  OK    OK    OK    OK  UNNEEDED, same version exists in internal repository
merida1macOS 10.14.6 Mojave / x86_64  OK    OK    OK    OK  UNNEEDED, same version exists in internal repository
Package 70/83HostnameOS / ArchINSTALLBUILDCHECKBUILD BIN
seq2pathway 1.22.0  (landing page)
Xinan Yang with contribution from Jennifer Sun
Last Commit: 01571d8
Last Changed Date: 2020-10-27 11:02:11 -0400
malbec1Linux (Ubuntu 18.04.5 LTS) / x86_64  OK    OK    WARNINGS  UNNEEDED, same version exists in internal repository
tokay1Windows Server 2012 R2 Standard / x64  OK    OK    WARNINGS    OK  UNNEEDED, same version exists in internal repository
merida1macOS 10.14.6 Mojave / x86_64  OK    OK    WARNINGS    OK  UNNEEDED, same version exists in internal repository
Package 71/83HostnameOS / ArchINSTALLBUILDCHECKBUILD BIN
SeqGSEA 1.30.0  (landing page)
Xi Wang
Last Commit: 8c89028
Last Changed Date: 2020-10-27 10:50:11 -0400
malbec1Linux (Ubuntu 18.04.5 LTS) / x86_64  OK    OK    WARNINGS  UNNEEDED, same version exists in internal repository
tokay1Windows Server 2012 R2 Standard / x64  OK    OK    WARNINGS    OK  UNNEEDED, same version exists in internal repository
merida1macOS 10.14.6 Mojave / x86_64  OK    OK    WARNINGS    OK  UNNEEDED, same version exists in internal repository
Package 72/83HostnameOS / ArchINSTALLBUILDCHECKBUILD BIN
SPLINTER 1.16.0  (landing page)
Diana Low
Last Commit: 0cd3dd0
Last Changed Date: 2020-10-27 11:18:03 -0400
malbec1Linux (Ubuntu 18.04.5 LTS) / x86_64  OK    OK    OK  UNNEEDED, same version exists in internal repository
tokay1Windows Server 2012 R2 Standard / x64  OK    OK    WARNINGS    OK  UNNEEDED, same version exists in internal repository
merida1macOS 10.14.6 Mojave / x86_64  OK    OK    OK    OK  UNNEEDED, same version exists in internal repository
Package 73/83HostnameOS / ArchINSTALLBUILDCHECKBUILD BIN
Sushi 1.28.0  (landing page)
Douglas H Phanstiel
Last Commit: 9e8298e
Last Changed Date: 2020-10-27 10:56:16 -0400
malbec1Linux (Ubuntu 18.04.5 LTS) / x86_64  OK    OK    WARNINGS  UNNEEDED, same version exists in internal repository
tokay1Windows Server 2012 R2 Standard / x64  OK    OK    WARNINGS    OK  UNNEEDED, same version exists in internal repository
merida1macOS 10.14.6 Mojave / x86_64  OK    OK    WARNINGS    OK  UNNEEDED, same version exists in internal repository
Package 74/83HostnameOS / ArchINSTALLBUILDCHECKBUILD BIN
SWATH2stats 1.20.1  (landing page)
Peter Blattmann
Last Commit: c27aa06
Last Changed Date: 2021-04-16 09:46:28 -0400
malbec1Linux (Ubuntu 18.04.5 LTS) / x86_64  OK    OK    OK  UNNEEDED, same version exists in internal repository
tokay1Windows Server 2012 R2 Standard / x64  OK    OK    OK    OK  UNNEEDED, same version exists in internal repository
merida1macOS 10.14.6 Mojave / x86_64  OK    OK    OK    OK  UNNEEDED, same version exists in internal repository
Package 75/83HostnameOS / ArchINSTALLBUILDCHECKBUILD BIN
TCGAbiolinks 2.18.0  (landing page)
Tiago Chedraoui Silva
Last Commit: df6b579
Last Changed Date: 2020-10-27 11:07:19 -0400
malbec1Linux (Ubuntu 18.04.5 LTS) / x86_64  OK    OK    OK  UNNEEDED, same version exists in internal repository
tokay1Windows Server 2012 R2 Standard / x64  OK    OK    OK    OK  UNNEEDED, same version exists in internal repository
merida1macOS 10.14.6 Mojave / x86_64  OK    OK    OK    OK  UNNEEDED, same version exists in internal repository
Package 76/83HostnameOS / ArchINSTALLBUILDCHECKBUILD BIN
TFEA.ChIP 1.10.0  (landing page)
Laura Puente Santamaría
Last Commit: f4e809a
Last Changed Date: 2020-10-27 11:30:44 -0400
malbec1Linux (Ubuntu 18.04.5 LTS) / x86_64  OK    OK    OK  UNNEEDED, same version exists in internal repository
tokay1Windows Server 2012 R2 Standard / x64  OK    OK    OK    OK  UNNEEDED, same version exists in internal repository
merida1macOS 10.14.6 Mojave / x86_64  OK    OK    OK    OK  UNNEEDED, same version exists in internal repository
Package 77/83HostnameOS / ArchINSTALLBUILDCHECKBUILD BIN
TimiRGeN 1.0.6  (landing page)
Krutik Patel
Last Commit: ef00328
Last Changed Date: 2021-04-28 08:21:03 -0400
malbec1Linux (Ubuntu 18.04.5 LTS) / x86_64  OK    OK    OK  UNNEEDED, same version exists in internal repository
tokay1Windows Server 2012 R2 Standard / x64  OK    OK    OK    OK  UNNEEDED, same version exists in internal repository
merida1macOS 10.14.6 Mojave / x86_64  OK    OK    OK    OK  UNNEEDED, same version exists in internal repository
Package 78/83HostnameOS / ArchINSTALLBUILDCHECKBUILD BIN
transcriptogramer 1.12.0  (landing page)
Diego Morais
Last Commit: a185338
Last Changed Date: 2020-10-27 11:29:52 -0400
malbec1Linux (Ubuntu 18.04.5 LTS) / x86_64  OK    OK    OK  UNNEEDED, same version exists in internal repository
tokay1Windows Server 2012 R2 Standard / x64  OK    OK    OK    OK  UNNEEDED, same version exists in internal repository
merida1macOS 10.14.6 Mojave / x86_64  OK    OK    OK    OK  UNNEEDED, same version exists in internal repository
Package 79/83HostnameOS / ArchINSTALLBUILDCHECKBUILD BIN
trena 1.12.1  (landing page)
Paul Shannon
Last Commit: 8e38d79
Last Changed Date: 2020-11-13 13:36:46 -0400
malbec1Linux (Ubuntu 18.04.5 LTS) / x86_64  OK    OK    WARNINGS  UNNEEDED, same version exists in internal repository
tokay1Windows Server 2012 R2 Standard / x64  OK    OK    WARNINGS    OK  UNNEEDED, same version exists in internal repository
merida1macOS 10.14.6 Mojave / x86_64  OK    OK    WARNINGS    OK  UNNEEDED, same version exists in internal repository
Package 80/83HostnameOS / ArchINSTALLBUILDCHECKBUILD BIN
VegaMC 3.28.0  (landing page)
Sandro Morganella
Last Commit: f236ddb
Last Changed Date: 2020-10-27 10:45:18 -0400
malbec1Linux (Ubuntu 18.04.5 LTS) / x86_64  OK    OK    OK  UNNEEDED, same version exists in internal repository
tokay1Windows Server 2012 R2 Standard / x64  OK    OK    OK    OK  UNNEEDED, same version exists in internal repository
merida1macOS 10.14.6 Mojave / x86_64  OK    OK    WARNINGS    OK  UNNEEDED, same version exists in internal repository
Package 81/83HostnameOS / ArchINSTALLBUILDCHECKBUILD BIN
ViSEAGO 1.4.0  (landing page)
Aurelien Brionne
Last Commit: dd2376d
Last Changed Date: 2020-10-27 11:47:25 -0400
malbec1Linux (Ubuntu 18.04.5 LTS) / x86_64  OK    OK    WARNINGS  UNNEEDED, same version exists in internal repository
tokay1Windows Server 2012 R2 Standard / x64  OK    OK    WARNINGS    OK  UNNEEDED, same version exists in internal repository
merida1macOS 10.14.6 Mojave / x86_64  OK    OK    WARNINGS    OK  UNNEEDED, same version exists in internal repository
Package 82/83HostnameOS / ArchINSTALLBUILDCHECKBUILD BIN
XCIR 1.4.0  (landing page)
Renan Sauteraud
Last Commit: 38d9b27
Last Changed Date: 2020-10-27 11:46:42 -0400
malbec1Linux (Ubuntu 18.04.5 LTS) / x86_64  OK    OK    OK  UNNEEDED, same version exists in internal repository
tokay1Windows Server 2012 R2 Standard / x64  OK    OK    OK    OK  UNNEEDED, same version exists in internal repository
merida1macOS 10.14.6 Mojave / x86_64  OK    OK    OK    OK  UNNEEDED, same version exists in internal repository
Package 83/83HostnameOS / ArchINSTALLBUILDCHECKBUILD BIN
yarn 1.16.0  (landing page)
Joseph N Paulson
Last Commit: ff5a18c
Last Changed Date: 2020-10-27 11:19:26 -0400
malbec1Linux (Ubuntu 18.04.5 LTS) / x86_64  OK    OK    OK  UNNEEDED, same version exists in internal repository
tokay1Windows Server 2012 R2 Standard / x64  OK    OK    WARNINGS    OK  UNNEEDED, same version exists in internal repository
merida1macOS 10.14.6 Mojave / x86_64  OK    OK    OK    OK  UNNEEDED, same version exists in internal repository