Back to Multiple platform build/check report for BioC 3.12
A[B]CDEFGHIJKLMNOPQRSTUVWXYZ

BUILD BIN report for bioDist on merida1

This page was generated on 2021-05-05 12:13:49 -0400 (Wed, 05 May 2021).

To the developers/maintainers of the bioDist package:
Please make sure to use the following settings in order to reproduce any error or warning you see on this page.
Package 176/1974HostnameOS / ArchINSTALLBUILDCHECKBUILD BIN
bioDist 1.62.0  (landing page)
Bioconductor Package Maintainer
Snapshot Date: 2021-05-04 14:50:13 -0400 (Tue, 04 May 2021)
URL: https://git.bioconductor.org/packages/bioDist
Branch: RELEASE_3_12
Last Commit: 81311a7
Last Changed Date: 2020-10-27 10:25:08 -0400 (Tue, 27 Oct 2020)
malbec1Linux (Ubuntu 18.04.5 LTS) / x86_64  OK    OK    OK  UNNEEDED, same version exists in internal repository
tokay1Windows Server 2012 R2 Standard / x64  OK    OK    OK    OK  UNNEEDED, same version exists in internal repository
merida1macOS 10.14.6 Mojave / x86_64  OK    OK    OK    OK  UNNEEDED, same version exists in internal repository

Summary

Package: bioDist
Version: 1.62.0
Command: rm -rf bioDist.buildbin-libdir && mkdir bioDist.buildbin-libdir && /Users/biocbuild/BBS/utils/build-universal.sh bioDist_1.62.0.tar.gz /Library/Frameworks/R.framework/Versions/Current/Resources/bin/R bioDist.buildbin-libdir
StartedAt: 2021-05-05 08:27:50 -0400 (Wed, 05 May 2021)
EndedAt: 2021-05-05 08:28:42 -0400 (Wed, 05 May 2021)
EllapsedTime: 51.6 seconds
RetCode: 0
Status:   OK  
PackageFile: bioDist_1.62.0.tgz
PackageFileSize: 173.3 KiB

Command output

##############################################################################
##############################################################################
###
### Running command:
###
###   rm -rf bioDist.buildbin-libdir && mkdir bioDist.buildbin-libdir && /Users/biocbuild/BBS/utils/build-universal.sh bioDist_1.62.0.tar.gz /Library/Frameworks/R.framework/Versions/Current/Resources/bin/R bioDist.buildbin-libdir
###
##############################################################################
##############################################################################


>>>>>>> 
>>>>>>> INSTALLATION WITH 'R CMD INSTALL --preclean --no-multiarch --library=bioDist.buildbin-libdir bioDist_1.62.0.tar.gz'
>>>>>>> 

* installing *source* package ‘bioDist’ ...
** using staged installation
** R
** inst
** byte-compile and prepare package for lazy loading
** help
*** installing help indices
** building package indices
** installing vignettes
** testing if installed package can be loaded from temporary location
** testing if installed package can be loaded from final location
** testing if installed package keeps a record of temporary installation path
* DONE (bioDist)