Back to Multiple platform build/check report for BioC 3.12
A[B]CDEFGHIJKLMNOPQRSTUVWXYZ

CHECK report for beadarraySNP on tokay1

This page was generated on 2021-05-05 12:11:22 -0400 (Wed, 05 May 2021).

To the developers/maintainers of the beadarraySNP package:
Please make sure to use the following settings in order to reproduce any error or warning you see on this page.
Package 135/1974HostnameOS / ArchINSTALLBUILDCHECKBUILD BIN
beadarraySNP 1.56.0  (landing page)
Jan Oosting
Snapshot Date: 2021-05-04 14:50:13 -0400 (Tue, 04 May 2021)
URL: https://git.bioconductor.org/packages/beadarraySNP
Branch: RELEASE_3_12
Last Commit: 49500dd
Last Changed Date: 2020-10-27 10:29:26 -0400 (Tue, 27 Oct 2020)
malbec1Linux (Ubuntu 18.04.5 LTS) / x86_64  OK    OK    OK  UNNEEDED, same version exists in internal repository
tokay1Windows Server 2012 R2 Standard / x64  OK    OK    OK    OK  UNNEEDED, same version exists in internal repository
merida1macOS 10.14.6 Mojave / x86_64  OK    OK    OK    OK  UNNEEDED, same version exists in internal repository

Summary

Package: beadarraySNP
Version: 1.56.0
Command: C:\Users\biocbuild\bbs-3.12-bioc\R\bin\R.exe CMD check --force-multiarch --install=check:beadarraySNP.install-out.txt --library=C:\Users\biocbuild\bbs-3.12-bioc\R\library --no-vignettes --timings beadarraySNP_1.56.0.tar.gz
StartedAt: 2021-05-05 00:44:44 -0400 (Wed, 05 May 2021)
EndedAt: 2021-05-05 00:46:31 -0400 (Wed, 05 May 2021)
EllapsedTime: 106.9 seconds
RetCode: 0
Status:   OK   
CheckDir: beadarraySNP.Rcheck
Warnings: 0

Command output

##############################################################################
##############################################################################
###
### Running command:
###
###   C:\Users\biocbuild\bbs-3.12-bioc\R\bin\R.exe CMD check --force-multiarch --install=check:beadarraySNP.install-out.txt --library=C:\Users\biocbuild\bbs-3.12-bioc\R\library --no-vignettes --timings beadarraySNP_1.56.0.tar.gz
###
##############################################################################
##############################################################################


* using log directory 'C:/Users/biocbuild/bbs-3.12-bioc/meat/beadarraySNP.Rcheck'
* using R version 4.0.5 (2021-03-31)
* using platform: x86_64-w64-mingw32 (64-bit)
* using session charset: ISO8859-1
* using option '--no-vignettes'
* checking for file 'beadarraySNP/DESCRIPTION' ... OK
* checking extension type ... Package
* this is package 'beadarraySNP' version '1.56.0'
* checking package namespace information ... OK
* checking package dependencies ... OK
* checking if this is a source package ... OK
* checking if there is a namespace ... OK
* checking for hidden files and directories ... OK
* checking for portable file names ... OK
* checking whether package 'beadarraySNP' can be installed ... OK
* checking installed package size ... OK
* checking package directory ... OK
* checking 'build' directory ... OK
* checking DESCRIPTION meta-information ... OK
* checking top-level files ... OK
* checking for left-over files ... OK
* checking index information ... OK
* checking package subdirectories ... OK
* checking R files for non-ASCII characters ... OK
* checking R files for syntax errors ... OK
* loading checks for arch 'i386'
** checking whether the package can be loaded ... OK
** checking whether the package can be loaded with stated dependencies ... OK
** checking whether the package can be unloaded cleanly ... OK
** checking whether the namespace can be loaded with stated dependencies ... OK
** checking whether the namespace can be unloaded cleanly ... OK
* loading checks for arch 'x64'
** checking whether the package can be loaded ... OK
** checking whether the package can be loaded with stated dependencies ... OK
** checking whether the package can be unloaded cleanly ... OK
** checking whether the namespace can be loaded with stated dependencies ... OK
** checking whether the namespace can be unloaded cleanly ... OK
* checking dependencies in R code ... NOTE
'library' or 'require' calls in package code:
  'DNAcopy' 'aCGH' 'affy' 'beadarray' 'limma' 'snapCGH'
  Please use :: or requireNamespace() instead.
  See section 'Suggested packages' in the 'Writing R Extensions' manual.
* checking S3 generic/method consistency ... OK
* checking replacement functions ... OK
* checking foreign function calls ... OK
* checking R code for possible problems ... NOTE
IlluminaGetGencalls: no visible global function definition for
  'read.table'
IlluminaGetOPAinfo: no visible global function definition for
  'read.table'
Sample_Map2Samplesheet: no visible global function definition for
  'read.table'
Sample_Map2Samplesheet: no visible global function definition for
  'write.table'
backgroundCorrect.SNP : delta.vec: no visible global function
  definition for 'quantile'
backgroundCorrect.SNP: no visible global function definition for
  'normexp.fit'
backgroundCorrect.SNP: no visible global function definition for
  'normexp.signal'
backgroundCorrect.SNP: no visible binding for global variable
  'bg.adjust'
backgroundEstimate : intminBG: no visible global function definition
  for 'lm'
backgroundEstimate: no visible global function definition for 'density'
calculateLair: no visible global function definition for 'quantile'
calculateQCarray: no visible global function definition for 'median'
convert2aCGH: no visible global function definition for 'create.aCGH'
createCNSummary: no visible global function definition for 'aggregate'
dist.GT: no visible global function definition for 'as.dist'
heterozygousSNPs: no visible binding for global variable 'quantile'
interactiveCNselect: no visible global function definition for
  'locator'
interactiveCNselect: no visible global function definition for 'text'
normalizeBetweenAlleles.SNP: no visible global function definition for
  'normalizeQuantiles'
normalizeBetweenSubsamples.SNP: no visible global function definition
  for 'normalizeQuantiles'
normalizeLoci.SNP: no visible binding for global variable 'median'
normalizeLoci.SNP: no visible global function definition for 'coef'
normalizeLoci.SNP: no visible global function definition for 'lm'
normalizeWithinArrays.SNP: no visible global function definition for
  'quantile'
pdfChromosomeGainLossLOH: no visible global function definition for
  'pdf'
pdfChromosomeGainLossLOH: no visible global function definition for
  'par'
pdfChromosomeGainLossLOH: no visible global function definition for
  'dev.off'
pdfChromosomesSmoothCopyNumber: no visible global function definition
  for 'pdf'
pdfChromosomesSmoothCopyNumber: no visible global function definition
  for 'par'
pdfChromosomesSmoothCopyNumber: no visible global function definition
  for 'dev.off'
pdfQC : reportSingleObject: no visible global function definition for
  'par'
pdfQC : reportSingleObject: no visible global function definition for
  'mtext'
pdfQC: no visible global function definition for 'pdf'
pdfQC: no visible global function definition for 'dev.off'
pdfSamplesSmoothCopyNumber: no visible global function definition for
  'pdf'
pdfSamplesSmoothCopyNumber: no visible global function definition for
  'dev.off'
plotGenomePanels: no visible global function definition for 'par'
plotGenomePanels: no visible global function definition for 'abline'
plotGenomePanels: no visible global function definition for 'points'
plotGenomePanels: no visible global function definition for 'text'
plotGenomePanels: no visible global function definition for 'axis'
plotGenomePanels: no visible global function definition for 'segments'
plotGenomePanels: no visible global function definition for 'rect'
plotGoldenGate4OPA: no visible global function definition for 'par'
plotGoldenGate4OPA: no visible global function definition for 'abline'
plotGoldenGate4OPA: no visible global function definition for 'points'
plotGoldenGate4OPA: no visible global function definition for 'text'
plotGoldenGate4OPA: no visible global function definition for 'axis'
plotGoldenGate4OPA: no visible global function definition for
  'segments'
plotGoldenGate4OPA: no visible global function definition for 'rect'
plotGroupZygosity: no visible global function definition for 'points'
read.SnpSetIllumina: no visible global function definition for
  'read.table'
read.SnpSetIllumina: no visible global function definition for
  'readIllumina'
read.SnpSetIllumina: no visible global function definition for
  'summarize'
read.SnpSetIllumina: no visible global function definition for
  'aggregate'
read.SnpSetIllumina: no visible binding for global variable 'median'
read.SnpSetIllumina: no visible binding for global variable 'sd'
read.SnpSetIllumina: no visible global function definition for
  'type.convert'
readReportfile: no visible global function definition for 'read.table'
removeLowQualityProbes: no visible global function definition for
  'median'
removeLowQualityProbes: no visible binding for global variable 'median'
removeLowQualitySamples: no visible binding for global variable
  'median'
reportChromosomeGainLossLOH: no visible global function definition for
  'par'
reportChromosomeGainLossLOH: no visible global function definition for
  'rect'
reportChromosomeGainLossLOH: no visible global function definition for
  'axis'
reportChromosomeGainLossLOH: no visible global function definition for
  'abline'
reportChromosomesSmoothCopyNumber: no visible global function
  definition for 'par'
reportChromosomesSmoothCopyNumber: no visible global function
  definition for 'legend'
reportChromosomesSmoothCopyNumber: no visible global function
  definition for 'abline'
reportChromosomesSmoothCopyNumber: no visible global function
  definition for 'rect'
reportChromosomesSmoothCopyNumber: no visible global function
  definition for 'points'
reportChromosomesSmoothCopyNumber: no visible global function
  definition for 'lines'
reportGenomeGainLossLOH: no visible global function definition for
  'par'
reportGenomeGainLossLOH: no visible global function definition for
  'rect'
reportGenomeGainLossLOH: no visible global function definition for
  'abline'
reportGenomeGainLossLOH: no visible global function definition for
  'axis'
reportGenomeIntensityPlot: no visible global function definition for
  'aggregate'
reportGenomeIntensityPlot: no visible global function definition for
  'par'
reportGenomeIntensityPlot: no visible global function definition for
  'abline'
reportGenomeIntensityPlot: no visible global function definition for
  'axis'
reportGenomeIntensityPlot: no visible global function definition for
  'points'
reportGenomeIntensityPlot: no visible global function definition for
  'segments'
reportGenomeIntensityPlot: no visible global function definition for
  'lines'
reportGenotypeSegmentation: no visible global function definition for
  'par'
reportGenotypeSegmentation: no visible global function definition for
  'points'
reportGenotypeSegmentation: no visible global function definition for
  'axis'
reportGenotypeSegmentation: no visible global function definition for
  'abline'
reportGenotypeSegmentation: no visible global function definition for
  'segments'
reportGroupZygosity: no visible global function definition for 'pdf'
reportGroupZygosity: no visible global function definition for 'par'
reportGroupZygosity: no visible global function definition for
  'dev.off'
reportSamplesSmoothCopyNumber: no visible global function definition
  for 'par'
reportSamplesSmoothCopyNumber: no visible global function definition
  for 'lines'
reportSamplesSmoothCopyNumber: no visible global function definition
  for 'rect'
reportSamplesSmoothCopyNumber: no visible global function definition
  for 'points'
reportSamplesSmoothCopyNumber: no visible global function definition
  for 'legend'
segmentate: no visible global function definition for 'smooth.CNA'
segmentate: no visible global function definition for 'CNA'
segmentate: no visible global function definition for 'aggregate'
segmentate.old: no visible global function definition for 'runDNAcopy'
segmentate.old: no visible global function definition for 'runHomHMM'
segmentate.old: no visible global function definition for 'runBioHMM'
segmentate.old: no visible global function definition for 'runGLAD'
segmentate.old: no visible global function definition for 'mergeStates'
plotQC,QCIllumina : image.plate: no visible global function definition
  for 'gray'
plotQC,QCIllumina : image.plate: no visible global function definition
  for 'image'
plotQC,QCIllumina : checkerboard: no visible global function definition
  for 'strwidth'
plotQC,QCIllumina : checkerboard: no visible global function definition
  for 'text'
plotQC,QCIllumina: no visible global function definition for 'rgb'
reportSamplePanelQC,QCIllumina: no visible global function definition
  for 'rgb'
reportSamplePanelQC,QCIllumina: no visible global function definition
  for 'barplot'
Undefined global functions or variables:
  CNA abline aggregate as.dist axis barplot bg.adjust coef create.aCGH
  density dev.off gray image legend lines lm locator median mergeStates
  mtext normalizeQuantiles normexp.fit normexp.signal par pdf points
  quantile read.table readIllumina rect rgb runBioHMM runDNAcopy
  runGLAD runHomHMM sd segments smooth.CNA strwidth summarize text
  type.convert write.table
Consider adding
  importFrom("grDevices", "dev.off", "gray", "pdf", "rgb")
  importFrom("graphics", "abline", "axis", "barplot", "image", "legend",
             "lines", "locator", "mtext", "par", "points", "rect",
             "segments", "strwidth", "text")
  importFrom("stats", "aggregate", "as.dist", "coef", "density", "lm",
             "median", "quantile", "sd")
  importFrom("utils", "read.table", "type.convert", "write.table")
to your NAMESPACE file.
* checking Rd files ... OK
* checking Rd metadata ... OK
* checking Rd cross-references ... OK
* checking for missing documentation entries ... OK
* checking for code/documentation mismatches ... OK
* checking Rd \usage sections ... OK
* checking Rd contents ... OK
* checking for unstated dependencies in examples ... OK
* checking contents of 'data' directory ... OK
* checking data for non-ASCII characters ... OK
* checking data for ASCII and uncompressed saves ... OK
* checking files in 'vignettes' ... OK
* checking examples ...
** running examples for arch 'i386' ... OK
** running examples for arch 'x64' ... OK
* checking for unstated dependencies in vignettes ... OK
* checking package vignettes in 'inst/doc' ... OK
* checking running R code from vignettes ... SKIPPED
* checking re-building of vignette outputs ... SKIPPED
* checking PDF version of manual ... OK
* DONE

Status: 2 NOTEs
See
  'C:/Users/biocbuild/bbs-3.12-bioc/meat/beadarraySNP.Rcheck/00check.log'
for details.



Installation output

beadarraySNP.Rcheck/00install.out

##############################################################################
##############################################################################
###
### Running command:
###
###   C:\cygwin\bin\curl.exe -O http://172.29.0.3/BBS/3.12/bioc/src/contrib/beadarraySNP_1.56.0.tar.gz && rm -rf beadarraySNP.buildbin-libdir && mkdir beadarraySNP.buildbin-libdir && C:\Users\biocbuild\bbs-3.12-bioc\R\bin\R.exe CMD INSTALL --merge-multiarch --build --library=beadarraySNP.buildbin-libdir beadarraySNP_1.56.0.tar.gz && C:\Users\biocbuild\bbs-3.12-bioc\R\bin\R.exe CMD INSTALL beadarraySNP_1.56.0.zip && rm beadarraySNP_1.56.0.tar.gz beadarraySNP_1.56.0.zip
###
##############################################################################
##############################################################################


  % Total    % Received % Xferd  Average Speed   Time    Time     Time  Current
                                 Dload  Upload   Total   Spent    Left  Speed

  0     0    0     0    0     0      0      0 --:--:-- --:--:-- --:--:--     0
100  436k  100  436k    0     0  17.8M      0 --:--:-- --:--:-- --:--:-- 18.5M

install for i386

* installing *source* package 'beadarraySNP' ...
** using staged installation
** R
** data
** inst
** byte-compile and prepare package for lazy loading
Warning message:
In .recacheSubclasses(def@className, def, env) :
  undefined subclass "numericVector" of class "Mnumeric"; definition not updated
** help
*** installing help indices
  converting help for package 'beadarraySNP'
    finding HTML links ... done
    BeadstudioQC                            html  
    CopynumberConversion                    html  
    Datasets                                html  
    GenomicReports                          html  
    GetBeadStudioSampleNames                html  
    PolarTransforms                         html  
    QCIllumina-class                        html  
    Sample_Map2Samplesheet                  html  
    SnpSetSegments-class                    html  
    finding level-2 HTML links ... done

    alterCN                                 html  
    arrayType                               html  
    backgroundCorrect.SNP                   html  
    backgroundEstimate                      html  
    calculateLOH                            html  
    calculateQCarray                        html  
    class.SnpSetIllumina                    html  
    compareGenotypes                        html  
    createCNSummary                         html  
    dist.GT                                 html  
    getDNAindex                             html  
    heterozygosity                          html  
    heterozygousSNPs                        html  
    interactiveCNselect                     html  
    normalizeBetweenAlleles.SNP             html  
    normalizeBetweenSubsamples.SNP          html  
    normalizeLoci.SNP                       html  
    normalizeWithinArrays.SNP               html  
    pdfChromosomesSmoothCopyNumber          html  
    pdfQC                                   html  
    plotGoldenGate4OPA                      html  
    plotQC                                  html  
    read.SnpSetIllumina                     html  
    removeLowQualityProbes                  html  
    removeLowQualitySamples                 html  
    renameOPA                               html  
    reportGenotypeSegmentation              html  
    reportSamplePanelQC-methods             html  
    segmentate                              html  
    setRealCN                               html  
    smoothed.intensity                      html  
    standardNormalization                   html  
** building package indices
** installing vignettes
** testing if installed package can be loaded from temporary location
Warning in .recacheSubclasses(def@className, def, env) :
  undefined subclass "numericVector" of class "Mnumeric"; definition not updated
** testing if installed package can be loaded from final location
Warning in .recacheSubclasses(def@className, def, env) :
  undefined subclass "numericVector" of class "Mnumeric"; definition not updated
** testing if installed package keeps a record of temporary installation path

install for x64

* installing *source* package 'beadarraySNP' ...
** testing if installed package can be loaded
Warning in .recacheSubclasses(def@className, def, env) :
  undefined subclass "numericVector" of class "Mnumeric"; definition not updated
* MD5 sums
packaged installation of 'beadarraySNP' as beadarraySNP_1.56.0.zip
* DONE (beadarraySNP)
* installing to library 'C:/Users/biocbuild/bbs-3.12-bioc/R/library'
package 'beadarraySNP' successfully unpacked and MD5 sums checked

Tests output


Example timings

beadarraySNP.Rcheck/examples_i386/beadarraySNP-Ex.timings

nameusersystemelapsed
GenomicReports2.000.172.18
PolarTransforms0.080.010.10
SnpSetSegments-class000
backgroundCorrect.SNP000
calculateQCarray0.010.000.01
compareGenotypes000
dist.GT0.110.000.11
heterozygosity0.020.000.02
heterozygousSNPs0.030.000.03
normalizeBetweenAlleles.SNP0.020.020.03
normalizeBetweenSubsamples.SNP0.010.000.02
normalizeLoci.SNP0.010.000.02
normalizeWithinArrays.SNP0.020.000.01
pdfChromosomesSmoothCopyNumber000
plotQC0.000.010.02
read.SnpSetIllumina1.200.001.23
removeLowQualitySamples0.050.000.05
reportSamplePanelQC-methods0.010.000.01
standardNormalization0.050.000.05

beadarraySNP.Rcheck/examples_x64/beadarraySNP-Ex.timings

nameusersystemelapsed
GenomicReports2.080.062.14
PolarTransforms0.050.030.08
SnpSetSegments-class000
backgroundCorrect.SNP000
calculateQCarray000
compareGenotypes000
dist.GT0.120.000.12
heterozygosity0.020.000.02
heterozygousSNPs0.030.000.03
normalizeBetweenAlleles.SNP0.030.000.03
normalizeBetweenSubsamples.SNP0.010.000.02
normalizeLoci.SNP0.020.000.02
normalizeWithinArrays.SNP0.020.000.01
pdfChromosomesSmoothCopyNumber000
plotQC0.010.000.02
read.SnpSetIllumina0.670.000.67
removeLowQualitySamples0.020.000.02
reportSamplePanelQC-methods0.000.010.01
standardNormalization0.060.000.06