Back to Multiple platform build/check report for BioC 3.12
[A]BCDEFGHIJKLMNOPQRSTUVWXYZ

CHECK report for abseqR on merida1

This page was generated on 2021-05-05 12:13:43 -0400 (Wed, 05 May 2021).

To the developers/maintainers of the abseqR package:
Please make sure to use the following settings in order to reproduce any error or warning you see on this page.
Package 9/1974HostnameOS / ArchINSTALLBUILDCHECKBUILD BIN
abseqR 1.8.0  (landing page)
JiaHong Fong
Snapshot Date: 2021-05-04 14:50:13 -0400 (Tue, 04 May 2021)
URL: https://git.bioconductor.org/packages/abseqR
Branch: RELEASE_3_12
Last Commit: 0a4616b
Last Changed Date: 2020-10-27 11:40:24 -0400 (Tue, 27 Oct 2020)
malbec1Linux (Ubuntu 18.04.5 LTS) / x86_64  OK    OK    OK  UNNEEDED, same version exists in internal repository
tokay1Windows Server 2012 R2 Standard / x64  OK    OK    OK    OK  UNNEEDED, same version exists in internal repository
merida1macOS 10.14.6 Mojave / x86_64  OK    OK    OK    OK  UNNEEDED, same version exists in internal repository

Summary

Package: abseqR
Version: 1.8.0
Command: /Library/Frameworks/R.framework/Versions/Current/Resources/bin/R CMD check --install=check:abseqR.install-out.txt --library=/Library/Frameworks/R.framework/Versions/Current/Resources/library --no-vignettes --timings abseqR_1.8.0.tar.gz
StartedAt: 2021-05-04 23:32:07 -0400 (Tue, 04 May 2021)
EndedAt: 2021-05-04 23:34:52 -0400 (Tue, 04 May 2021)
EllapsedTime: 164.4 seconds
RetCode: 0
Status:   OK  
CheckDir: abseqR.Rcheck
Warnings: 0

Command output

##############################################################################
##############################################################################
###
### Running command:
###
###   /Library/Frameworks/R.framework/Versions/Current/Resources/bin/R CMD check --install=check:abseqR.install-out.txt --library=/Library/Frameworks/R.framework/Versions/Current/Resources/library --no-vignettes --timings abseqR_1.8.0.tar.gz
###
##############################################################################
##############################################################################


* using log directory ‘/Users/biocbuild/bbs-3.12-bioc/meat/abseqR.Rcheck’
* using R version 4.0.5 (2021-03-31)
* using platform: x86_64-apple-darwin17.0 (64-bit)
* using session charset: UTF-8
* using option ‘--no-vignettes’
* checking for file ‘abseqR/DESCRIPTION’ ... OK
* checking extension type ... Package
* this is package ‘abseqR’ version ‘1.8.0’
* package encoding: UTF-8
* checking package namespace information ... OK
* checking package dependencies ... OK
* checking if this is a source package ... OK
* checking if there is a namespace ... OK
* checking for hidden files and directories ... OK
* checking for portable file names ... OK
* checking for sufficient/correct file permissions ... OK
* checking whether package ‘abseqR’ can be installed ... OK
* checking installed package size ... OK
* checking package directory ... OK
* checking ‘build’ directory ... OK
* checking DESCRIPTION meta-information ... OK
* checking top-level files ... OK
* checking for left-over files ... OK
* checking index information ... OK
* checking package subdirectories ... OK
* checking R files for non-ASCII characters ... OK
* checking R files for syntax errors ... OK
* checking whether the package can be loaded ... OK
* checking whether the package can be loaded with stated dependencies ... OK
* checking whether the package can be unloaded cleanly ... OK
* checking whether the namespace can be loaded with stated dependencies ... OK
* checking whether the namespace can be unloaded cleanly ... OK
* checking dependencies in R code ... OK
* checking S3 generic/method consistency ... OK
* checking replacement functions ... OK
* checking foreign function calls ... OK
* checking R code for possible problems ... NOTE
.aminoAcidBar: no visible binding for global variable ‘position’
.aminoAcidBar: no visible binding for global variable ‘proportion’
.aminoAcidBar: no visible binding for global variable ‘aa’
.boxPlot: no visible binding for global variable ‘x’
.boxPlot: no visible binding for global variable ‘y’
.cloneDistHist: no visible binding for global variable ‘prop’
.cloneDistHist: no visible binding for global variable ‘..count..’
.cloneDistMarginal: no visible binding for global variable ‘prop’
.cloneDistMarginal: no visible binding for global variable ‘..scaled..’
.hmFromMatrix: no visible binding for global variable ‘Var2’
.hmFromMatrix: no visible binding for global variable ‘Var1’
.hmFromMatrix: no visible binding for global variable ‘value’
.plotDist: no visible binding for global variable ‘x’
.plotDist: no visible binding for global variable ‘y’
.plotDuplication: no visible binding for global variable ‘x’
.plotDuplication: no visible binding for global variable ‘y’
.plotDuplication: no visible binding for global variable ‘region’
.plotRarefaction: no visible binding for global variable ‘x’
.plotRarefaction: no visible binding for global variable ‘y’
.plotRarefaction: no visible binding for global variable ‘region’
.plotRarefaction: no visible binding for global variable ‘ci’
.plotRarefaction: no visible binding for global variable ‘compound’
.plotRecapture: no visible binding for global variable ‘x’
.plotRecapture: no visible binding for global variable ‘y’
.plotRecapture: no visible binding for global variable ‘region’
.plotRecapture: no visible binding for global variable ‘ci’
.plotRecapture: no visible binding for global variable ‘compound’
.plotSpectratype: no visible binding for global variable ‘percent’
.productivityPlot: no visible binding for global variable ‘Percentage’
.productivityPlot: no visible binding for global variable ‘Reason’
.regionAnalysis: no visible binding for global variable ‘cdr3’
.regionAnalysis: no visible binding for global variable ‘value’
.regionAnalysis: no visible binding for global variable ‘variable’
.scatterPlot: no visible binding for global variable ‘Count.x’
.scatterPlot: no visible binding for global variable ‘Count.y’
.scatterPlotComplex: no visible binding for global variable ‘prop.x’
.scatterPlotComplex: no visible binding for global variable ‘prop.y’
.topNDist: no visible binding for global variable ‘normPerc’
.topNDist: no visible binding for global variable ‘Clonotype’
Undefined global functions or variables:
  ..count.. ..scaled.. Clonotype Count.x Count.y Percentage Reason Var1
  Var2 aa cdr3 ci compound normPerc percent position prop prop.x prop.y
  proportion region value variable x y
* checking Rd files ... OK
* checking Rd metadata ... OK
* checking Rd cross-references ... OK
* checking for missing documentation entries ... OK
* checking for code/documentation mismatches ... OK
* checking Rd \usage sections ... OK
* checking Rd contents ... OK
* checking for unstated dependencies in examples ... OK
* checking sizes of PDF files under ‘inst/doc’ ... OK
* checking files in ‘vignettes’ ... OK
* checking examples ... OK
* checking for unstated dependencies in ‘tests’ ... OK
* checking tests ...
  Running ‘testthat.R’
 OK
* checking for unstated dependencies in vignettes ... OK
* checking package vignettes in ‘inst/doc’ ... OK
* checking running R code from vignettes ... SKIPPED
* checking re-building of vignette outputs ... SKIPPED
* checking PDF version of manual ... OK
* DONE

Status: 1 NOTE
See
  ‘/Users/biocbuild/bbs-3.12-bioc/meat/abseqR.Rcheck/00check.log’
for details.



Installation output

abseqR.Rcheck/00install.out

##############################################################################
##############################################################################
###
### Running command:
###
###   /Library/Frameworks/R.framework/Versions/Current/Resources/bin/R CMD INSTALL abseqR
###
##############################################################################
##############################################################################


* installing to library ‘/Library/Frameworks/R.framework/Versions/4.0/Resources/library’
* installing *source* package ‘abseqR’ ...
** using staged installation
** R
** inst
** byte-compile and prepare package for lazy loading
** help
*** installing help indices
*** copying figures
** building package indices
** installing vignettes
** testing if installed package can be loaded from temporary location
** testing if installed package can be loaded from final location
** testing if installed package keeps a record of temporary installation path
* DONE (abseqR)

Tests output

abseqR.Rcheck/tests/testthat.Rout


R version 4.0.5 (2021-03-31) -- "Shake and Throw"
Copyright (C) 2021 The R Foundation for Statistical Computing
Platform: x86_64-apple-darwin17.0 (64-bit)

R is free software and comes with ABSOLUTELY NO WARRANTY.
You are welcome to redistribute it under certain conditions.
Type 'license()' or 'licence()' for distribution details.

R is a collaborative project with many contributors.
Type 'contributors()' for more information and
'citation()' on how to cite R or R packages in publications.

Type 'demo()' for some demos, 'help()' for on-line help, or
'help.start()' for an HTML browser interface to help.
Type 'q()' to quit R.

> library(testthat)
> library(abseqR)
> 
> test_check("abseqR")
[ FAIL 0 | WARN 0 | SKIP 0 | PASS 30 ]
> 
> proc.time()
   user  system elapsed 
 52.709   1.211  54.293 

Example timings

abseqR.Rcheck/abseqR-Ex.timings

nameusersystemelapsed
AbSeqCRep-class0.5040.1900.769
AbSeqRep-class0.0590.1150.174
abseqReport0.0620.1150.178
plus-AbSeqCRep-AbSeqCRep-method0.0490.1090.158
plus-AbSeqCRep-AbSeqRep-method0.0560.1170.175
plus-AbSeqRep-AbSeqCRep-method0.0410.1100.153
plus-AbSeqRep-AbSeqRep-method0.0520.0970.149
report0.0540.1070.163