Back to Multiple platform build/check report for BioC 3.12
[A]BCDEFGHIJKLMNOPQRSTUVWXYZ

Multiple platform build/check report for BioC 3.12

All results for package a4Reporting

This page was generated on 2021-05-05 12:08:24 -0400 (Wed, 05 May 2021).

Package 6/1974HostnameOS / ArchINSTALLBUILDCHECKBUILD BIN
a4Reporting 1.38.0  (landing page)
Laure Cougnaud
Snapshot Date: 2021-05-04 14:50:13 -0400 (Tue, 04 May 2021)
URL: https://git.bioconductor.org/packages/a4Reporting
Branch: RELEASE_3_12
Last Commit: cd3cf24
Last Changed Date: 2020-10-27 10:41:23 -0400 (Tue, 27 Oct 2020)
malbec1Linux (Ubuntu 18.04.5 LTS) / x86_64  OK    OK    OK  UNNEEDED, same version exists in internal repository
tokay1Windows Server 2012 R2 Standard / x64  OK    OK    OK    OK  UNNEEDED, same version exists in internal repository
merida1macOS 10.14.6 Mojave / x86_64  OK    OK    OK    OK  UNNEEDED, same version exists in internal repository

Results for Bioconductor software packages that depend directly on package a4Reporting

QUICK STATSOS / ArchINSTALLBUILDCHECKBUILD BIN
malbec1Linux (Ubuntu 18.04.5 LTS) / x86_64
001
001
0001
tokay1Windows Server 2012 R2 Standard / x64
001
001
0001
001
merida1macOS 10.14.6 Mojave / x86_64
001
001
0001
001
Package 1/1HostnameOS / ArchINSTALLBUILDCHECKBUILD BIN
a4 1.38.0  (landing page)
Laure Cougnaud
Last Commit: 5b7a908
Last Changed Date: 2020-10-27 10:41:25 -0400
malbec1Linux (Ubuntu 18.04.5 LTS) / x86_64  OK    OK    OK  UNNEEDED, same version exists in internal repository
tokay1Windows Server 2012 R2 Standard / x64  OK    OK    OK    OK  UNNEEDED, same version exists in internal repository
merida1macOS 10.14.6 Mojave / x86_64  OK    OK    OK    OK  UNNEEDED, same version exists in internal repository