Back to Multiple platform build/check report for BioC 3.12
[A]BCDEFGHIJKLMNOPQRSTUVWXYZ

BUILD report for a4Core on malbec1

This page was generated on 2021-05-05 12:09:24 -0400 (Wed, 05 May 2021).

To the developers/maintainers of the a4Core package:
Please make sure to use the following settings in order to reproduce any error or warning you see on this page.
Package 4/1974HostnameOS / ArchINSTALLBUILDCHECKBUILD BIN
a4Core 1.38.0  (landing page)
Laure Cougnaud
Snapshot Date: 2021-05-04 14:50:13 -0400 (Tue, 04 May 2021)
URL: https://git.bioconductor.org/packages/a4Core
Branch: RELEASE_3_12
Last Commit: a027dcd
Last Changed Date: 2020-10-27 10:41:20 -0400 (Tue, 27 Oct 2020)
malbec1Linux (Ubuntu 18.04.5 LTS) / x86_64  OK    OK    OK  UNNEEDED, same version exists in internal repository
tokay1Windows Server 2012 R2 Standard / x64  OK    OK    OK    OK  UNNEEDED, same version exists in internal repository
merida1macOS 10.14.6 Mojave / x86_64  OK    OK    OK    OK  UNNEEDED, same version exists in internal repository

Summary

Package: a4Core
Version: 1.38.0
Command: /home/biocbuild/bbs-3.12-bioc/R/bin/R CMD build --keep-empty-dirs --no-resave-data a4Core
StartedAt: 2021-05-04 17:29:54 -0400 (Tue, 04 May 2021)
EndedAt: 2021-05-04 17:30:04 -0400 (Tue, 04 May 2021)
EllapsedTime: 9.8 seconds
RetCode: 0
Status:   OK  
PackageFile: a4Core_1.38.0.tar.gz
PackageFileSize: 277.6 KiB

Command output

##############################################################################
##############################################################################
###
### Running command:
###
###   /home/biocbuild/bbs-3.12-bioc/R/bin/R CMD build --keep-empty-dirs --no-resave-data a4Core
###
##############################################################################
##############################################################################


* checking for file ‘a4Core/DESCRIPTION’ ... OK
* preparing ‘a4Core’:
* checking DESCRIPTION meta-information ... OK
* installing the package to build vignettes
* creating vignettes ... OK
* checking for LF line-endings in source and make files and shell scripts
* checking for empty or unneeded directories
* building ‘a4Core_1.38.0.tar.gz’