Back to Multiple platform build/check report for BioC 3.12
[A]BCDEFGHIJKLMNOPQRSTUVWXYZ

BUILD BIN report for a4 on tokay1

This page was generated on 2021-05-05 12:11:13 -0400 (Wed, 05 May 2021).

To the developers/maintainers of the a4 package:
Please make sure to use the following settings in order to reproduce any error or warning you see on this page.
Package 1/1974HostnameOS / ArchINSTALLBUILDCHECKBUILD BIN
a4 1.38.0  (landing page)
Laure Cougnaud
Snapshot Date: 2021-05-04 14:50:13 -0400 (Tue, 04 May 2021)
URL: https://git.bioconductor.org/packages/a4
Branch: RELEASE_3_12
Last Commit: 5b7a908
Last Changed Date: 2020-10-27 10:41:25 -0400 (Tue, 27 Oct 2020)
malbec1Linux (Ubuntu 18.04.5 LTS) / x86_64  OK    OK    OK  UNNEEDED, same version exists in internal repository
tokay1Windows Server 2012 R2 Standard / x64  OK    OK    OK    OK  UNNEEDED, same version exists in internal repository
merida1macOS 10.14.6 Mojave / x86_64  OK    OK    OK    OK  UNNEEDED, same version exists in internal repository

Summary

Package: a4
Version: 1.38.0
Command: rm -rf a4.buildbin-libdir && mkdir a4.buildbin-libdir && C:\Users\biocbuild\bbs-3.12-bioc\R\bin\R.exe CMD INSTALL --merge-multiarch --build --library=a4.buildbin-libdir a4_1.38.0.tar.gz
StartedAt: 2021-05-05 08:25:03 -0400 (Wed, 05 May 2021)
EndedAt: 2021-05-05 08:25:45 -0400 (Wed, 05 May 2021)
EllapsedTime: 41.8 seconds
RetCode: 0
Status:   OK   
PackageFile: a4_1.38.0.zip
PackageFileSize: 1.041 MiB

Command output

##############################################################################
##############################################################################
###
### Running command:
###
###   rm -rf a4.buildbin-libdir && mkdir a4.buildbin-libdir && C:\Users\biocbuild\bbs-3.12-bioc\R\bin\R.exe CMD INSTALL --merge-multiarch --build --library=a4.buildbin-libdir a4_1.38.0.tar.gz
###
##############################################################################
##############################################################################



install for i386

* installing *source* package 'a4' ...
** using staged installation
** R
** inst
** byte-compile and prepare package for lazy loading
** help
No man pages found in package  'a4' 
*** installing help indices
** building package indices
** installing vignettes
** testing if installed package can be loaded from temporary location
** testing if installed package can be loaded from final location
** testing if installed package keeps a record of temporary installation path

install for x64

* installing *source* package 'a4' ...
** testing if installed package can be loaded
* MD5 sums
packaged installation of 'a4' as a4_1.38.0.zip
* DONE (a4)