Back to Multiple platform build/check report for BioC 3.12
ABCDEFGHIJKLMNOPQRSTU[V]WXYZ

BUILD report for ViSEAGO on merida1

This page was generated on 2021-05-05 12:15:42 -0400 (Wed, 05 May 2021).

To the developers/maintainers of the ViSEAGO package:
Please make sure to use the following settings in order to reproduce any error or warning you see on this page.
Package 1943/1974HostnameOS / ArchINSTALLBUILDCHECKBUILD BIN
ViSEAGO 1.4.0  (landing page)
Aurelien Brionne
Snapshot Date: 2021-05-04 14:50:13 -0400 (Tue, 04 May 2021)
URL: https://git.bioconductor.org/packages/ViSEAGO
Branch: RELEASE_3_12
Last Commit: dd2376d
Last Changed Date: 2020-10-27 11:47:25 -0400 (Tue, 27 Oct 2020)
malbec1Linux (Ubuntu 18.04.5 LTS) / x86_64  OK    OK    WARNINGS  UNNEEDED, same version exists in internal repository
tokay1Windows Server 2012 R2 Standard / x64  OK    OK    WARNINGS    OK  UNNEEDED, same version exists in internal repository
merida1macOS 10.14.6 Mojave / x86_64  OK    OK    WARNINGS    OK  UNNEEDED, same version exists in internal repository

Summary

Package: ViSEAGO
Version: 1.4.0
Command: /Library/Frameworks/R.framework/Versions/Current/Resources/bin/R CMD build --keep-empty-dirs --no-resave-data ViSEAGO
StartedAt: 2021-05-04 22:48:01 -0400 (Tue, 04 May 2021)
EndedAt: 2021-05-04 22:49:16 -0400 (Tue, 04 May 2021)
EllapsedTime: 74.5 seconds
RetCode: 0
Status:   OK  
PackageFile: ViSEAGO_1.4.0.tar.gz
PackageFileSize: 8.633 MiB

Command output

##############################################################################
##############################################################################
###
### Running command:
###
###   /Library/Frameworks/R.framework/Versions/Current/Resources/bin/R CMD build --keep-empty-dirs --no-resave-data ViSEAGO
###
##############################################################################
##############################################################################


* checking for file ‘ViSEAGO/DESCRIPTION’ ... OK
* preparing ‘ViSEAGO’:
* checking DESCRIPTION meta-information ... OK
* installing the package to build vignettes
* creating vignettes ... OK
* checking for LF line-endings in source and make files and shell scripts
* checking for empty or unneeded directories
* looking to see if a ‘data/datalist’ file should be added
* building ‘ViSEAGO_1.4.0.tar.gz’