Back to Multiple platform build/check report for BioC 3.12
ABCDEFGHIJKLMNOPQRSTU[V]WXYZ

BUILD report for VariantFiltering on tokay1

This page was generated on 2021-05-05 12:13:39 -0400 (Wed, 05 May 2021).

To the developers/maintainers of the VariantFiltering package:
Please make sure to use the following settings in order to reproduce any error or warning you see on this page.
Package 1932/1974HostnameOS / ArchINSTALLBUILDCHECKBUILD BIN
VariantFiltering 1.26.0  (landing page)
Robert Castelo
Snapshot Date: 2021-05-04 14:50:13 -0400 (Tue, 04 May 2021)
URL: https://git.bioconductor.org/packages/VariantFiltering
Branch: RELEASE_3_12
Last Commit: 3acde0e
Last Changed Date: 2020-10-27 10:56:11 -0400 (Tue, 27 Oct 2020)
malbec1Linux (Ubuntu 18.04.5 LTS) / x86_64  OK    OK    OK  UNNEEDED, same version exists in internal repository
tokay1Windows Server 2012 R2 Standard / x64  OK    OK    WARNINGS    OK  UNNEEDED, same version exists in internal repository
merida1macOS 10.14.6 Mojave / x86_64  OK    OK    OK    OK  UNNEEDED, same version exists in internal repository

Summary

Package: VariantFiltering
Version: 1.26.0
Command: chmod a+r VariantFiltering -R && C:\Users\biocbuild\bbs-3.12-bioc\R\bin\R.exe CMD build --keep-empty-dirs --no-resave-data VariantFiltering
StartedAt: 2021-05-05 00:02:32 -0400 (Wed, 05 May 2021)
EndedAt: 2021-05-05 00:05:23 -0400 (Wed, 05 May 2021)
EllapsedTime: 171.1 seconds
RetCode: 0
Status:   OK   
PackageFile: VariantFiltering_1.26.0.tar.gz
PackageFileSize: 3.571 MiB

Command output

##############################################################################
##############################################################################
###
### Running command:
###
###   chmod a+r VariantFiltering -R && C:\Users\biocbuild\bbs-3.12-bioc\R\bin\R.exe CMD build --keep-empty-dirs --no-resave-data VariantFiltering
###
##############################################################################
##############################################################################


* checking for file 'VariantFiltering/DESCRIPTION' ... OK
* preparing 'VariantFiltering':
* checking DESCRIPTION meta-information ... OK
* cleaning src
* installing the package to build vignettes
* creating vignettes ... OK
* cleaning src
* checking for LF line-endings in source and make files and shell scripts
* checking for empty or unneeded directories
  NB: this package now depends on R (>= 3.5.0)
  WARNING: Added dependency on R >= 3.5.0 because serialized objects in  serialize/load version 3 cannot be read in older versions of R.  File(s) containing such objects:  'VariantFiltering/inst/extdata/uind.rds'
* building 'VariantFiltering_1.26.0.tar.gz'