Back to Multiple platform build/check report for BioC 3.12
ABCDEFGHIJKLMNOPQR[S]TUVWXYZ

BUILD BIN report for SubCellBarCode on tokay1

This page was generated on 2021-05-05 12:13:27 -0400 (Wed, 05 May 2021).

To the developers/maintainers of the SubCellBarCode package:
Please make sure to use the following settings in order to reproduce any error or warning you see on this page.
Package 1811/1974HostnameOS / ArchINSTALLBUILDCHECKBUILD BIN
SubCellBarCode 1.6.0  (landing page)
Taner Arslan
Snapshot Date: 2021-05-04 14:50:13 -0400 (Tue, 04 May 2021)
URL: https://git.bioconductor.org/packages/SubCellBarCode
Branch: RELEASE_3_12
Last Commit: 41ba24b
Last Changed Date: 2020-10-27 11:46:11 -0400 (Tue, 27 Oct 2020)
malbec1Linux (Ubuntu 18.04.5 LTS) / x86_64  OK    OK    OK  UNNEEDED, same version exists in internal repository
tokay1Windows Server 2012 R2 Standard / x64  OK    OK    OK    OK  UNNEEDED, same version exists in internal repository
merida1macOS 10.14.6 Mojave / x86_64  OK    OK    OK    OK  UNNEEDED, same version exists in internal repository

Summary

Package: SubCellBarCode
Version: 1.6.0
Command: rm -rf SubCellBarCode.buildbin-libdir && mkdir SubCellBarCode.buildbin-libdir && C:\Users\biocbuild\bbs-3.12-bioc\R\bin\R.exe CMD INSTALL --merge-multiarch --build --library=SubCellBarCode.buildbin-libdir SubCellBarCode_1.6.0.tar.gz
StartedAt: 2021-05-05 10:16:28 -0400 (Wed, 05 May 2021)
EndedAt: 2021-05-05 10:17:03 -0400 (Wed, 05 May 2021)
EllapsedTime: 35.2 seconds
RetCode: 0
Status:   OK   
PackageFile: SubCellBarCode_1.6.0.zip
PackageFileSize: 1.775 MiB

Command output

##############################################################################
##############################################################################
###
### Running command:
###
###   rm -rf SubCellBarCode.buildbin-libdir && mkdir SubCellBarCode.buildbin-libdir && C:\Users\biocbuild\bbs-3.12-bioc\R\bin\R.exe CMD INSTALL --merge-multiarch --build --library=SubCellBarCode.buildbin-libdir SubCellBarCode_1.6.0.tar.gz
###
##############################################################################
##############################################################################



install for i386

* installing *source* package 'SubCellBarCode' ...
** using staged installation
** R
** data
*** moving datasets to lazyload DB
** inst
** byte-compile and prepare package for lazy loading
** help
*** installing help indices
  converting help for package 'SubCellBarCode'
    finding HTML links ... done
    applyThresholdCompartment               html  
    applyThresholdNeighborhood              html  
    calRowMean                              html  
    calculateCoveredProtein                 html  
    candidateRelocatedProteins              html  
    compareCls                              html  
    computeThresholdCompartment             html  
    computeThresholdNeighborhood            html  
    convert2symbol                          html  
    hcc827Ctrl                              html  
    hcc827CtrlPSMCount                      html  
    hcc827GEF                               html  
    hcc827GEFClass                          html  
    hcc827GefPSMCount                       html  
    hcc827exon                              html  
    loadData                                html  
    markerProteins                          html  
    markerQualityControl                    html  
    mergeCls                                html  
    mergeProbability                        html  
    plotBarcode                             html  
    plotMultipleProtein                     html  
    replacePrediction                       html  
    sankeyPlot                              html  
    sumProbability                          html  
    svmClassification                       html  
    svmExternalData                         html  
    tsneVisualization                       html  
** building package indices
** installing vignettes
** testing if installed package can be loaded from temporary location
** testing if installed package can be loaded from final location
** testing if installed package keeps a record of temporary installation path

install for x64

* installing *source* package 'SubCellBarCode' ...
** testing if installed package can be loaded
* MD5 sums
packaged installation of 'SubCellBarCode' as SubCellBarCode_1.6.0.zip
* DONE (SubCellBarCode)