Back to Multiple platform build/check report for BioC 3.12
ABCDEFGHIJKLMNOPQR[S]TUVWXYZ

Multiple platform build/check report for BioC 3.12

All results for package SplicingGraphs

This page was generated on 2021-05-06 12:26:32 -0400 (Thu, 06 May 2021).

Package 1773/1974HostnameOS / ArchINSTALLBUILDCHECKBUILD BIN
SplicingGraphs 1.30.0  (landing page)
H. Pag├Ęs
Snapshot Date: 2021-05-05 14:51:38 -0400 (Wed, 05 May 2021)
URL: https://git.bioconductor.org/packages/SplicingGraphs
Branch: RELEASE_3_12
Last Commit: b093fb0
Last Changed Date: 2020-10-27 10:50:40 -0400 (Tue, 27 Oct 2020)
malbec1Linux (Ubuntu 18.04.5 LTS) / x86_64  OK    OK    WARNINGS  UNNEEDED, same version exists in internal repository
tokay1Windows Server 2012 R2 Standard / x64  OK    OK    TIMEOUT    OK  
merida1macOS 10.14.6 Mojave / x86_64  OK    OK    WARNINGS    OK  UNNEEDED, same version exists in internal repository