Back to Multiple platform build/check report for BioC 3.12
ABCDEFGHIJKLMNOPQR[S]TUVWXYZ

BUILD BIN report for SpidermiR on merida1

This page was generated on 2021-05-05 12:15:31 -0400 (Wed, 05 May 2021).

To the developers/maintainers of the SpidermiR package:
Please make sure to use the following settings in order to reproduce any error or warning you see on this page.
Package 1769/1974HostnameOS / ArchINSTALLBUILDCHECKBUILD BIN
SpidermiR 1.20.0  (landing page)
Claudia Cava
Snapshot Date: 2021-05-04 14:50:13 -0400 (Tue, 04 May 2021)
URL: https://git.bioconductor.org/packages/SpidermiR
Branch: RELEASE_3_12
Last Commit: f71b8e0
Last Changed Date: 2020-10-27 11:12:37 -0400 (Tue, 27 Oct 2020)
malbec1Linux (Ubuntu 18.04.5 LTS) / x86_64  OK    OK    WARNINGS  UNNEEDED, same version exists in internal repository
tokay1Windows Server 2012 R2 Standard / x64  OK    OK    ERROR    OK  
merida1macOS 10.14.6 Mojave / x86_64  OK    OK    WARNINGS    OK  UNNEEDED, same version exists in internal repository

Summary

Package: SpidermiR
Version: 1.20.0
Command: rm -rf SpidermiR.buildbin-libdir && mkdir SpidermiR.buildbin-libdir && /Users/biocbuild/BBS/utils/build-universal.sh SpidermiR_1.20.0.tar.gz /Library/Frameworks/R.framework/Versions/Current/Resources/bin/R SpidermiR.buildbin-libdir
StartedAt: 2021-05-05 10:30:29 -0400 (Wed, 05 May 2021)
EndedAt: 2021-05-05 10:31:36 -0400 (Wed, 05 May 2021)
EllapsedTime: 67.0 seconds
RetCode: 0
Status:   OK  
PackageFile: SpidermiR_1.20.0.tgz
PackageFileSize: 823.7 KiB

Command output

##############################################################################
##############################################################################
###
### Running command:
###
###   rm -rf SpidermiR.buildbin-libdir && mkdir SpidermiR.buildbin-libdir && /Users/biocbuild/BBS/utils/build-universal.sh SpidermiR_1.20.0.tar.gz /Library/Frameworks/R.framework/Versions/Current/Resources/bin/R SpidermiR.buildbin-libdir
###
##############################################################################
##############################################################################


>>>>>>> 
>>>>>>> INSTALLATION WITH 'R CMD INSTALL --preclean --no-multiarch --library=SpidermiR.buildbin-libdir SpidermiR_1.20.0.tar.gz'
>>>>>>> 

* installing *source* package ‘SpidermiR’ ...
** using staged installation
** R
** inst
** byte-compile and prepare package for lazy loading
Note: possible error in 'simpleNetwork(NetworkData, ': unused argument (textColour = "black") 
** help
*** installing help indices
** building package indices
** installing vignettes
** testing if installed package can be loaded from temporary location
** testing if installed package can be loaded from final location
** testing if installed package keeps a record of temporary installation path
* DONE (SpidermiR)