Back to Multiple platform build/check report for BioC 3.12
ABCDEFGHIJKLMNOPQ[R]STUVWXYZ

INSTALL report for ROntoTools on tokay1

This page was generated on 2021-05-05 12:13:05 -0400 (Wed, 05 May 2021).

To the developers/maintainers of the ROntoTools package:
Please make sure to use the following settings in order to reproduce any error or warning you see on this page.
Package 1567/1974HostnameOS / ArchINSTALLBUILDCHECKBUILD BIN
ROntoTools 2.18.0  (landing page)
Calin Voichita
Snapshot Date: 2021-05-04 14:50:13 -0400 (Tue, 04 May 2021)
URL: https://git.bioconductor.org/packages/ROntoTools
Branch: RELEASE_3_12
Last Commit: a8db5c7
Last Changed Date: 2020-10-27 10:50:03 -0400 (Tue, 27 Oct 2020)
malbec1Linux (Ubuntu 18.04.5 LTS) / x86_64  OK    OK    OK  UNNEEDED, same version exists in internal repository
tokay1Windows Server 2012 R2 Standard / x64  OK    OK    OK    OK  UNNEEDED, same version exists in internal repository
merida1macOS 10.14.6 Mojave / x86_64  OK    OK    OK    OK  UNNEEDED, same version exists in internal repository

Summary

Package: ROntoTools
Version: 2.18.0
Command: C:\cygwin\bin\curl.exe -O http://172.29.0.3/BBS/3.12/bioc/src/contrib/ROntoTools_2.18.0.tar.gz && rm -rf ROntoTools.buildbin-libdir && mkdir ROntoTools.buildbin-libdir && C:\Users\biocbuild\bbs-3.12-bioc\R\bin\R.exe CMD INSTALL --merge-multiarch --build --library=ROntoTools.buildbin-libdir ROntoTools_2.18.0.tar.gz && C:\Users\biocbuild\bbs-3.12-bioc\R\bin\R.exe CMD INSTALL ROntoTools_2.18.0.zip && rm ROntoTools_2.18.0.tar.gz ROntoTools_2.18.0.zip
StartedAt: 2021-05-04 17:12:16 -0400 (Tue, 04 May 2021)
EndedAt: 2021-05-04 17:12:48 -0400 (Tue, 04 May 2021)
EllapsedTime: 31.8 seconds
RetCode: 0
Status:   OK   

Command output

##############################################################################
##############################################################################
###
### Running command:
###
###   C:\cygwin\bin\curl.exe -O http://172.29.0.3/BBS/3.12/bioc/src/contrib/ROntoTools_2.18.0.tar.gz && rm -rf ROntoTools.buildbin-libdir && mkdir ROntoTools.buildbin-libdir && C:\Users\biocbuild\bbs-3.12-bioc\R\bin\R.exe CMD INSTALL --merge-multiarch --build --library=ROntoTools.buildbin-libdir ROntoTools_2.18.0.tar.gz && C:\Users\biocbuild\bbs-3.12-bioc\R\bin\R.exe CMD INSTALL ROntoTools_2.18.0.zip && rm ROntoTools_2.18.0.tar.gz ROntoTools_2.18.0.zip
###
##############################################################################
##############################################################################


  % Total    % Received % Xferd  Average Speed   Time    Time     Time  Current
                                 Dload  Upload   Total   Spent    Left  Speed

  0     0    0     0    0     0      0      0 --:--:-- --:--:-- --:--:--     0
100 1149k  100 1149k    0     0  94.1M      0 --:--:-- --:--:-- --:--:--  102M

install for i386

* installing *source* package 'ROntoTools' ...
** using staged installation
** R
** inst
** byte-compile and prepare package for lazy loading
** help
*** installing help indices
  converting help for package 'ROntoTools'
    finding HTML links ... done
    KEGGpathway2Graph                       html  
    Summary-pDisRes-method                  html  
    Summary-peRes-method                    html  
    alpha1MR                                html  
    alphaMLG                                html  
    compute.fisher                          html  
    compute.normalInv                       html  
    keggPathwayGraphs                       html  
    finding level-2 HTML links ... done

    keggPathwayNames                        html  
    nodeWeights                             html  
    pDis                                    html  
    pDisPathway-class                       html  
    pDisRes-class                           html  
    pe                                      html  
    peEdgeRenderInfo                        html  
    peNodeRenderInfo                        html  
    pePathway-class                         html  
    peRes-class                             html  
    plot.pePathway-methods                  html  
    plot.peRes-methods                      html  
    setEdgeWeights                          html  
    setNodeWeights                          html  
    subGraphByNodeType                      html  
    summary.pDisRes                         html  
    summary.peRes                           html  
** building package indices
** installing vignettes
** testing if installed package can be loaded from temporary location
** testing if installed package can be loaded from final location
** testing if installed package keeps a record of temporary installation path

install for x64

* installing *source* package 'ROntoTools' ...
** testing if installed package can be loaded
* MD5 sums
packaged installation of 'ROntoTools' as ROntoTools_2.18.0.zip
* DONE (ROntoTools)
* installing to library 'C:/Users/biocbuild/bbs-3.12-bioc/R/library'
package 'ROntoTools' successfully unpacked and MD5 sums checked