Back to Multiple platform build/check report for BioC 3.12
ABCDEFGHIJKLMNOPQ[R]STUVWXYZ

INSTALL report for REDseq on malbec1

This page was generated on 2021-05-05 12:10:40 -0400 (Wed, 05 May 2021).

To the developers/maintainers of the REDseq package:
Please make sure to use the following settings in order to reproduce any error or warning you see on this page.
Package 1494/1974HostnameOS / ArchINSTALLBUILDCHECKBUILD BIN
REDseq 1.36.0  (landing page)
Lihua Julie Zhu
Snapshot Date: 2021-05-04 14:50:13 -0400 (Tue, 04 May 2021)
URL: https://git.bioconductor.org/packages/REDseq
Branch: RELEASE_3_12
Last Commit: 89a4802
Last Changed Date: 2020-10-27 10:41:39 -0400 (Tue, 27 Oct 2020)
malbec1Linux (Ubuntu 18.04.5 LTS) / x86_64  OK    OK    OK  UNNEEDED, same version exists in internal repository
tokay1Windows Server 2012 R2 Standard / x64  OK    OK    OK    OK  UNNEEDED, same version exists in internal repository
merida1macOS 10.14.6 Mojave / x86_64  OK    OK    OK    OK  UNNEEDED, same version exists in internal repository

Summary

Package: REDseq
Version: 1.36.0
Command: /home/biocbuild/bbs-3.12-bioc/R/bin/R CMD INSTALL REDseq
StartedAt: 2021-05-04 16:45:04 -0400 (Tue, 04 May 2021)
EndedAt: 2021-05-04 16:45:51 -0400 (Tue, 04 May 2021)
EllapsedTime: 46.6 seconds
RetCode: 0
Status:   OK  

Command output

##############################################################################
##############################################################################
###
### Running command:
###
###   /home/biocbuild/bbs-3.12-bioc/R/bin/R CMD INSTALL REDseq
###
##############################################################################
##############################################################################


* installing to library ‘/home/biocbuild/bbs-3.12-bioc/R/library’
* installing *source* package ‘REDseq’ ...
** using staged installation
** R
** data
** inst
** byte-compile and prepare package for lazy loading
No methods found in package 'IRanges' for requests: '%in%', 'rep.int' when loading 'REDseq'
** help
*** installing help indices
** building package indices
** installing vignettes
** testing if installed package can be loaded from temporary location
No methods found in package 'IRanges' for requests: '%in%', 'rep.int' when loading 'REDseq'
** testing if installed package can be loaded from final location
No methods found in package 'IRanges' for requests: '%in%', 'rep.int' when loading 'REDseq'
** testing if installed package keeps a record of temporary installation path
* DONE (REDseq)