Back to Multiple platform build/check report for BioC 3.12
ABCDEFGHIJKLMNO[P]QRSTUVWXYZ

BUILD report for PGSEA on merida1

This page was generated on 2021-05-05 12:14:58 -0400 (Wed, 05 May 2021).

To the developers/maintainers of the PGSEA package:
Please make sure to use the following settings in order to reproduce any error or warning you see on this page.
Package 1333/1974HostnameOS / ArchINSTALLBUILDCHECKBUILD BIN
PGSEA 1.64.0  (landing page)
Karl Dykema
Snapshot Date: 2021-05-04 14:50:13 -0400 (Tue, 04 May 2021)
URL: https://git.bioconductor.org/packages/PGSEA
Branch: RELEASE_3_12
Last Commit: 0f5b621
Last Changed Date: 2020-10-27 10:30:45 -0400 (Tue, 27 Oct 2020)
malbec1Linux (Ubuntu 18.04.5 LTS) / x86_64  OK    OK    ERROR  
tokay1Windows Server 2012 R2 Standard / x64  OK    OK    ERROR    OK  
merida1macOS 10.14.6 Mojave / x86_64  OK    OK    ERROR    OK  

Summary

Package: PGSEA
Version: 1.64.0
Command: /Library/Frameworks/R.framework/Versions/Current/Resources/bin/R CMD build --keep-empty-dirs --no-resave-data PGSEA
StartedAt: 2021-05-04 21:13:25 -0400 (Tue, 04 May 2021)
EndedAt: 2021-05-04 21:25:47 -0400 (Tue, 04 May 2021)
EllapsedTime: 741.9 seconds
RetCode: 0
Status:   OK  
PackageFile: PGSEA_1.64.0.tar.gz
PackageFileSize: 1.172 MiB

Command output

##############################################################################
##############################################################################
###
### Running command:
###
###   /Library/Frameworks/R.framework/Versions/Current/Resources/bin/R CMD build --keep-empty-dirs --no-resave-data PGSEA
###
##############################################################################
##############################################################################


* checking for file ‘PGSEA/DESCRIPTION’ ... OK
* preparing ‘PGSEA’:
* checking DESCRIPTION meta-information ... OK
* installing the package to build vignettes
* creating vignettes ... OK
* checking for LF line-endings in source and make files and shell scripts
* checking for empty or unneeded directories
* looking to see if a ‘data/datalist’ file should be added
* building ‘PGSEA_1.64.0.tar.gz’