Back to Multiple platform build/check report for BioC 3.12
ABCDEFGHIJKLMNO[P]QRSTUVWXYZ

INSTALL report for PADOG on merida1

This page was generated on 2021-05-05 12:14:55 -0400 (Wed, 05 May 2021).

To the developers/maintainers of the PADOG package:
Please make sure to use the following settings in order to reproduce any error or warning you see on this page.
Package 1290/1974HostnameOS / ArchINSTALLBUILDCHECKBUILD BIN
PADOG 1.32.0  (landing page)
Adi L. Tarca
Snapshot Date: 2021-05-04 14:50:13 -0400 (Tue, 04 May 2021)
URL: https://git.bioconductor.org/packages/PADOG
Branch: RELEASE_3_12
Last Commit: 5d16b38
Last Changed Date: 2020-12-17 10:16:39 -0400 (Thu, 17 Dec 2020)
malbec1Linux (Ubuntu 18.04.5 LTS) / x86_64  OK    OK    OK  UNNEEDED, same version exists in internal repository
tokay1Windows Server 2012 R2 Standard / x64  OK    OK    OK    OK  UNNEEDED, same version exists in internal repository
merida1macOS 10.14.6 Mojave / x86_64  OK    OK    OK    OK  UNNEEDED, same version exists in internal repository

Summary

Package: PADOG
Version: 1.32.0
Command: /Library/Frameworks/R.framework/Versions/Current/Resources/bin/R CMD INSTALL PADOG
StartedAt: 2021-05-04 16:36:28 -0400 (Tue, 04 May 2021)
EndedAt: 2021-05-04 16:37:21 -0400 (Tue, 04 May 2021)
EllapsedTime: 53.6 seconds
RetCode: 0
Status:   OK  

Command output

##############################################################################
##############################################################################
###
### Running command:
###
###   /Library/Frameworks/R.framework/Versions/Current/Resources/bin/R CMD INSTALL PADOG
###
##############################################################################
##############################################################################


* installing to library ‘/Library/Frameworks/R.framework/Versions/4.0/Resources/library’
* installing *source* package ‘PADOG’ ...
** using staged installation
** R
** byte-compile and prepare package for lazy loading
** help
*** installing help indices
** building package indices
** installing vignettes
** testing if installed package can be loaded from temporary location
** testing if installed package can be loaded from final location
** testing if installed package keeps a record of temporary installation path
* DONE (PADOG)