Back to Multiple platform build/check report for BioC 3.12
ABCDEFGHIJKLMN[O]PQRSTUVWXYZ

BUILD report for Organism.dplyr on tokay1

This page was generated on 2021-05-05 12:12:40 -0400 (Wed, 05 May 2021).

To the developers/maintainers of the Organism.dplyr package:
Please make sure to use the following settings in order to reproduce any error or warning you see on this page.
Package 1279/1974HostnameOS / ArchINSTALLBUILDCHECKBUILD BIN
Organism.dplyr 1.18.0  (landing page)
Martin Morgan
Snapshot Date: 2021-05-04 14:50:13 -0400 (Tue, 04 May 2021)
URL: https://git.bioconductor.org/packages/Organism.dplyr
Branch: RELEASE_3_12
Last Commit: f57cfd5
Last Changed Date: 2020-10-27 11:21:56 -0400 (Tue, 27 Oct 2020)
malbec1Linux (Ubuntu 18.04.5 LTS) / x86_64  OK    OK    OK  UNNEEDED, same version exists in internal repository
tokay1Windows Server 2012 R2 Standard / x64  OK    OK    OK    OK  UNNEEDED, same version exists in internal repository
merida1macOS 10.14.6 Mojave / x86_64  OK    OK    OK    OK  UNNEEDED, same version exists in internal repository

Summary

Package: Organism.dplyr
Version: 1.18.0
Command: chmod a+r Organism.dplyr -R && C:\Users\biocbuild\bbs-3.12-bioc\R\bin\R.exe CMD build --keep-empty-dirs --no-resave-data Organism.dplyr
StartedAt: 2021-05-04 22:28:53 -0400 (Tue, 04 May 2021)
EndedAt: 2021-05-04 22:30:13 -0400 (Tue, 04 May 2021)
EllapsedTime: 79.9 seconds
RetCode: 0
Status:   OK   
PackageFile: Organism.dplyr_1.18.0.tar.gz
PackageFileSize: 438.6 KiB

Command output

##############################################################################
##############################################################################
###
### Running command:
###
###   chmod a+r Organism.dplyr -R && C:\Users\biocbuild\bbs-3.12-bioc\R\bin\R.exe CMD build --keep-empty-dirs --no-resave-data Organism.dplyr
###
##############################################################################
##############################################################################


* checking for file 'Organism.dplyr/DESCRIPTION' ... OK
* preparing 'Organism.dplyr':
* checking DESCRIPTION meta-information ... OK
* installing the package to build vignettes
* creating vignettes ... OK
* checking for LF line-endings in source and make files and shell scripts
* checking for empty or unneeded directories
* building 'Organism.dplyr_1.18.0.tar.gz'