Back to Multiple platform build/check report for BioC 3.12
ABCDEFGHIJKL[M]NOPQRSTUVWXYZ

BUILD BIN report for MetaboSignal on merida1

This page was generated on 2021-05-05 12:14:38 -0400 (Wed, 05 May 2021).

To the developers/maintainers of the MetaboSignal package:
Please make sure to use the following settings in order to reproduce any error or warning you see on this page.
Package 1048/1974HostnameOS / ArchINSTALLBUILDCHECKBUILD BIN
MetaboSignal 1.20.0  (landing page)
Andrea Rodriguez-Martinez
Snapshot Date: 2021-05-04 14:50:13 -0400 (Tue, 04 May 2021)
URL: https://git.bioconductor.org/packages/MetaboSignal
Branch: RELEASE_3_12
Last Commit: 5554397
Last Changed Date: 2020-10-27 11:17:25 -0400 (Tue, 27 Oct 2020)
malbec1Linux (Ubuntu 18.04.5 LTS) / x86_64  OK    OK    OK  UNNEEDED, same version exists in internal repository
tokay1Windows Server 2012 R2 Standard / x64  OK    OK    OK    OK  UNNEEDED, same version exists in internal repository
merida1macOS 10.14.6 Mojave / x86_64  OK    OK    OK    OK  UNNEEDED, same version exists in internal repository

Summary

Package: MetaboSignal
Version: 1.20.0
Command: rm -rf MetaboSignal.buildbin-libdir && mkdir MetaboSignal.buildbin-libdir && /Users/biocbuild/BBS/utils/build-universal.sh MetaboSignal_1.20.0.tar.gz /Library/Frameworks/R.framework/Versions/Current/Resources/bin/R MetaboSignal.buildbin-libdir
StartedAt: 2021-05-05 09:36:00 -0400 (Wed, 05 May 2021)
EndedAt: 2021-05-05 09:36:51 -0400 (Wed, 05 May 2021)
EllapsedTime: 51.1 seconds
RetCode: 0
Status:   OK  
PackageFile: MetaboSignal_1.20.0.tgz
PackageFileSize: 2.667 MiB

Command output

##############################################################################
##############################################################################
###
### Running command:
###
###   rm -rf MetaboSignal.buildbin-libdir && mkdir MetaboSignal.buildbin-libdir && /Users/biocbuild/BBS/utils/build-universal.sh MetaboSignal_1.20.0.tar.gz /Library/Frameworks/R.framework/Versions/Current/Resources/bin/R MetaboSignal.buildbin-libdir
###
##############################################################################
##############################################################################


>>>>>>> 
>>>>>>> INSTALLATION WITH 'R CMD INSTALL --preclean --no-multiarch --library=MetaboSignal.buildbin-libdir MetaboSignal_1.20.0.tar.gz'
>>>>>>> 

* installing *source* package ‘MetaboSignal’ ...
** using staged installation
** R
** data
*** moving datasets to lazyload DB
** inst
** byte-compile and prepare package for lazy loading
** help
*** installing help indices
** building package indices
** installing vignettes
** testing if installed package can be loaded from temporary location
** testing if installed package can be loaded from final location
** testing if installed package keeps a record of temporary installation path
* DONE (MetaboSignal)