Back to Multiple platform build/check report for BioC 3.12
ABCDEFGHIJ[K]LMNOPQRSTUVWXYZ

BUILD report for KEGGlincs on tokay1

This page was generated on 2021-05-05 12:12:15 -0400 (Wed, 05 May 2021).

To the developers/maintainers of the KEGGlincs package:
Please make sure to use the following settings in order to reproduce any error or warning you see on this page.
Package 938/1974HostnameOS / ArchINSTALLBUILDCHECKBUILD BIN
KEGGlincs 1.16.0  (landing page)
Shana White , Mario Medvedovic
Snapshot Date: 2021-05-04 14:50:13 -0400 (Tue, 04 May 2021)
URL: https://git.bioconductor.org/packages/KEGGlincs
Branch: RELEASE_3_12
Last Commit: cc5f8bd
Last Changed Date: 2020-10-27 11:18:22 -0400 (Tue, 27 Oct 2020)
malbec1Linux (Ubuntu 18.04.5 LTS) / x86_64  OK    OK    OK  UNNEEDED, same version exists in internal repository
tokay1Windows Server 2012 R2 Standard / x64  OK    OK    OK    OK  UNNEEDED, same version exists in internal repository
merida1macOS 10.14.6 Mojave / x86_64  OK    OK    OK    OK  UNNEEDED, same version exists in internal repository

Summary

Package: KEGGlincs
Version: 1.16.0
Command: chmod a+r KEGGlincs -R && C:\Users\biocbuild\bbs-3.12-bioc\R\bin\R.exe CMD build --keep-empty-dirs --no-resave-data KEGGlincs
StartedAt: 2021-05-04 21:45:20 -0400 (Tue, 04 May 2021)
EndedAt: 2021-05-04 21:46:42 -0400 (Tue, 04 May 2021)
EllapsedTime: 81.1 seconds
RetCode: 0
Status:   OK   
PackageFile: KEGGlincs_1.16.0.tar.gz
PackageFileSize: 4.215 MiB

Command output

##############################################################################
##############################################################################
###
### Running command:
###
###   chmod a+r KEGGlincs -R && C:\Users\biocbuild\bbs-3.12-bioc\R\bin\R.exe CMD build --keep-empty-dirs --no-resave-data KEGGlincs
###
##############################################################################
##############################################################################


* checking for file 'KEGGlincs/DESCRIPTION' ... OK
* preparing 'KEGGlincs':
* checking DESCRIPTION meta-information ... OK
* installing the package to build vignettes
* creating vignettes ... OK
* checking for LF line-endings in source and make files and shell scripts
* checking for empty or unneeded directories
* building 'KEGGlincs_1.16.0.tar.gz'