Back to Multiple platform build/check report for BioC 3.12
ABCDEFGHIJ[K]LMNOPQRSTUVWXYZ

BUILD BIN report for KEGGlincs on merida1

This page was generated on 2021-05-05 12:14:32 -0400 (Wed, 05 May 2021).

To the developers/maintainers of the KEGGlincs package:
Please make sure to use the following settings in order to reproduce any error or warning you see on this page.
Package 938/1974HostnameOS / ArchINSTALLBUILDCHECKBUILD BIN
KEGGlincs 1.16.0  (landing page)
Shana White , Mario Medvedovic
Snapshot Date: 2021-05-04 14:50:13 -0400 (Tue, 04 May 2021)
URL: https://git.bioconductor.org/packages/KEGGlincs
Branch: RELEASE_3_12
Last Commit: cc5f8bd
Last Changed Date: 2020-10-27 11:18:22 -0400 (Tue, 27 Oct 2020)
malbec1Linux (Ubuntu 18.04.5 LTS) / x86_64  OK    OK    OK  UNNEEDED, same version exists in internal repository
tokay1Windows Server 2012 R2 Standard / x64  OK    OK    OK    OK  UNNEEDED, same version exists in internal repository
merida1macOS 10.14.6 Mojave / x86_64  OK    OK    OK    OK  UNNEEDED, same version exists in internal repository

Summary

Package: KEGGlincs
Version: 1.16.0
Command: rm -rf KEGGlincs.buildbin-libdir && mkdir KEGGlincs.buildbin-libdir && /Users/biocbuild/BBS/utils/build-universal.sh KEGGlincs_1.16.0.tar.gz /Library/Frameworks/R.framework/Versions/Current/Resources/bin/R KEGGlincs.buildbin-libdir
StartedAt: 2021-05-05 09:27:16 -0400 (Wed, 05 May 2021)
EndedAt: 2021-05-05 09:28:17 -0400 (Wed, 05 May 2021)
EllapsedTime: 61.3 seconds
RetCode: 0
Status:   OK  
PackageFile: KEGGlincs_1.16.0.tgz
PackageFileSize: 2.28 MiB

Command output

##############################################################################
##############################################################################
###
### Running command:
###
###   rm -rf KEGGlincs.buildbin-libdir && mkdir KEGGlincs.buildbin-libdir && /Users/biocbuild/BBS/utils/build-universal.sh KEGGlincs_1.16.0.tar.gz /Library/Frameworks/R.framework/Versions/Current/Resources/bin/R KEGGlincs.buildbin-libdir
###
##############################################################################
##############################################################################


>>>>>>> 
>>>>>>> INSTALLATION WITH 'R CMD INSTALL --preclean --no-multiarch --library=KEGGlincs.buildbin-libdir KEGGlincs_1.16.0.tar.gz'
>>>>>>> 

* installing *source* package ‘KEGGlincs’ ...
** using staged installation
** R
** inst
** byte-compile and prepare package for lazy loading
** help
*** installing help indices
** building package indices
** installing vignettes
** testing if installed package can be loaded from temporary location
** testing if installed package can be loaded from final location
** testing if installed package keeps a record of temporary installation path
* DONE (KEGGlincs)