Back to Multiple platform build/check report for BioC 3.12
ABCDEFGHIJ[K]LMNOPQRSTUVWXYZ

BUILD BIN report for KEGGgraph on tokay1

This page was generated on 2021-05-05 12:12:15 -0400 (Wed, 05 May 2021).

To the developers/maintainers of the KEGGgraph package:
Please make sure to use the following settings in order to reproduce any error or warning you see on this page.
Package 937/1974HostnameOS / ArchINSTALLBUILDCHECKBUILD BIN
KEGGgraph 1.50.0  (landing page)
Jitao David Zhang
Snapshot Date: 2021-05-04 14:50:13 -0400 (Tue, 04 May 2021)
URL: https://git.bioconductor.org/packages/KEGGgraph
Branch: RELEASE_3_12
Last Commit: 3335e85
Last Changed Date: 2020-10-27 10:35:05 -0400 (Tue, 27 Oct 2020)
malbec1Linux (Ubuntu 18.04.5 LTS) / x86_64  OK    OK    OK  UNNEEDED, same version exists in internal repository
tokay1Windows Server 2012 R2 Standard / x64  OK    OK    OK    OK  UNNEEDED, same version exists in internal repository
merida1macOS 10.14.6 Mojave / x86_64  OK    OK    OK    OK  UNNEEDED, same version exists in internal repository

Summary

Package: KEGGgraph
Version: 1.50.0
Command: rm -rf KEGGgraph.buildbin-libdir && mkdir KEGGgraph.buildbin-libdir && C:\Users\biocbuild\bbs-3.12-bioc\R\bin\R.exe CMD INSTALL --merge-multiarch --build --library=KEGGgraph.buildbin-libdir KEGGgraph_1.50.0.tar.gz
StartedAt: 2021-05-05 09:25:53 -0400 (Wed, 05 May 2021)
EndedAt: 2021-05-05 09:26:29 -0400 (Wed, 05 May 2021)
EllapsedTime: 36.0 seconds
RetCode: 0
Status:   OK   
PackageFile: KEGGgraph_1.50.0.zip
PackageFileSize: 1.778 MiB

Command output

##############################################################################
##############################################################################
###
### Running command:
###
###   rm -rf KEGGgraph.buildbin-libdir && mkdir KEGGgraph.buildbin-libdir && C:\Users\biocbuild\bbs-3.12-bioc\R\bin\R.exe CMD INSTALL --merge-multiarch --build --library=KEGGgraph.buildbin-libdir KEGGgraph_1.50.0.tar.gz
###
##############################################################################
##############################################################################



install for i386

* installing *source* package 'KEGGgraph' ...
** using staged installation
** R
** data
** inst
** byte-compile and prepare package for lazy loading
** help
*** installing help indices
  converting help for package 'KEGGgraph'
    finding HTML links ... done
    KEGGEdge-class                          html  
    KEGGEdgeSubType-class                   html  
    KEGGEdgeSubtype                         html  
    KEGGGraphics-class                      html  
    KEGGGroup-class                         html  
    KEGGNode-class                          html  
    KEGGPathway-class                       html  
    KEGGPathwayInfo-class                   html  
    KEGGReaction-class                      html  
    KEGGpathway2Graph                       html  
    KEGGpathway2reactionGraph               html  
    expandKEGGNode                          html  
    expandKEGGPathway                       html  
    getDisplayName-methods                  html  
    getEntryID-methods                      html  
    getKEGGID-methods                       html  
    getKEGGgeneLink-methods                 html  
    getKEGGnodeData                         html  
    getKGMLurl                              html  
    getName-methods                         html  
    getNamedElement                         html  
    getPathwayInfo-methods                  html  
    getReactions-methods                    html  
    getRgraphvizEdgeNames                   html  
    getSubtype-methods                      html  
    getTitle-methods                        html  
    getType-methods                         html  
    getValue-methods                        html  
    graphDensity                            html  
    isHomoList                              html  
    kgmlFileName2PathwayName                html  
    mergeGraphs                             html  
    mergeKEGGgraphs                         html  
    neighborhood                            html  
    parseEntry                              html  
    parseGraphics                           html  
    parseKGML                               html  
    parseKGML2DataFrame                     html  
    parseKGML2Graph                         html  
    parseKGMLexpandMaps                     html  
    parsePathwayInfo                        html  
    parseReaction                           html  
    parseRelation                           html  
    parseSubType                            html  
    plotKEGGgraph                           html  
    pvalue2asterisk                         html  
    queryKEGGsubgraph                       html  
    randomSubGraph                          html  
    splitKEGGgroup                          html  
    subGraphByNodeType                      html  
    subKEGGgraph                            html  
    subtypeDisplay-methods                  html  
    top                                     html  
    translateKEGGID2GeneID                  html  
    translateKEGGgraph                      html  
** building package indices
** installing vignettes
** testing if installed package can be loaded from temporary location
** testing if installed package can be loaded from final location
** testing if installed package keeps a record of temporary installation path

install for x64

* installing *source* package 'KEGGgraph' ...
** testing if installed package can be loaded
* MD5 sums
packaged installation of 'KEGGgraph' as KEGGgraph_1.50.0.zip
* DONE (KEGGgraph)