Back to Multiple platform build/check report for BioC 3.12
ABCDEFGHIJ[K]LMNOPQRSTUVWXYZ

BUILD report for KEGGgraph on merida1

This page was generated on 2021-05-05 12:14:32 -0400 (Wed, 05 May 2021).

To the developers/maintainers of the KEGGgraph package:
Please make sure to use the following settings in order to reproduce any error or warning you see on this page.
Package 937/1974HostnameOS / ArchINSTALLBUILDCHECKBUILD BIN
KEGGgraph 1.50.0  (landing page)
Jitao David Zhang
Snapshot Date: 2021-05-04 14:50:13 -0400 (Tue, 04 May 2021)
URL: https://git.bioconductor.org/packages/KEGGgraph
Branch: RELEASE_3_12
Last Commit: 3335e85
Last Changed Date: 2020-10-27 10:35:05 -0400 (Tue, 27 Oct 2020)
malbec1Linux (Ubuntu 18.04.5 LTS) / x86_64  OK    OK    OK  UNNEEDED, same version exists in internal repository
tokay1Windows Server 2012 R2 Standard / x64  OK    OK    OK    OK  UNNEEDED, same version exists in internal repository
merida1macOS 10.14.6 Mojave / x86_64  OK    OK    OK    OK  UNNEEDED, same version exists in internal repository

Summary

Package: KEGGgraph
Version: 1.50.0
Command: /Library/Frameworks/R.framework/Versions/Current/Resources/bin/R CMD build --keep-empty-dirs --no-resave-data KEGGgraph
StartedAt: 2021-05-04 20:17:47 -0400 (Tue, 04 May 2021)
EndedAt: 2021-05-04 20:18:19 -0400 (Tue, 04 May 2021)
EllapsedTime: 32.2 seconds
RetCode: 0
Status:   OK  
PackageFile: KEGGgraph_1.50.0.tar.gz
PackageFileSize: 1.439 MiB

Command output

##############################################################################
##############################################################################
###
### Running command:
###
###   /Library/Frameworks/R.framework/Versions/Current/Resources/bin/R CMD build --keep-empty-dirs --no-resave-data KEGGgraph
###
##############################################################################
##############################################################################


* checking for file ‘KEGGgraph/DESCRIPTION’ ... OK
* preparing ‘KEGGgraph’:
* checking DESCRIPTION meta-information ... OK
* installing the package to build vignettes
* creating vignettes ... OK
* checking for LF line-endings in source and make files and shell scripts
* checking for empty or unneeded directories
* looking to see if a ‘data/datalist’ file should be added
* building ‘KEGGgraph_1.50.0.tar.gz’