Back to Multiple platform build/check report for BioC 3.12
ABCDEFGH[I]JKLMNOPQRSTUVWXYZ

Multiple platform build/check report for BioC 3.12

All results for package IRanges

This page was generated on 2021-05-06 12:26:03 -0400 (Thu, 06 May 2021).

Package 912/1974HostnameOS / ArchINSTALLBUILDCHECKBUILD BIN
IRanges 2.24.1  (landing page)
Bioconductor Package Maintainer
Snapshot Date: 2021-05-05 14:51:38 -0400 (Wed, 05 May 2021)
URL: https://git.bioconductor.org/packages/IRanges
Branch: RELEASE_3_12
Last Commit: 6c61fdd
Last Changed Date: 2020-12-11 20:11:23 -0400 (Fri, 11 Dec 2020)
malbec1Linux (Ubuntu 18.04.5 LTS) / x86_64  OK    OK    WARNINGS  UNNEEDED, same version exists in internal repository
tokay1Windows Server 2012 R2 Standard / x64  OK    OK    WARNINGS    OK  UNNEEDED, same version exists in internal repository
merida1macOS 10.14.6 Mojave / x86_64  OK    OK    WARNINGS    OK  UNNEEDED, same version exists in internal repository

Results for Bioconductor software packages that depend directly on package IRanges

QUICK STATSOS / ArchINSTALLBUILDCHECKBUILD BIN
malbec1Linux (Ubuntu 18.04.5 LTS) / x86_64
04435
011428
0972347
tokay1Windows Server 2012 R2 Standard / x64
05421
013413
413113283
00413
merida1macOS 10.14.6 Mojave / x86_64
09429
014424
0970345
00424
Package 1/439HostnameOS / ArchINSTALLBUILDCHECKBUILD BIN
ALDEx2 1.22.0  (landing page)
Greg Gloor
Last Commit: ac7f0ab
Last Changed Date: 2020-10-27 10:59:20 -0400
malbec1Linux (Ubuntu 18.04.5 LTS) / x86_64  OK    OK    OK  UNNEEDED, same version exists in internal repository
tokay1Windows Server 2012 R2 Standard / x64  OK    OK    OK    OK  UNNEEDED, same version exists in internal repository
merida1macOS 10.14.6 Mojave / x86_64  OK    OK    OK    OK  UNNEEDED, same version exists in internal repository
Package 2/439HostnameOS / ArchINSTALLBUILDCHECKBUILD BIN
AllelicImbalance 1.28.0  (landing page)
Jesper R Gadin
Last Commit: ac5d13c
Last Changed Date: 2020-10-27 10:53:07 -0400
malbec1Linux (Ubuntu 18.04.5 LTS) / x86_64  OK    OK    OK  UNNEEDED, same version exists in internal repository
tokay1Windows Server 2012 R2 Standard / x64  OK    OK    OK    OK  UNNEEDED, same version exists in internal repository
merida1macOS 10.14.6 Mojave / x86_64  OK    OK    OK    OK  UNNEEDED, same version exists in internal repository
Package 3/439HostnameOS / ArchINSTALLBUILDCHECKBUILD BIN
alpine 1.16.0  (landing page)
Michael Love
Last Commit: aee3977
Last Changed Date: 2020-10-27 11:17:10 -0400
malbec1Linux (Ubuntu 18.04.5 LTS) / x86_64  OK    OK    OK  UNNEEDED, same version exists in internal repository
tokay1Windows Server 2012 R2 Standard / x64  OK    OK    OK    OK  UNNEEDED, same version exists in internal repository
merida1macOS 10.14.6 Mojave / x86_64  OK    OK    OK    OK  UNNEEDED, same version exists in internal repository
Package 4/439HostnameOS / ArchINSTALLBUILDCHECKBUILD BIN
amplican 1.12.0  (landing page)
Eivind Valen
Last Commit: f593f59
Last Changed Date: 2020-10-27 11:27:25 -0400
malbec1Linux (Ubuntu 18.04.5 LTS) / x86_64  OK    OK    OK  UNNEEDED, same version exists in internal repository
tokay1Windows Server 2012 R2 Standard / x64  OK    OK    OK    OK  UNNEEDED, same version exists in internal repository
merida1macOS 10.14.6 Mojave / x86_64  OK    OK    OK    OK  UNNEEDED, same version exists in internal repository
Package 5/439HostnameOS / ArchINSTALLBUILDCHECKBUILD BIN
AneuFinder 1.18.0  (landing page)
Aaron Taudt
Last Commit: 76ec9af
Last Changed Date: 2020-10-27 11:12:55 -0400
malbec1Linux (Ubuntu 18.04.5 LTS) / x86_64  OK    OK    OK  UNNEEDED, same version exists in internal repository
tokay1Windows Server 2012 R2 Standard / x64  OK    OK    OK    OK  UNNEEDED, same version exists in internal repository
merida1macOS 10.14.6 Mojave / x86_64  OK    OK    OK    OK  UNNEEDED, same version exists in internal repository
Package 6/439HostnameOS / ArchINSTALLBUILDCHECKBUILD BIN
annmap 1.32.0  (landing page)
Chris Wirth
Last Commit: 4e527dd
Last Changed Date: 2020-10-27 10:46:00 -0400
malbec1Linux (Ubuntu 18.04.5 LTS) / x86_64  OK    OK    WARNINGS  UNNEEDED, same version exists in internal repository
tokay1Windows Server 2012 R2 Standard / x64... NOT SUPPORTED ...
merida1macOS 10.14.6 Mojave / x86_64  OK    OK    WARNINGS    OK  UNNEEDED, same version exists in internal repository
Package 7/439HostnameOS / ArchINSTALLBUILDCHECKBUILD BIN
AnnotationDbi 1.52.0  (landing page)
Bioconductor Package Maintainer
Last Commit: c4e0ca9
Last Changed Date: 2020-10-27 10:29:55 -0400
malbec1Linux (Ubuntu 18.04.5 LTS) / x86_64  OK    OK    OK  UNNEEDED, same version exists in internal repository
tokay1Windows Server 2012 R2 Standard / x64  OK    OK    OK    OK  UNNEEDED, same version exists in internal repository
merida1macOS 10.14.6 Mojave / x86_64  OK    OK    OK    OK  UNNEEDED, same version exists in internal repository
Package 8/439HostnameOS / ArchINSTALLBUILDCHECKBUILD BIN
AnnotationHubData 1.20.2  (landing page)
Bioconductor Package Maintainer
Last Commit: 60ff8b9
Last Changed Date: 2021-04-16 08:31:14 -0400
malbec1Linux (Ubuntu 18.04.5 LTS) / x86_64  OK    OK    WARNINGS  UNNEEDED, same version exists in internal repository
tokay1Windows Server 2012 R2 Standard / x64  OK    OK    WARNINGS    OK  UNNEEDED, same version exists in internal repository
merida1macOS 10.14.6 Mojave / x86_64  OK    OK    WARNINGS    OK  UNNEEDED, same version exists in internal repository
Package 9/439HostnameOS / ArchINSTALLBUILDCHECKBUILD BIN
annotatr 1.16.0  (landing page)
Raymond G. Cavalcante
Last Commit: e5b2b37
Last Changed Date: 2020-10-27 11:18:54 -0400
malbec1Linux (Ubuntu 18.04.5 LTS) / x86_64  OK    OK    OK  UNNEEDED, same version exists in internal repository
tokay1Windows Server 2012 R2 Standard / x64  OK    OK    OK    OK  UNNEEDED, same version exists in internal repository
merida1macOS 10.14.6 Mojave / x86_64  OK    OK    OK    OK  UNNEEDED, same version exists in internal repository
Package 10/439HostnameOS / ArchINSTALLBUILDCHECKBUILD BIN
appreci8R 1.8.0  (landing page)
Sarah Sandmann
Last Commit: 078ead0
Last Changed Date: 2020-10-27 11:37:03 -0400
malbec1Linux (Ubuntu 18.04.5 LTS) / x86_64  OK    OK    OK  UNNEEDED, same version exists in internal repository
tokay1Windows Server 2012 R2 Standard / x64  OK    OK    OK    OK  UNNEEDED, same version exists in internal repository
merida1macOS 10.14.6 Mojave / x86_64  OK    OK    OK    OK  UNNEEDED, same version exists in internal repository
Package 11/439HostnameOS / ArchINSTALLBUILDCHECKBUILD BIN
ArrayExpressHTS 1.40.0  (landing page)
Angela Goncalves , Andrew Tikhonov
Last Commit: 8e951b9
Last Changed Date: 2020-10-27 10:41:33 -0400
malbec1Linux (Ubuntu 18.04.5 LTS) / x86_64  OK    OK    WARNINGS  UNNEEDED, same version exists in internal repository
tokay1Windows Server 2012 R2 Standard / x64... NOT SUPPORTED ...
merida1macOS 10.14.6 Mojave / x86_64  OK    OK    OK    OK  UNNEEDED, same version exists in internal repository
Package 12/439HostnameOS / ArchINSTALLBUILDCHECKBUILD BIN
ArrayTV 1.28.0  (landing page)
Eitan Halper-Stromberg
Last Commit: f8ad413
Last Changed Date: 2020-10-27 10:52:44 -0400
malbec1Linux (Ubuntu 18.04.5 LTS) / x86_64  OK    ERROR  skipped
tokay1Windows Server 2012 R2 Standard / x64  OK    ERROR  skippedskipped
merida1macOS 10.14.6 Mojave / x86_64  OK    ERROR  skippedskipped
Package 13/439HostnameOS / ArchINSTALLBUILDCHECKBUILD BIN
ASpediaFI 1.4.0  (landing page)
Doyeong Yu
Last Commit: d59c4a0
Last Changed Date: 2020-10-27 11:50:40 -0400
malbec1Linux (Ubuntu 18.04.5 LTS) / x86_64  OK    OK    OK  UNNEEDED, same version exists in internal repository
tokay1Windows Server 2012 R2 Standard / x64  OK    OK    OK    OK  UNNEEDED, same version exists in internal repository
merida1macOS 10.14.6 Mojave / x86_64  OK    OK    OK    OK  UNNEEDED, same version exists in internal repository
Package 14/439HostnameOS / ArchINSTALLBUILDCHECKBUILD BIN
ASpli 2.0.0  (landing page)
Estefania Mancini
Last Commit: 641dc04
Last Changed Date: 2020-10-27 11:16:38 -0400
malbec1Linux (Ubuntu 18.04.5 LTS) / x86_64  OK    OK    OK  UNNEEDED, same version exists in internal repository
tokay1Windows Server 2012 R2 Standard / x64  OK    OK    OK    OK  UNNEEDED, same version exists in internal repository
merida1macOS 10.14.6 Mojave / x86_64  OK    OK    OK    OK  UNNEEDED, same version exists in internal repository
Package 15/439HostnameOS / ArchINSTALLBUILDCHECKBUILD BIN
AssessORF 1.8.0  (landing page)
Deepank Korandla
Last Commit: 3cb4cb1
Last Changed Date: 2020-10-27 11:40:18 -0400
malbec1Linux (Ubuntu 18.04.5 LTS) / x86_64  OK    OK    OK  UNNEEDED, same version exists in internal repository
tokay1Windows Server 2012 R2 Standard / x64  OK    OK    OK    OK  UNNEEDED, same version exists in internal repository
merida1macOS 10.14.6 Mojave / x86_64  OK    OK    OK    OK  UNNEEDED, same version exists in internal repository
Package 16/439HostnameOS / ArchINSTALLBUILDCHECKBUILD BIN
ATACseqQC 1.14.4  (landing page)
Jianhong Ou
Last Commit: 0728a45
Last Changed Date: 2020-11-05 09:56:56 -0400
malbec1Linux (Ubuntu 18.04.5 LTS) / x86_64  OK    OK    OK  UNNEEDED, same version exists in internal repository
tokay1Windows Server 2012 R2 Standard / x64  OK    OK    OK    OK  UNNEEDED, same version exists in internal repository
merida1macOS 10.14.6 Mojave / x86_64  OK    OK    OK    OK  UNNEEDED, same version exists in internal repository
Package 17/439HostnameOS / ArchINSTALLBUILDCHECKBUILD BIN
BaalChIP 1.16.0  (landing page)
Ines de Santiago
Last Commit: a5ef128
Last Changed Date: 2021-03-01 09:11:25 -0400
malbec1Linux (Ubuntu 18.04.5 LTS) / x86_64  OK    OK    WARNINGS  UNNEEDED, same version exists in internal repository
tokay1Windows Server 2012 R2 Standard / x64  OK    OK    WARNINGS    OK  UNNEEDED, same version exists in internal repository
merida1macOS 10.14.6 Mojave / x86_64  OK    OK    WARNINGS    OK  UNNEEDED, same version exists in internal repository
Package 18/439HostnameOS / ArchINSTALLBUILDCHECKBUILD BIN
ballgown 2.22.0  (landing page)
Jack Fu
Last Commit: 3bb5d43
Last Changed Date: 2020-10-27 10:57:50 -0400
malbec1Linux (Ubuntu 18.04.5 LTS) / x86_64  OK    OK    OK  UNNEEDED, same version exists in internal repository
tokay1Windows Server 2012 R2 Standard / x64  OK    OK    OK    OK  UNNEEDED, same version exists in internal repository
merida1macOS 10.14.6 Mojave / x86_64  OK    OK    OK    OK  UNNEEDED, same version exists in internal repository
Package 19/439HostnameOS / ArchINSTALLBUILDCHECKBUILD BIN
bambu 1.0.3  (landing page)
Ying Chen
Last Commit: 7140dd6
Last Changed Date: 2021-04-26 22:57:23 -0400
malbec1Linux (Ubuntu 18.04.5 LTS) / x86_64  OK    OK    OK  UNNEEDED, same version exists in internal repository
tokay1Windows Server 2012 R2 Standard / x64  OK    OK    OK    OK  UNNEEDED, same version exists in internal repository
merida1macOS 10.14.6 Mojave / x86_64  OK    OK    OK    OK  UNNEEDED, same version exists in internal repository
Package 20/439HostnameOS / ArchINSTALLBUILDCHECKBUILD BIN
bamsignals 1.22.0  (landing page)
Johannes Helmuth
Last Commit: 5f53396
Last Changed Date: 2020-10-27 11:03:28 -0400
malbec1Linux (Ubuntu 18.04.5 LTS) / x86_64  OK    OK    OK  UNNEEDED, same version exists in internal repository
tokay1Windows Server 2012 R2 Standard / x64  OK    OK    OK    OK  UNNEEDED, same version exists in internal repository
merida1macOS 10.14.6 Mojave / x86_64  OK    OK    OK    OK  UNNEEDED, same version exists in internal repository
Package 21/439HostnameOS / ArchINSTALLBUILDCHECKBUILD BIN
BasicSTARRseq 1.18.0  (landing page)
Annika Buerger
Last Commit: acae287
Last Changed Date: 2020-10-27 11:10:59 -0400
malbec1Linux (Ubuntu 18.04.5 LTS) / x86_64  OK    OK    OK  UNNEEDED, same version exists in internal repository
tokay1Windows Server 2012 R2 Standard / x64  OK    OK    OK    OK  UNNEEDED, same version exists in internal repository
merida1macOS 10.14.6 Mojave / x86_64  OK    OK    OK    OK  UNNEEDED, same version exists in internal repository
Package 22/439HostnameOS / ArchINSTALLBUILDCHECKBUILD BIN
BBCAnalyzer 1.20.0  (landing page)
Sarah Sandmann
Last Commit: 1ab650d
Last Changed Date: 2020-10-27 11:07:21 -0400
malbec1Linux (Ubuntu 18.04.5 LTS) / x86_64  OK    OK    OK  UNNEEDED, same version exists in internal repository
tokay1Windows Server 2012 R2 Standard / x64  OK    OK    WARNINGS    OK  UNNEEDED, same version exists in internal repository
merida1macOS 10.14.6 Mojave / x86_64  OK    OK    OK    OK  UNNEEDED, same version exists in internal repository
Package 23/439HostnameOS / ArchINSTALLBUILDCHECKBUILD BIN
beadarray 2.40.0  (landing page)
Mark Dunning
Last Commit: 785579b
Last Changed Date: 2020-10-27 10:28:02 -0400
malbec1Linux (Ubuntu 18.04.5 LTS) / x86_64  OK    OK    OK  UNNEEDED, same version exists in internal repository
tokay1Windows Server 2012 R2 Standard / x64  OK    OK    OK    OK  UNNEEDED, same version exists in internal repository
merida1macOS 10.14.6 Mojave / x86_64  OK    OK    OK    OK  UNNEEDED, same version exists in internal repository
Package 24/439HostnameOS / ArchINSTALLBUILDCHECKBUILD BIN
BiocOncoTK 1.10.0  (landing page)
VJ Carey
Last Commit: 4267875
Last Changed Date: 2020-10-27 11:35:12 -0400
malbec1Linux (Ubuntu 18.04.5 LTS) / x86_64  OK    OK    OK  UNNEEDED, same version exists in internal repository
tokay1Windows Server 2012 R2 Standard / x64  OK    OK    WARNINGS    OK  UNNEEDED, same version exists in internal repository
merida1macOS 10.14.6 Mojave / x86_64  OK    OK    OK    OK  UNNEEDED, same version exists in internal repository
Package 25/439HostnameOS / ArchINSTALLBUILDCHECKBUILD BIN
biomvRCNS 1.30.0  (landing page)
Yang Du
Last Commit: 0cb8b43
Last Changed Date: 2020-10-27 10:49:21 -0400
malbec1Linux (Ubuntu 18.04.5 LTS) / x86_64  OK    OK    OK  UNNEEDED, same version exists in internal repository
tokay1Windows Server 2012 R2 Standard / x64  OK    OK    OK    OK  UNNEEDED, same version exists in internal repository
merida1macOS 10.14.6 Mojave / x86_64  OK    OK    OK    OK  UNNEEDED, same version exists in internal repository
Package 26/439HostnameOS / ArchINSTALLBUILDCHECKBUILD BIN
Biostrings 2.58.0  (landing page)
H. Pagès
Last Commit: 0ec1a54
Last Changed Date: 2020-10-27 10:23:25 -0400
malbec1Linux (Ubuntu 18.04.5 LTS) / x86_64  OK    OK    WARNINGS  UNNEEDED, same version exists in internal repository
tokay1Windows Server 2012 R2 Standard / x64  OK    OK    WARNINGS    OK  UNNEEDED, same version exists in internal repository
merida1macOS 10.14.6 Mojave / x86_64  OK    OK    WARNINGS    OK  UNNEEDED, same version exists in internal repository
Package 27/439HostnameOS / ArchINSTALLBUILDCHECKBUILD BIN
biovizBase 1.38.0  (landing page)
Michael Lawrence
Last Commit: d0f3362
Last Changed Date: 2020-10-27 10:43:03 -0400
malbec1Linux (Ubuntu 18.04.5 LTS) / x86_64  OK    OK    WARNINGS  UNNEEDED, same version exists in internal repository
tokay1Windows Server 2012 R2 Standard / x64  OK    OK    WARNINGS    OK  UNNEEDED, same version exists in internal repository
merida1macOS 10.14.6 Mojave / x86_64  OK    OK    WARNINGS    OK  UNNEEDED, same version exists in internal repository
Package 28/439HostnameOS / ArchINSTALLBUILDCHECKBUILD BIN
BiSeq 1.30.0  (landing page)
Katja Hebestreit
Last Commit: e946e2d
Last Changed Date: 2020-10-27 10:50:37 -0400
malbec1Linux (Ubuntu 18.04.5 LTS) / x86_64  OK    OK    OK  UNNEEDED, same version exists in internal repository
tokay1Windows Server 2012 R2 Standard / x64  OK    OK    OK    OK  UNNEEDED, same version exists in internal repository
merida1macOS 10.14.6 Mojave / x86_64  OK    OK    OK    OK  UNNEEDED, same version exists in internal repository
Package 29/439HostnameOS / ArchINSTALLBUILDCHECKBUILD BIN
BitSeq 1.34.0  (landing page)
Antti Honkela , Panagiotis Papastamoulis
Last Commit: 46472fc
Last Changed Date: 2020-10-27 10:45:24 -0400
malbec1Linux (Ubuntu 18.04.5 LTS) / x86_64  OK    OK    WARNINGS  UNNEEDED, same version exists in internal repository
tokay1Windows Server 2012 R2 Standard / x64  OK    OK    WARNINGS    OK  UNNEEDED, same version exists in internal repository
merida1macOS 10.14.6 Mojave / x86_64  OK    OK    WARNINGS    OK  UNNEEDED, same version exists in internal repository
Package 30/439HostnameOS / ArchINSTALLBUILDCHECKBUILD BIN
bnbc 1.12.0  (landing page)
Kipper Fletez-Brant
Last Commit: 191bf12
Last Changed Date: 2020-10-27 11:28:47 -0400
malbec1Linux (Ubuntu 18.04.5 LTS) / x86_64  OK    OK    OK  UNNEEDED, same version exists in internal repository
tokay1Windows Server 2012 R2 Standard / x64  OK    OK    OK    OK  UNNEEDED, same version exists in internal repository
merida1macOS 10.14.6 Mojave / x86_64  OK    OK    OK    OK  UNNEEDED, same version exists in internal repository
Package 31/439HostnameOS / ArchINSTALLBUILDCHECKBUILD BIN
BPRMeth 1.16.0  (landing page)
Chantriolnt-Andreas Kapourani
Last Commit: e048536
Last Changed Date: 2020-10-27 11:19:30 -0400
malbec1Linux (Ubuntu 18.04.5 LTS) / x86_64  OK    OK    OK  UNNEEDED, same version exists in internal repository
tokay1Windows Server 2012 R2 Standard / x64  OK    OK    OK    OK  UNNEEDED, same version exists in internal repository
merida1macOS 10.14.6 Mojave / x86_64  OK    OK    OK    OK  UNNEEDED, same version exists in internal repository
Package 32/439HostnameOS / ArchINSTALLBUILDCHECKBUILD BIN
branchpointer 1.16.0  (landing page)
Beth Signal
Last Commit: 853ea53
Last Changed Date: 2020-10-27 11:22:25 -0400
malbec1Linux (Ubuntu 18.04.5 LTS) / x86_64  OK    OK    OK  UNNEEDED, same version exists in internal repository
tokay1Windows Server 2012 R2 Standard / x64  OK    OK    OK    OK  UNNEEDED, same version exists in internal repository
merida1macOS 10.14.6 Mojave / x86_64  OK    OK    OK    OK  UNNEEDED, same version exists in internal repository
Package 33/439HostnameOS / ArchINSTALLBUILDCHECKBUILD BIN
breakpointR 1.8.0  (landing page)
David Porubsky
Last Commit: 8542f20
Last Changed Date: 2020-10-27 11:38:49 -0400
malbec1Linux (Ubuntu 18.04.5 LTS) / x86_64  OK    OK    OK  UNNEEDED, same version exists in internal repository
tokay1Windows Server 2012 R2 Standard / x64  OK    OK    OK    OK  UNNEEDED, same version exists in internal repository
merida1macOS 10.14.6 Mojave / x86_64  OK    OK    OK    OK  UNNEEDED, same version exists in internal repository
Package 34/439HostnameOS / ArchINSTALLBUILDCHECKBUILD BIN
BRGenomics 1.2.0  (landing page)
Mike DeBerardine
Last Commit: 79bb3d5
Last Changed Date: 2020-10-27 11:54:54 -0400
malbec1Linux (Ubuntu 18.04.5 LTS) / x86_64  OK    OK    OK  UNNEEDED, same version exists in internal repository
tokay1Windows Server 2012 R2 Standard / x64  OK    OK    OK    OK  UNNEEDED, same version exists in internal repository
merida1macOS 10.14.6 Mojave / x86_64  OK    OK    OK    OK  UNNEEDED, same version exists in internal repository
Package 35/439HostnameOS / ArchINSTALLBUILDCHECKBUILD BIN
BSgenome 1.58.0  (landing page)
H. Pagès
Last Commit: 3a4926e
Last Changed Date: 2020-10-27 10:28:39 -0400
malbec1Linux (Ubuntu 18.04.5 LTS) / x86_64  OK    OK    WARNINGS  UNNEEDED, same version exists in internal repository
tokay1Windows Server 2012 R2 Standard / x64  OK    OK    WARNINGS    OK  UNNEEDED, same version exists in internal repository
merida1macOS 10.14.6 Mojave / x86_64  OK    OK    WARNINGS    OK  UNNEEDED, same version exists in internal repository
Package 36/439HostnameOS / ArchINSTALLBUILDCHECKBUILD BIN
bsseq 1.26.0  (landing page)
Kasper Daniel Hansen
Last Commit: fae3229
Last Changed Date: 2020-10-27 10:46:25 -0400
malbec1Linux (Ubuntu 18.04.5 LTS) / x86_64  OK    OK    OK  UNNEEDED, same version exists in internal repository
tokay1Windows Server 2012 R2 Standard / x64  OK    OK    OK    OK  UNNEEDED, same version exists in internal repository
merida1macOS 10.14.6 Mojave / x86_64  OK    OK    OK    OK  UNNEEDED, same version exists in internal repository
Package 37/439HostnameOS / ArchINSTALLBUILDCHECKBUILD BIN
BubbleTree 2.20.0  (landing page)
Todd Creasy , Wei Zhu
Last Commit: e891780
Last Changed Date: 2020-10-27 11:02:36 -0400
malbec1Linux (Ubuntu 18.04.5 LTS) / x86_64  OK    OK    OK  UNNEEDED, same version exists in internal repository
tokay1Windows Server 2012 R2 Standard / x64  OK    OK    OK    OK  UNNEEDED, same version exists in internal repository
merida1macOS 10.14.6 Mojave / x86_64  OK    OK    OK    OK  UNNEEDED, same version exists in internal repository
Package 38/439HostnameOS / ArchINSTALLBUILDCHECKBUILD BIN
BUMHMM 1.14.0  (landing page)
Alina Selega
Last Commit: 704c38c
Last Changed Date: 2020-10-27 11:20:05 -0400
malbec1Linux (Ubuntu 18.04.5 LTS) / x86_64  OK    OK    OK  UNNEEDED, same version exists in internal repository
tokay1Windows Server 2012 R2 Standard / x64  OK    OK    OK    OK  UNNEEDED, same version exists in internal repository
merida1macOS 10.14.6 Mojave / x86_64  OK    OK    OK    OK  UNNEEDED, same version exists in internal repository
Package 39/439HostnameOS / ArchINSTALLBUILDCHECKBUILD BIN
bumphunter 1.32.0  (landing page)
Tamilselvi Guharaj
Last Commit: b7d39c2
Last Changed Date: 2021-01-09 21:50:50 -0400
malbec1Linux (Ubuntu 18.04.5 LTS) / x86_64  OK    OK    ERROR  
tokay1Windows Server 2012 R2 Standard / x64  OK    OK    OK    OK  UNNEEDED, same version exists in internal repository
merida1macOS 10.14.6 Mojave / x86_64  OK    OK    OK    OK  UNNEEDED, same version exists in internal repository
Package 40/439HostnameOS / ArchINSTALLBUILDCHECKBUILD BIN
BUSpaRse 1.4.2  (landing page)
Lambda Moses
Last Commit: ac591a3
Last Changed Date: 2021-03-01 14:55:24 -0400
malbec1Linux (Ubuntu 18.04.5 LTS) / x86_64  OK    OK    OK  UNNEEDED, same version exists in internal repository
tokay1Windows Server 2012 R2 Standard / x64  OK    OK    OK    OK  UNNEEDED, same version exists in internal repository
merida1macOS 10.14.6 Mojave / x86_64  OK    OK    OK    OK  UNNEEDED, same version exists in internal repository
Package 41/439HostnameOS / ArchINSTALLBUILDCHECKBUILD BIN
CAFE 1.26.0  (landing page)
Sander Bollen
Last Commit: 2dd3923
Last Changed Date: 2020-10-27 10:55:14 -0400
malbec1Linux (Ubuntu 18.04.5 LTS) / x86_64  OK    OK    WARNINGS  UNNEEDED, same version exists in internal repository
tokay1Windows Server 2012 R2 Standard / x64  OK    OK    WARNINGS    OK  UNNEEDED, same version exists in internal repository
merida1macOS 10.14.6 Mojave / x86_64  OK    OK    WARNINGS    OK  UNNEEDED, same version exists in internal repository
Package 42/439HostnameOS / ArchINSTALLBUILDCHECKBUILD BIN
CAGEfightR 1.10.0  (landing page)
Malte Thodberg
Last Commit: 2ed5872
Last Changed Date: 2020-10-27 11:35:28 -0400
malbec1Linux (Ubuntu 18.04.5 LTS) / x86_64  OK    OK    OK  UNNEEDED, same version exists in internal repository
tokay1Windows Server 2012 R2 Standard / x64  OK    OK    OK    OK  UNNEEDED, same version exists in internal repository
merida1macOS 10.14.6 Mojave / x86_64  OK    OK    OK    OK  UNNEEDED, same version exists in internal repository
Package 43/439HostnameOS / ArchINSTALLBUILDCHECKBUILD BIN
CAGEr 1.32.1  (landing page)
Vanja Haberle , Charles Plessy , Damir Baranasic , Sarvesh Nikumbh
Last Commit: 034e4bf
Last Changed Date: 2021-01-15 01:28:35 -0400
malbec1Linux (Ubuntu 18.04.5 LTS) / x86_64  OK    OK    WARNINGS  UNNEEDED, same version exists in internal repository
tokay1Windows Server 2012 R2 Standard / x64  OK    OK    WARNINGS    OK  UNNEEDED, same version exists in internal repository
merida1macOS 10.14.6 Mojave / x86_64  OK    OK    WARNINGS    OK  UNNEEDED, same version exists in internal repository
Package 44/439HostnameOS / ArchINSTALLBUILDCHECKBUILD BIN
casper 2.24.2  (landing page)
David Rossell
Last Commit: f2c5903
Last Changed Date: 2020-12-15 08:57:40 -0400
malbec1Linux (Ubuntu 18.04.5 LTS) / x86_64  OK    OK    OK  UNNEEDED, same version exists in internal repository
tokay1Windows Server 2012 R2 Standard / x64  OK    OK    WARNINGS    OK  UNNEEDED, same version exists in internal repository
merida1macOS 10.14.6 Mojave / x86_64  OK    OK    WARNINGS    OK  UNNEEDED, same version exists in internal repository
Package 45/439HostnameOS / ArchINSTALLBUILDCHECKBUILD BIN
cBioPortalData 2.2.11  (landing page)
Marcel Ramos
Last Commit: 48d683a
Last Changed Date: 2021-04-21 23:32:13 -0400
malbec1Linux (Ubuntu 18.04.5 LTS) / x86_64  OK    OK    OK  UNNEEDED, same version exists in internal repository
tokay1Windows Server 2012 R2 Standard / x64  OK    OK    OK    OK  UNNEEDED, same version exists in internal repository
merida1macOS 10.14.6 Mojave / x86_64  OK    OK    OK    OK  UNNEEDED, same version exists in internal repository
Package 46/439HostnameOS / ArchINSTALLBUILDCHECKBUILD BIN
CexoR 1.28.0  (landing page)
Pedro Madrigal
Last Commit: 3641236
Last Changed Date: 2020-10-27 10:53:12 -0400
malbec1Linux (Ubuntu 18.04.5 LTS) / x86_64  OK    OK    OK  UNNEEDED, same version exists in internal repository
tokay1Windows Server 2012 R2 Standard / x64  OK    OK    OK    OK  UNNEEDED, same version exists in internal repository
merida1macOS 10.14.6 Mojave / x86_64  OK    OK    OK    OK  UNNEEDED, same version exists in internal repository
Package 47/439HostnameOS / ArchINSTALLBUILDCHECKBUILD BIN
CHARGE 1.10.0  (landing page)
Benjamin Mayne
Last Commit: 44e9847
Last Changed Date: 2020-10-27 11:31:15 -0400
malbec1Linux (Ubuntu 18.04.5 LTS) / x86_64  ERROR    ERROR  skipped
tokay1Windows Server 2012 R2 Standard / x64  ERROR    ERROR  skippedskipped
merida1macOS 10.14.6 Mojave / x86_64  ERROR    ERROR  skippedskipped
Package 48/439HostnameOS / ArchINSTALLBUILDCHECKBUILD BIN
ChIC 1.10.0  (landing page)
Carmen Maria Livi
Last Commit: 2676c3d
Last Changed Date: 2020-10-27 11:34:35 -0400
malbec1Linux (Ubuntu 18.04.5 LTS) / x86_64  OK    OK    OK  UNNEEDED, same version exists in internal repository
tokay1Windows Server 2012 R2 Standard / x64... NOT SUPPORTED ...
merida1macOS 10.14.6 Mojave / x86_64  OK    OK    OK    OK  UNNEEDED, same version exists in internal repository
Package 49/439HostnameOS / ArchINSTALLBUILDCHECKBUILD BIN
chimeraviz 1.16.1  (landing page)
Stian Lågstad
Last Commit: 66a60b3
Last Changed Date: 2021-01-16 17:11:31 -0400
malbec1Linux (Ubuntu 18.04.5 LTS) / x86_64  OK    OK    OK  UNNEEDED, same version exists in internal repository
tokay1Windows Server 2012 R2 Standard / x64  OK    OK    OK    OK  UNNEEDED, same version exists in internal repository
merida1macOS 10.14.6 Mojave / x86_64  OK    OK    OK    OK  UNNEEDED, same version exists in internal repository
Package 50/439HostnameOS / ArchINSTALLBUILDCHECKBUILD BIN
ChIPanalyser 1.12.0  (landing page)
Patrick C.N. Martin
Last Commit: 126b7fa
Last Changed Date: 2020-10-27 11:27:08 -0400
malbec1Linux (Ubuntu 18.04.5 LTS) / x86_64  OK    OK    OK  UNNEEDED, same version exists in internal repository
tokay1Windows Server 2012 R2 Standard / x64  OK    OK    WARNINGS    OK  UNNEEDED, same version exists in internal repository
merida1macOS 10.14.6 Mojave / x86_64  OK    OK    OK    OK  UNNEEDED, same version exists in internal repository
Package 51/439HostnameOS / ArchINSTALLBUILDCHECKBUILD BIN
ChIPComp 1.20.0  (landing page)
Li Chen
Last Commit: 9dbb9ed
Last Changed Date: 2020-10-27 11:07:24 -0400
malbec1Linux (Ubuntu 18.04.5 LTS) / x86_64  OK    OK    OK  UNNEEDED, same version exists in internal repository
tokay1Windows Server 2012 R2 Standard / x64  OK    OK    OK    OK  UNNEEDED, same version exists in internal repository
merida1macOS 10.14.6 Mojave / x86_64  OK    OK    OK    OK  UNNEEDED, same version exists in internal repository
Package 52/439HostnameOS / ArchINSTALLBUILDCHECKBUILD BIN
chipenrich 2.14.0  (landing page)
Raymond G. Cavalcante
Last Commit: 2e41855
Last Changed Date: 2020-10-27 10:52:32 -0400
malbec1Linux (Ubuntu 18.04.5 LTS) / x86_64  OK    OK    OK  UNNEEDED, same version exists in internal repository
tokay1Windows Server 2012 R2 Standard / x64  OK    OK    OK    OK  UNNEEDED, same version exists in internal repository
merida1macOS 10.14.6 Mojave / x86_64  OK    OK    OK    OK  UNNEEDED, same version exists in internal repository
Package 53/439HostnameOS / ArchINSTALLBUILDCHECKBUILD BIN
ChIPexoQual 1.14.0  (landing page)
Rene Welch
Last Commit: c593ac2
Last Changed Date: 2020-10-27 11:20:56 -0400
malbec1Linux (Ubuntu 18.04.5 LTS) / x86_64  OK    OK    OK  UNNEEDED, same version exists in internal repository
tokay1Windows Server 2012 R2 Standard / x64  OK    OK    OK    OK  UNNEEDED, same version exists in internal repository
merida1macOS 10.14.6 Mojave / x86_64  OK    OK    OK    OK  UNNEEDED, same version exists in internal repository
Package 54/439HostnameOS / ArchINSTALLBUILDCHECKBUILD BIN
ChIPpeakAnno 3.24.2  (landing page)
Jianhong Ou
Last Commit: 09d9fec
Last Changed Date: 2021-03-30 09:36:14 -0400
malbec1Linux (Ubuntu 18.04.5 LTS) / x86_64  OK    OK    OK  UNNEEDED, same version exists in internal repository
tokay1Windows Server 2012 R2 Standard / x64  OK    OK    OK    OK  UNNEEDED, same version exists in internal repository
merida1macOS 10.14.6 Mojave / x86_64  OK    OK    OK    OK  UNNEEDED, same version exists in internal repository
Package 55/439HostnameOS / ArchINSTALLBUILDCHECKBUILD BIN
ChIPQC 1.26.0  (landing page)
Tom Carroll , Rory Stark
Last Commit: 967dee8
Last Changed Date: 2020-10-27 10:55:48 -0400
malbec1Linux (Ubuntu 18.04.5 LTS) / x86_64  OK    OK    WARNINGS  UNNEEDED, same version exists in internal repository
tokay1Windows Server 2012 R2 Standard / x64  OK    OK    WARNINGS    OK  UNNEEDED, same version exists in internal repository
merida1macOS 10.14.6 Mojave / x86_64  OK    OK    WARNINGS    OK  UNNEEDED, same version exists in internal repository
Package 56/439HostnameOS / ArchINSTALLBUILDCHECKBUILD BIN
ChIPseeker 1.26.2  (landing page)
Guangchuang Yu
Last Commit: 8142321
Last Changed Date: 2021-03-03 22:18:14 -0400
malbec1Linux (Ubuntu 18.04.5 LTS) / x86_64  OK    OK    OK  UNNEEDED, same version exists in internal repository
tokay1Windows Server 2012 R2 Standard / x64  OK    OK    WARNINGS    OK  UNNEEDED, same version exists in internal repository
merida1macOS 10.14.6 Mojave / x86_64  OK    OK    OK    OK  UNNEEDED, same version exists in internal repository
Package 57/439HostnameOS / ArchINSTALLBUILDCHECKBUILD BIN
chipseq 1.40.0  (landing page)
Bioconductor Package Maintainer
Last Commit: 84bcbc0
Last Changed Date: 2020-10-27 10:35:54 -0400
malbec1Linux (Ubuntu 18.04.5 LTS) / x86_64  OK    OK    WARNINGS  UNNEEDED, same version exists in internal repository
tokay1Windows Server 2012 R2 Standard / x64  OK    OK    WARNINGS    OK  UNNEEDED, same version exists in internal repository
merida1macOS 10.14.6 Mojave / x86_64  OK    OK    WARNINGS    OK  UNNEEDED, same version exists in internal repository
Package 58/439HostnameOS / ArchINSTALLBUILDCHECKBUILD BIN
ChIPseqR 1.44.0  (landing page)
Peter Humburg
Last Commit: 719fbb0
Last Changed Date: 2020-10-27 10:36:51 -0400
malbec1Linux (Ubuntu 18.04.5 LTS) / x86_64  OK    OK    OK  UNNEEDED, same version exists in internal repository
tokay1Windows Server 2012 R2 Standard / x64  OK    OK    OK    OK  UNNEEDED, same version exists in internal repository
merida1macOS 10.14.6 Mojave / x86_64  OK    OK    OK    OK  UNNEEDED, same version exists in internal repository
Package 59/439HostnameOS / ArchINSTALLBUILDCHECKBUILD BIN
ChIPSeqSpike 1.10.0  (landing page)
Nicolas Descostes
Last Commit: b72561e
Last Changed Date: 2020-10-27 11:31:56 -0400
malbec1Linux (Ubuntu 18.04.5 LTS) / x86_64  OK    ERROR  skipped
tokay1Windows Server 2012 R2 Standard / x64  OK    OK    OK    OK  UNNEEDED, same version exists in internal repository
merida1macOS 10.14.6 Mojave / x86_64  OK    ERROR  skippedskipped
Package 60/439HostnameOS / ArchINSTALLBUILDCHECKBUILD BIN
ChIPsim 1.44.0  (landing page)
Peter Humburg
Last Commit: 916ec05
Last Changed Date: 2020-10-27 10:36:18 -0400
malbec1Linux (Ubuntu 18.04.5 LTS) / x86_64  OK    OK    OK  UNNEEDED, same version exists in internal repository
tokay1Windows Server 2012 R2 Standard / x64  OK    OK    OK    OK  UNNEEDED, same version exists in internal repository
merida1macOS 10.14.6 Mojave / x86_64  OK    OK    OK    OK  UNNEEDED, same version exists in internal repository
Package 61/439HostnameOS / ArchINSTALLBUILDCHECKBUILD BIN
ChromHeatMap 1.44.0  (landing page)
Tim F. Rayner
Last Commit: ee1c258
Last Changed Date: 2020-10-27 10:36:43 -0400
malbec1Linux (Ubuntu 18.04.5 LTS) / x86_64  OK    OK    OK  UNNEEDED, same version exists in internal repository
tokay1Windows Server 2012 R2 Standard / x64  OK    OK    OK    OK  UNNEEDED, same version exists in internal repository
merida1macOS 10.14.6 Mojave / x86_64  OK    OK    OK    OK  UNNEEDED, same version exists in internal repository
Package 62/439HostnameOS / ArchINSTALLBUILDCHECKBUILD BIN
ChromSCape 1.0.0  (landing page)
Pacome Prompsy
Last Commit: c84df0d
Last Changed Date: 2020-10-27 12:02:02 -0400
malbec1Linux (Ubuntu 18.04.5 LTS) / x86_64  OK    OK    OK  UNNEEDED, same version exists in internal repository
tokay1Windows Server 2012 R2 Standard / x64  OK    OK    OK    OK  UNNEEDED, same version exists in internal repository
merida1macOS 10.14.6 Mojave / x86_64  OK    OK    OK    OK  UNNEEDED, same version exists in internal repository
Package 63/439HostnameOS / ArchINSTALLBUILDCHECKBUILD BIN
chromstaR 1.16.0  (landing page)
Aaron Taudt
Last Commit: b2bacfd
Last Changed Date: 2020-10-27 11:15:35 -0400
malbec1Linux (Ubuntu 18.04.5 LTS) / x86_64  OK    OK    OK  UNNEEDED, same version exists in internal repository
tokay1Windows Server 2012 R2 Standard / x64  OK    OK    OK    OK  UNNEEDED, same version exists in internal repository
merida1macOS 10.14.6 Mojave / x86_64  OK    OK    OK    OK  UNNEEDED, same version exists in internal repository
Package 64/439HostnameOS / ArchINSTALLBUILDCHECKBUILD BIN
chromswitch 1.12.0  (landing page)
Selin Jessa
Last Commit: 385a597
Last Changed Date: 2020-10-27 11:29:40 -0400
malbec1Linux (Ubuntu 18.04.5 LTS) / x86_64  OK    OK    OK  UNNEEDED, same version exists in internal repository
tokay1Windows Server 2012 R2 Standard / x64  OK    OK    OK    OK  UNNEEDED, same version exists in internal repository
merida1macOS 10.14.6 Mojave / x86_64  OK    OK    OK    OK  UNNEEDED, same version exists in internal repository
Package 65/439HostnameOS / ArchINSTALLBUILDCHECKBUILD BIN
chromVAR 1.12.0  (landing page)
Alicia Schep
Last Commit: ea35241
Last Changed Date: 2020-10-27 11:28:24 -0400
malbec1Linux (Ubuntu 18.04.5 LTS) / x86_64  OK    OK    OK  UNNEEDED, same version exists in internal repository
tokay1Windows Server 2012 R2 Standard / x64  OK    OK    WARNINGS    OK  UNNEEDED, same version exists in internal repository
merida1macOS 10.14.6 Mojave / x86_64  OK    OK    OK    OK  UNNEEDED, same version exists in internal repository
Package 66/439HostnameOS / ArchINSTALLBUILDCHECKBUILD BIN
cicero 1.8.1  (landing page)
Hannah Pliner
Last Commit: ffa460e
Last Changed Date: 2020-12-08 07:26:19 -0400
malbec1Linux (Ubuntu 18.04.5 LTS) / x86_64  OK    OK    OK  UNNEEDED, same version exists in internal repository
tokay1Windows Server 2012 R2 Standard / x64  OK    OK    OK    OK  UNNEEDED, same version exists in internal repository
merida1macOS 10.14.6 Mojave / x86_64  OK    OK    OK    OK  UNNEEDED, same version exists in internal repository
Package 67/439HostnameOS / ArchINSTALLBUILDCHECKBUILD BIN
CINdex 1.18.0  (landing page)
Yuriy Gusev
Last Commit: 80688e0
Last Changed Date: 2020-10-27 11:13:21 -0400
malbec1Linux (Ubuntu 18.04.5 LTS) / x86_64  OK    OK    OK  UNNEEDED, same version exists in internal repository
tokay1Windows Server 2012 R2 Standard / x64  OK    OK    WARNINGS    OK  UNNEEDED, same version exists in internal repository
merida1macOS 10.14.6 Mojave / x86_64  OK    OK    OK    OK  UNNEEDED, same version exists in internal repository
Package 68/439HostnameOS / ArchINSTALLBUILDCHECKBUILD BIN
circRNAprofiler 1.4.2  (landing page)
Simona Aufiero
Last Commit: d699b41
Last Changed Date: 2021-03-04 02:48:10 -0400
malbec1Linux (Ubuntu 18.04.5 LTS) / x86_64  OK    OK    OK  UNNEEDED, same version exists in internal repository
tokay1Windows Server 2012 R2 Standard / x64  OK    OK    OK    OK  UNNEEDED, same version exists in internal repository
merida1macOS 10.14.6 Mojave / x86_64  OK    OK    OK    OK  UNNEEDED, same version exists in internal repository
Package 69/439HostnameOS / ArchINSTALLBUILDCHECKBUILD BIN
cleanUpdTSeq 1.28.0  (landing page)
Jianhong Ou ; Lihua Julie Zhu
Last Commit: 0a193f2
Last Changed Date: 2020-10-27 10:51:31 -0400
malbec1Linux (Ubuntu 18.04.5 LTS) / x86_64  OK    OK    OK  UNNEEDED, same version exists in internal repository
tokay1Windows Server 2012 R2 Standard / x64  OK    OK    OK    OK  UNNEEDED, same version exists in internal repository
merida1macOS 10.14.6 Mojave / x86_64  OK    OK    OK    OK  UNNEEDED, same version exists in internal repository
Package 70/439HostnameOS / ArchINSTALLBUILDCHECKBUILD BIN
cleaver 1.28.0  (landing page)
Sebastian Gibb
Last Commit: 9a76dd6
Last Changed Date: 2020-10-27 10:51:06 -0400
malbec1Linux (Ubuntu 18.04.5 LTS) / x86_64  OK    OK    OK  UNNEEDED, same version exists in internal repository
tokay1Windows Server 2012 R2 Standard / x64  OK    OK    OK    OK  UNNEEDED, same version exists in internal repository
merida1macOS 10.14.6 Mojave / x86_64  OK    OK    OK    OK  UNNEEDED, same version exists in internal repository
Package 71/439HostnameOS / ArchINSTALLBUILDCHECKBUILD BIN
cn.mops 1.36.0  (landing page)
Gundula Povysil
Last Commit: 94d0afc
Last Changed Date: 2020-10-27 10:43:58 -0400
malbec1Linux (Ubuntu 18.04.5 LTS) / x86_64  OK    OK    OK  UNNEEDED, same version exists in internal repository
tokay1Windows Server 2012 R2 Standard / x64  OK    OK    OK    OK  UNNEEDED, same version exists in internal repository
merida1macOS 10.14.6 Mojave / x86_64  OK    OK    OK    OK  UNNEEDED, same version exists in internal repository
Package 72/439HostnameOS / ArchINSTALLBUILDCHECKBUILD BIN
CNEr 1.26.0  (landing page)
Ge Tan
Last Commit: e5e582d
Last Changed Date: 2020-10-27 10:54:44 -0400
malbec1Linux (Ubuntu 18.04.5 LTS) / x86_64  OK    OK    WARNINGS  UNNEEDED, same version exists in internal repository
tokay1Windows Server 2012 R2 Standard / x64  OK    OK    WARNINGS    OK  UNNEEDED, same version exists in internal repository
merida1macOS 10.14.6 Mojave / x86_64  OK    OK    WARNINGS    OK  UNNEEDED, same version exists in internal repository
Package 73/439HostnameOS / ArchINSTALLBUILDCHECKBUILD BIN
CNVfilteR 1.4.2  (landing page)
Jose Marcos Moreno-Cabrera
Last Commit: 0cb32a5
Last Changed Date: 2021-04-16 08:46:56 -0400
malbec1Linux (Ubuntu 18.04.5 LTS) / x86_64  OK    OK    OK  UNNEEDED, same version exists in internal repository
tokay1Windows Server 2012 R2 Standard / x64  OK    OK    OK    OK  UNNEEDED, same version exists in internal repository
merida1macOS 10.14.6 Mojave / x86_64  OK    OK    OK    OK  UNNEEDED, same version exists in internal repository
Package 74/439HostnameOS / ArchINSTALLBUILDCHECKBUILD BIN
CNVPanelizer 1.22.0  (landing page)
Thomas Wolf
Last Commit: e43f2fb
Last Changed Date: 2020-10-27 11:06:10 -0400
malbec1Linux (Ubuntu 18.04.5 LTS) / x86_64  OK    OK    OK  UNNEEDED, same version exists in internal repository
tokay1Windows Server 2012 R2 Standard / x64  OK    OK    OK    OK  UNNEEDED, same version exists in internal repository
merida1macOS 10.14.6 Mojave / x86_64  OK    OK    OK    OK  UNNEEDED, same version exists in internal repository
Package 75/439HostnameOS / ArchINSTALLBUILDCHECKBUILD BIN
CNVRanger 1.6.1  (landing page)
Ludwig Geistlinger
Last Commit: a995fa8
Last Changed Date: 2020-12-09 15:36:10 -0400
malbec1Linux (Ubuntu 18.04.5 LTS) / x86_64  OK    OK    OK  UNNEEDED, same version exists in internal repository
tokay1Windows Server 2012 R2 Standard / x64  OK    OK    OK    OK  UNNEEDED, same version exists in internal repository
merida1macOS 10.14.6 Mojave / x86_64  OK    OK    OK    OK  UNNEEDED, same version exists in internal repository
Package 76/439HostnameOS / ArchINSTALLBUILDCHECKBUILD BIN
CNVrd2 1.28.0  (landing page)
Hoang Tan Nguyen
Last Commit: 84628b8
Last Changed Date: 2020-10-27 10:53:55 -0400
malbec1Linux (Ubuntu 18.04.5 LTS) / x86_64  OK    OK    OK  UNNEEDED, same version exists in internal repository
tokay1Windows Server 2012 R2 Standard / x64  OK    OK    OK    OK  UNNEEDED, same version exists in internal repository
merida1macOS 10.14.6 Mojave / x86_64  OK    OK    OK    OK  UNNEEDED, same version exists in internal repository
Package 77/439HostnameOS / ArchINSTALLBUILDCHECKBUILD BIN
COCOA 2.4.0  (landing page)
John Lawson
Last Commit: 9a75d3f
Last Changed Date: 2020-10-27 11:40:00 -0400
malbec1Linux (Ubuntu 18.04.5 LTS) / x86_64  OK    OK    OK  UNNEEDED, same version exists in internal repository
tokay1Windows Server 2012 R2 Standard / x64  OK    OK    OK    OK  UNNEEDED, same version exists in internal repository
merida1macOS 10.14.6 Mojave / x86_64  OK    OK    OK    OK  UNNEEDED, same version exists in internal repository
Package 78/439HostnameOS / ArchINSTALLBUILDCHECKBUILD BIN
CODEX 1.22.0  (landing page)
Yuchao Jiang
Last Commit: aa0ee42
Last Changed Date: 2020-10-27 11:01:45 -0400
malbec1Linux (Ubuntu 18.04.5 LTS) / x86_64  OK    OK    OK  UNNEEDED, same version exists in internal repository
tokay1Windows Server 2012 R2 Standard / x64  OK    OK    OK    OK  UNNEEDED, same version exists in internal repository
merida1macOS 10.14.6 Mojave / x86_64  OK    OK    OK    OK  UNNEEDED, same version exists in internal repository
Package 79/439HostnameOS / ArchINSTALLBUILDCHECKBUILD BIN
coMET 1.22.0  (landing page)
Tiphaine Martin
Last Commit: a5dc4f7
Last Changed Date: 2020-10-27 11:01:48 -0400
malbec1Linux (Ubuntu 18.04.5 LTS) / x86_64  OK    OK    OK  UNNEEDED, same version exists in internal repository
tokay1Windows Server 2012 R2 Standard / x64  OK    OK    OK    OK  UNNEEDED, same version exists in internal repository
merida1macOS 10.14.6 Mojave / x86_64  OK    OK    OK    OK  UNNEEDED, same version exists in internal repository
Package 80/439HostnameOS / ArchINSTALLBUILDCHECKBUILD BIN
compEpiTools 1.24.0  (landing page)
Kamal Kishore
Last Commit: 9acaf26
Last Changed Date: 2020-10-27 10:58:18 -0400
malbec1Linux (Ubuntu 18.04.5 LTS) / x86_64  OK    OK    OK  UNNEEDED, same version exists in internal repository
tokay1Windows Server 2012 R2 Standard / x64  OK    OK    OK    OK  UNNEEDED, same version exists in internal repository
merida1macOS 10.14.6 Mojave / x86_64  OK    OK    OK    OK  UNNEEDED, same version exists in internal repository
Package 81/439HostnameOS / ArchINSTALLBUILDCHECKBUILD BIN
ComplexHeatmap 2.6.2  (landing page)
Zuguang Gu
Last Commit: 0383bad
Last Changed Date: 2020-11-11 18:45:48 -0400
malbec1Linux (Ubuntu 18.04.5 LTS) / x86_64  OK    OK    OK  UNNEEDED, same version exists in internal repository
tokay1Windows Server 2012 R2 Standard / x64  OK    OK    OK    OK  UNNEEDED, same version exists in internal repository
merida1macOS 10.14.6 Mojave / x86_64  OK    OK    OK    OK  UNNEEDED, same version exists in internal repository
Package 82/439HostnameOS / ArchINSTALLBUILDCHECKBUILD BIN
consensusSeekeR 1.18.0  (landing page)
Astrid Deschenes
Last Commit: 2ef95ae
Last Changed Date: 2020-10-27 11:09:32 -0400
malbec1Linux (Ubuntu 18.04.5 LTS) / x86_64  OK    OK    OK  UNNEEDED, same version exists in internal repository
tokay1Windows Server 2012 R2 Standard / x64  OK    OK    OK    OK  UNNEEDED, same version exists in internal repository
merida1macOS 10.14.6 Mojave / x86_64  OK    OK    OK    OK  UNNEEDED, same version exists in internal repository
Package 83/439HostnameOS / ArchINSTALLBUILDCHECKBUILD BIN
contiBAIT 1.18.0  (landing page)
Kieran O'Neill
Last Commit: d50ef02
Last Changed Date: 2020-10-27 11:11:14 -0400
malbec1Linux (Ubuntu 18.04.5 LTS) / x86_64  OK    OK    WARNINGS  UNNEEDED, same version exists in internal repository
tokay1Windows Server 2012 R2 Standard / x64  OK    OK    WARNINGS    OK  UNNEEDED, same version exists in internal repository
merida1macOS 10.14.6 Mojave / x86_64  OK    OK    WARNINGS    OK  UNNEEDED, same version exists in internal repository
Package 84/439HostnameOS / ArchINSTALLBUILDCHECKBUILD BIN
conumee 1.24.0  (landing page)
Volker Hovestadt
Last Commit: 0be6400
Last Changed Date: 2020-10-27 11:04:42 -0400
malbec1Linux (Ubuntu 18.04.5 LTS) / x86_64  OK    OK    OK  UNNEEDED, same version exists in internal repository
tokay1Windows Server 2012 R2 Standard / x64... NOT SUPPORTED ...
merida1macOS 10.14.6 Mojave / x86_64  OK    OK    OK    OK  UNNEEDED, same version exists in internal repository
Package 85/439HostnameOS / ArchINSTALLBUILDCHECKBUILD BIN
copynumber 1.30.0  (landing page)
Gro Nilsen
Last Commit: 0671fc2
Last Changed Date: 2020-10-27 10:50:17 -0400
malbec1Linux (Ubuntu 18.04.5 LTS) / x86_64  OK    OK    OK  UNNEEDED, same version exists in internal repository
tokay1Windows Server 2012 R2 Standard / x64  OK    OK    OK    OK  UNNEEDED, same version exists in internal repository
merida1macOS 10.14.6 Mojave / x86_64  OK    OK    OK    OK  UNNEEDED, same version exists in internal repository
Package 86/439HostnameOS / ArchINSTALLBUILDCHECKBUILD BIN
CopyNumberPlots 1.6.0  (landing page)
Bernat Gel
Last Commit: bb544ff
Last Changed Date: 2020-10-27 11:45:26 -0400
malbec1Linux (Ubuntu 18.04.5 LTS) / x86_64  OK    OK    OK  UNNEEDED, same version exists in internal repository
tokay1Windows Server 2012 R2 Standard / x64  OK    OK    OK    OK  UNNEEDED, same version exists in internal repository
merida1macOS 10.14.6 Mojave / x86_64  OK    OK    OK    OK  UNNEEDED, same version exists in internal repository
Package 87/439HostnameOS / ArchINSTALLBUILDCHECKBUILD BIN
CopywriteR 2.22.0  (landing page)
Oscar Krijgsman
Last Commit: fadf9a9
Last Changed Date: 2020-10-27 11:04:30 -0400
malbec1Linux (Ubuntu 18.04.5 LTS) / x86_64  OK    OK    OK  UNNEEDED, same version exists in internal repository
tokay1Windows Server 2012 R2 Standard / x64  OK    OK    OK    OK  UNNEEDED, same version exists in internal repository
merida1macOS 10.14.6 Mojave / x86_64  OK    OK    OK    OK  UNNEEDED, same version exists in internal repository
Package 88/439HostnameOS / ArchINSTALLBUILDCHECKBUILD BIN
CoverageView 1.28.0  (landing page)
Ernesto Lowy
Last Commit: e1e05ed
Last Changed Date: 2020-10-27 10:56:07 -0400
malbec1Linux (Ubuntu 18.04.5 LTS) / x86_64  OK    OK    OK  UNNEEDED, same version exists in internal repository
tokay1Windows Server 2012 R2 Standard / x64... NOT SUPPORTED ...
merida1macOS 10.14.6 Mojave / x86_64  OK    OK    OK    OK  UNNEEDED, same version exists in internal repository
Package 89/439HostnameOS / ArchINSTALLBUILDCHECKBUILD BIN
CRISPRseek 1.30.1  (landing page)
Lihua Julie Zhu
Last Commit: 3b0270d
Last Changed Date: 2021-01-11 15:59:45 -0400
malbec1Linux (Ubuntu 18.04.5 LTS) / x86_64  OK    OK    OK  UNNEEDED, same version exists in internal repository
tokay1Windows Server 2012 R2 Standard / x64  OK    OK    OK    OK  UNNEEDED, same version exists in internal repository
merida1macOS 10.14.6 Mojave / x86_64  OK    OK    OK    OK  UNNEEDED, same version exists in internal repository
Package 90/439HostnameOS / ArchINSTALLBUILDCHECKBUILD BIN
CrispRVariants 1.18.0  (landing page)
Helen Lindsay
Last Commit: 4bbba2e
Last Changed Date: 2020-10-27 11:10:15 -0400
malbec1Linux (Ubuntu 18.04.5 LTS) / x86_64  OK    OK    WARNINGS  UNNEEDED, same version exists in internal repository
tokay1Windows Server 2012 R2 Standard / x64  OK    OK    WARNINGS    OK  UNNEEDED, same version exists in internal repository
merida1macOS 10.14.6 Mojave / x86_64  OK    OK    WARNINGS    OK  UNNEEDED, same version exists in internal repository
Package 91/439HostnameOS / ArchINSTALLBUILDCHECKBUILD BIN
CSAR 1.42.0  (landing page)
Jose M Muino
Last Commit: 5e29252
Last Changed Date: 2020-10-27 10:37:11 -0400
malbec1Linux (Ubuntu 18.04.5 LTS) / x86_64  OK    OK    OK  UNNEEDED, same version exists in internal repository
tokay1Windows Server 2012 R2 Standard / x64  OK    OK    OK    OK  UNNEEDED, same version exists in internal repository
merida1macOS 10.14.6 Mojave / x86_64  OK    OK    OK    OK  UNNEEDED, same version exists in internal repository
Package 92/439HostnameOS / ArchINSTALLBUILDCHECKBUILD BIN
csaw 1.24.3  (landing page)
Aaron Lun
Last Commit: 9bad47b
Last Changed Date: 2020-11-09 23:33:24 -0400
malbec1Linux (Ubuntu 18.04.5 LTS) / x86_64  OK    OK    OK  UNNEEDED, same version exists in internal repository
tokay1Windows Server 2012 R2 Standard / x64  OK    OK    OK    OK  UNNEEDED, same version exists in internal repository
merida1macOS 10.14.6 Mojave / x86_64  OK    OK    OK    OK  UNNEEDED, same version exists in internal repository
Package 93/439HostnameOS / ArchINSTALLBUILDCHECKBUILD BIN
CSSQ 1.2.0  (landing page)
Fan Lab at Georgia Institute of Technology
Last Commit: 1e9ee24
Last Changed Date: 2020-10-27 11:52:14 -0400
malbec1Linux (Ubuntu 18.04.5 LTS) / x86_64  OK    OK    OK  UNNEEDED, same version exists in internal repository
tokay1Windows Server 2012 R2 Standard / x64  OK    OK    OK    OK  UNNEEDED, same version exists in internal repository
merida1macOS 10.14.6 Mojave / x86_64  OK    OK    OK    OK  UNNEEDED, same version exists in internal repository
Package 94/439HostnameOS / ArchINSTALLBUILDCHECKBUILD BIN
customProDB 1.30.1  (landing page)
Xiaojing Wang
Last Commit: 2c66727
Last Changed Date: 2021-04-26 13:05:49 -0400
malbec1Linux (Ubuntu 18.04.5 LTS) / x86_64  OK    OK    OK  UNNEEDED, same version exists in internal repository
tokay1Windows Server 2012 R2 Standard / x64  OK    OK    OK    OK  UNNEEDED, same version exists in internal repository
merida1macOS 10.14.6 Mojave / x86_64  OK    OK    OK    OK  UNNEEDED, same version exists in internal repository
Package 95/439HostnameOS / ArchINSTALLBUILDCHECKBUILD BIN
dada2 1.18.0  (landing page)
Benjamin Callahan
Last Commit: a20a676
Last Changed Date: 2020-10-27 11:11:41 -0400
malbec1Linux (Ubuntu 18.04.5 LTS) / x86_64  OK    OK    OK  UNNEEDED, same version exists in internal repository
tokay1Windows Server 2012 R2 Standard / x64  OK    OK    WARNINGS    OK  UNNEEDED, same version exists in internal repository
merida1macOS 10.14.6 Mojave / x86_64  OK    OK    OK    OK  UNNEEDED, same version exists in internal repository
Package 96/439HostnameOS / ArchINSTALLBUILDCHECKBUILD BIN
DAMEfinder 1.2.0  (landing page)
Stephany Orjuela
Last Commit: 99d17c3
Last Changed Date: 2020-10-27 11:52:56 -0400
malbec1Linux (Ubuntu 18.04.5 LTS) / x86_64  OK    OK    OK  UNNEEDED, same version exists in internal repository
tokay1Windows Server 2012 R2 Standard / x64  OK    OK    OK    OK  UNNEEDED, same version exists in internal repository
merida1macOS 10.14.6 Mojave / x86_64  OK    OK    OK    OK  UNNEEDED, same version exists in internal repository
Package 97/439HostnameOS / ArchINSTALLBUILDCHECKBUILD BIN
dasper 1.0.0  (landing page)
David Zhang
Last Commit: 395b887
Last Changed Date: 2020-10-27 12:03:54 -0400
malbec1Linux (Ubuntu 18.04.5 LTS) / x86_64  OK    OK    OK  UNNEEDED, same version exists in internal repository
tokay1Windows Server 2012 R2 Standard / x64  OK    OK    OK    OK  UNNEEDED, same version exists in internal repository
merida1macOS 10.14.6 Mojave / x86_64  OK    OK    OK    OK  UNNEEDED, same version exists in internal repository
Package 98/439HostnameOS / ArchINSTALLBUILDCHECKBUILD BIN
debrowser 1.18.3  (landing page)
Alper Kucukural
Last Commit: 8dbbe8b
Last Changed Date: 2021-04-23 12:57:32 -0400
malbec1Linux (Ubuntu 18.04.5 LTS) / x86_64  OK    OK    OK  UNNEEDED, same version exists in internal repository
tokay1Windows Server 2012 R2 Standard / x64  OK    OK    OK    OK  UNNEEDED, same version exists in internal repository
merida1macOS 10.14.6 Mojave / x86_64  OK    OK    OK    OK  UNNEEDED, same version exists in internal repository
Package 99/439HostnameOS / ArchINSTALLBUILDCHECKBUILD BIN
DECIPHER 2.18.1  (landing page)
Erik Wright
Last Commit: 6a70842
Last Changed Date: 2020-10-28 14:49:22 -0400
malbec1Linux (Ubuntu 18.04.5 LTS) / x86_64  OK    OK    OK  UNNEEDED, same version exists in internal repository
tokay1Windows Server 2012 R2 Standard / x64  OK    OK    OK    OK  UNNEEDED, same version exists in internal repository
merida1macOS 10.14.6 Mojave / x86_64  OK    OK    OK    OK  UNNEEDED, same version exists in internal repository
Package 100/439HostnameOS / ArchINSTALLBUILDCHECKBUILD BIN
deepSNV 1.36.0  (landing page)
Moritz Gerstung
Last Commit: 20969f8
Last Changed Date: 2020-10-27 10:44:43 -0400
malbec1Linux (Ubuntu 18.04.5 LTS) / x86_64  OK    OK    OK  UNNEEDED, same version exists in internal repository
tokay1Windows Server 2012 R2 Standard / x64  OK    OK    OK    OK  UNNEEDED, same version exists in internal repository
merida1macOS 10.14.6 Mojave / x86_64  OK    OK    OK    OK  UNNEEDED, same version exists in internal repository
Package 101/439HostnameOS / ArchINSTALLBUILDCHECKBUILD BIN
DegNorm 1.0.0  (landing page)
Ji-Ping Wang
Last Commit: 5331464
Last Changed Date: 2020-10-27 11:57:52 -0400
malbec1Linux (Ubuntu 18.04.5 LTS) / x86_64  OK    OK    OK  UNNEEDED, same version exists in internal repository
tokay1Windows Server 2012 R2 Standard / x64  OK    OK    OK    OK  UNNEEDED, same version exists in internal repository
merida1macOS 10.14.6 Mojave / x86_64  OK    OK    OK    OK  UNNEEDED, same version exists in internal repository
Package 102/439HostnameOS / ArchINSTALLBUILDCHECKBUILD BIN
DelayedArray 0.16.3  (landing page)
Hervé Pagès
Last Commit: 42c3398
Last Changed Date: 2021-03-23 21:38:17 -0400
malbec1Linux (Ubuntu 18.04.5 LTS) / x86_64  OK    OK    WARNINGS  UNNEEDED, same version exists in internal repository
tokay1Windows Server 2012 R2 Standard / x64  OK    OK    WARNINGS    OK  UNNEEDED, same version exists in internal repository
merida1macOS 10.14.6 Mojave / x86_64  OK    OK    WARNINGS    OK  UNNEEDED, same version exists in internal repository
Package 103/439HostnameOS / ArchINSTALLBUILDCHECKBUILD BIN
DelayedMatrixStats 1.12.3  (landing page)
Peter Hickey
Last Commit: 2b3091d
Last Changed Date: 2021-02-05 14:41:19 -0400
malbec1Linux (Ubuntu 18.04.5 LTS) / x86_64  OK    OK    OK  UNNEEDED, same version exists in internal repository
tokay1Windows Server 2012 R2 Standard / x64  OK    OK    OK    OK  UNNEEDED, same version exists in internal repository
merida1macOS 10.14.6 Mojave / x86_64  OK    OK    OK    OK  UNNEEDED, same version exists in internal repository
Package 104/439HostnameOS / ArchINSTALLBUILDCHECKBUILD BIN
deltaCaptureC 1.4.0  (landing page)
Michael Shapiro
Last Commit: 19f2c77
Last Changed Date: 2020-10-27 11:49:00 -0400
malbec1Linux (Ubuntu 18.04.5 LTS) / x86_64  OK    OK    OK  UNNEEDED, same version exists in internal repository
tokay1Windows Server 2012 R2 Standard / x64  OK    OK    OK    OK  UNNEEDED, same version exists in internal repository
merida1macOS 10.14.6 Mojave / x86_64  OK    OK    OK    OK  UNNEEDED, same version exists in internal repository
Package 105/439HostnameOS / ArchINSTALLBUILDCHECKBUILD BIN
derfinder 1.24.2  (landing page)
Leonardo Collado-Torres
Last Commit: 20f2596
Last Changed Date: 2020-12-18 13:03:04 -0400
malbec1Linux (Ubuntu 18.04.5 LTS) / x86_64  OK    OK    OK  UNNEEDED, same version exists in internal repository
tokay1Windows Server 2012 R2 Standard / x64  OK    OK    OK    OK  UNNEEDED, same version exists in internal repository
merida1macOS 10.14.6 Mojave / x86_64  OK    OK    OK    OK  UNNEEDED, same version exists in internal repository
Package 106/439HostnameOS / ArchINSTALLBUILDCHECKBUILD BIN
derfinderHelper 1.24.1  (landing page)
Leonardo Collado-Torres
Last Commit: de88f99
Last Changed Date: 2020-12-17 17:27:38 -0400
malbec1Linux (Ubuntu 18.04.5 LTS) / x86_64  OK    OK    OK  UNNEEDED, same version exists in internal repository
tokay1Windows Server 2012 R2 Standard / x64  OK    OK    OK    OK  UNNEEDED, same version exists in internal repository
merida1macOS 10.14.6 Mojave / x86_64  OK    OK    OK    OK  UNNEEDED, same version exists in internal repository
Package 107/439HostnameOS / ArchINSTALLBUILDCHECKBUILD BIN
derfinderPlot 1.24.1  (landing page)
Leonardo Collado-Torres
Last Commit: 8c36901
Last Changed Date: 2020-12-17 17:25:38 -0400
malbec1Linux (Ubuntu 18.04.5 LTS) / x86_64  OK    OK    OK  UNNEEDED, same version exists in internal repository
tokay1Windows Server 2012 R2 Standard / x64  OK    OK    OK    OK  UNNEEDED, same version exists in internal repository
merida1macOS 10.14.6 Mojave / x86_64  OK    OK    OK    OK  UNNEEDED, same version exists in internal repository
Package 108/439HostnameOS / ArchINSTALLBUILDCHECKBUILD BIN
DEScan2 1.10.0  (landing page)
Dario Righelli
Last Commit: 7a7d1be
Last Changed Date: 2020-10-27 11:32:55 -0400
malbec1Linux (Ubuntu 18.04.5 LTS) / x86_64  OK    OK    WARNINGS  UNNEEDED, same version exists in internal repository
tokay1Windows Server 2012 R2 Standard / x64  OK    OK    WARNINGS    OK  UNNEEDED, same version exists in internal repository
merida1macOS 10.14.6 Mojave / x86_64  OK    OK    WARNINGS    OK  UNNEEDED, same version exists in internal repository
Package 109/439HostnameOS / ArchINSTALLBUILDCHECKBUILD BIN
DESeq2 1.30.1  (landing page)
Michael Love
Last Commit: 340e674
Last Changed Date: 2021-02-19 14:26:47 -0400
malbec1Linux (Ubuntu 18.04.5 LTS) / x86_64  OK    OK    OK  UNNEEDED, same version exists in internal repository
tokay1Windows Server 2012 R2 Standard / x64  OK    OK    OK    OK  UNNEEDED, same version exists in internal repository
merida1macOS 10.14.6 Mojave / x86_64  OK    OK    OK    OK  UNNEEDED, same version exists in internal repository
Package 110/439HostnameOS / ArchINSTALLBUILDCHECKBUILD BIN
DEXSeq 1.36.0  (landing page)
Alejandro Reyes
Last Commit: f0a361a
Last Changed Date: 2020-10-27 10:41:49 -0400
malbec1Linux (Ubuntu 18.04.5 LTS) / x86_64  OK    OK    OK  UNNEEDED, same version exists in internal repository
tokay1Windows Server 2012 R2 Standard / x64  OK    OK    OK    OK  UNNEEDED, same version exists in internal repository
merida1macOS 10.14.6 Mojave / x86_64  OK    OK    OK    OK  UNNEEDED, same version exists in internal repository
Package 111/439HostnameOS / ArchINSTALLBUILDCHECKBUILD BIN
DiffBind 3.0.15  (landing page)
Rory Stark
Last Commit: 9c4e998
Last Changed Date: 2021-03-22 13:19:01 -0400
malbec1Linux (Ubuntu 18.04.5 LTS) / x86_64  OK    OK    OK  UNNEEDED, same version exists in internal repository
tokay1Windows Server 2012 R2 Standard / x64  OK    OK    OK    OK  UNNEEDED, same version exists in internal repository
merida1macOS 10.14.6 Mojave / x86_64  OK    OK    OK    OK  UNNEEDED, same version exists in internal repository
Package 112/439HostnameOS / ArchINSTALLBUILDCHECKBUILD BIN
diffHic 1.22.0  (landing page)
Aaron Lun
Last Commit: db4e4f8
Last Changed Date: 2020-10-27 11:05:00 -0400
malbec1Linux (Ubuntu 18.04.5 LTS) / x86_64  OK    OK    OK  UNNEEDED, same version exists in internal repository
tokay1Windows Server 2012 R2 Standard / x64  OK    OK    WARNINGS    OK  UNNEEDED, same version exists in internal repository
merida1macOS 10.14.6 Mojave / x86_64  OK    OK    OK    OK  UNNEEDED, same version exists in internal repository
Package 113/439HostnameOS / ArchINSTALLBUILDCHECKBUILD BIN
diffloop 1.18.0  (landing page)
Caleb Lareau
Last Commit: df423a8
Last Changed Date: 2020-10-27 11:14:27 -0400
malbec1Linux (Ubuntu 18.04.5 LTS) / x86_64  OK    OK    OK  UNNEEDED, same version exists in internal repository
tokay1Windows Server 2012 R2 Standard / x64  OK    OK    WARNINGS    OK  UNNEEDED, same version exists in internal repository
merida1macOS 10.14.6 Mojave / x86_64  OK    OK    OK    OK  UNNEEDED, same version exists in internal repository
Package 114/439HostnameOS / ArchINSTALLBUILDCHECKBUILD BIN
DirichletMultinomial 1.32.0  (landing page)
Martin Morgan
Last Commit: 6949aba
Last Changed Date: 2020-10-27 10:45:48 -0400
malbec1Linux (Ubuntu 18.04.5 LTS) / x86_64  OK    OK    OK  UNNEEDED, same version exists in internal repository
tokay1Windows Server 2012 R2 Standard / x64  OK    OK    OK    OK  UNNEEDED, same version exists in internal repository
merida1macOS 10.14.6 Mojave / x86_64  OK    OK    OK    OK  UNNEEDED, same version exists in internal repository
Package 115/439HostnameOS / ArchINSTALLBUILDCHECKBUILD BIN
DMCFB 1.4.0  (landing page)
Farhad Shokoohi
Last Commit: 2e5e757
Last Changed Date: 2020-10-27 11:49:53 -0400
malbec1Linux (Ubuntu 18.04.5 LTS) / x86_64  OK    OK    OK  UNNEEDED, same version exists in internal repository
tokay1Windows Server 2012 R2 Standard / x64  OK    OK    OK    OK  UNNEEDED, same version exists in internal repository
merida1macOS 10.14.6 Mojave / x86_64  OK    OK    OK    OK  UNNEEDED, same version exists in internal repository
Package 116/439HostnameOS / ArchINSTALLBUILDCHECKBUILD BIN
DMCHMM 1.12.0  (landing page)
Farhad Shokoohi
Last Commit: c44e65d
Last Changed Date: 2020-10-27 11:27:00 -0400
malbec1Linux (Ubuntu 18.04.5 LTS) / x86_64  OK    OK    OK  UNNEEDED, same version exists in internal repository
tokay1Windows Server 2012 R2 Standard / x64  OK    OK    WARNINGS    OK  UNNEEDED, same version exists in internal repository
merida1macOS 10.14.6 Mojave / x86_64  OK    OK    OK    OK  UNNEEDED, same version exists in internal repository
Package 117/439HostnameOS / ArchINSTALLBUILDCHECKBUILD BIN
DMRcaller 1.22.0  (landing page)
Nicolae Radu Zabet
Last Commit: 6b19597
Last Changed Date: 2020-10-27 11:04:12 -0400
malbec1Linux (Ubuntu 18.04.5 LTS) / x86_64  OK    OK    OK  UNNEEDED, same version exists in internal repository
tokay1Windows Server 2012 R2 Standard / x64  OK    OK    OK    OK  UNNEEDED, same version exists in internal repository
merida1macOS 10.14.6 Mojave / x86_64  OK    OK    OK    OK  UNNEEDED, same version exists in internal repository
Package 118/439HostnameOS / ArchINSTALLBUILDCHECKBUILD BIN
DMRcate 2.4.1  (landing page)
Tim Peters
Last Commit: bc6242a
Last Changed Date: 2021-01-13 23:09:44 -0400
malbec1Linux (Ubuntu 18.04.5 LTS) / x86_64  OK    OK    OK  UNNEEDED, same version exists in internal repository
tokay1Windows Server 2012 R2 Standard / x64  OK    OK    ERROR    OK  
merida1macOS 10.14.6 Mojave / x86_64  OK    OK    OK    OK  UNNEEDED, same version exists in internal repository
Package 119/439HostnameOS / ArchINSTALLBUILDCHECKBUILD BIN
DMRScan 1.12.0  (landing page)
Christian M Page
Last Commit: 25a84f2
Last Changed Date: 2020-10-27 11:20:53 -0400
malbec1Linux (Ubuntu 18.04.5 LTS) / x86_64  OK    OK    OK  UNNEEDED, same version exists in internal repository
tokay1Windows Server 2012 R2 Standard / x64  OK    OK    OK    OK  UNNEEDED, same version exists in internal repository
merida1macOS 10.14.6 Mojave / x86_64  OK    OK    OK    OK  UNNEEDED, same version exists in internal repository
Package 120/439HostnameOS / ArchINSTALLBUILDCHECKBUILD BIN
dmrseq 1.10.1  (landing page)
Keegan Korthauer
Last Commit: 9fc35ee
Last Changed Date: 2021-04-16 15:08:11 -0400
malbec1Linux (Ubuntu 18.04.5 LTS) / x86_64  OK    OK    WARNINGS  UNNEEDED, same version exists in internal repository
tokay1Windows Server 2012 R2 Standard / x64  OK    OK    WARNINGS    OK  UNNEEDED, same version exists in internal repository
merida1macOS 10.14.6 Mojave / x86_64  OK    OK    WARNINGS    OK  UNNEEDED, same version exists in internal repository
Package 121/439HostnameOS / ArchINSTALLBUILDCHECKBUILD BIN
DominoEffect 1.10.1  (landing page)
Marija Buljan
Last Commit: 4fcce39
Last Changed Date: 2021-04-16 10:19:46 -0400
malbec1Linux (Ubuntu 18.04.5 LTS) / x86_64  OK    OK    OK  UNNEEDED, same version exists in internal repository
tokay1Windows Server 2012 R2 Standard / x64  OK    OK    OK    OK  UNNEEDED, same version exists in internal repository
merida1macOS 10.14.6 Mojave / x86_64  OK    OK    OK    OK  UNNEEDED, same version exists in internal repository
Package 122/439HostnameOS / ArchINSTALLBUILDCHECKBUILD BIN
dpeak 1.2.0  (landing page)
Dongjun Chung
Last Commit: bd5fad4
Last Changed Date: 2020-10-27 11:56:41 -0400
malbec1Linux (Ubuntu 18.04.5 LTS) / x86_64  OK    OK    OK  UNNEEDED, same version exists in internal repository
tokay1Windows Server 2012 R2 Standard / x64  OK    OK    OK    OK  UNNEEDED, same version exists in internal repository
merida1macOS 10.14.6 Mojave / x86_64  OK    OK    OK    OK  UNNEEDED, same version exists in internal repository
Package 123/439HostnameOS / ArchINSTALLBUILDCHECKBUILD BIN
DRIMSeq 1.18.0  (landing page)
Malgorzata Nowicka
Last Commit: 3b9c0e8
Last Changed Date: 2020-10-27 11:12:40 -0400
malbec1Linux (Ubuntu 18.04.5 LTS) / x86_64  OK    OK    WARNINGS  UNNEEDED, same version exists in internal repository
tokay1Windows Server 2012 R2 Standard / x64  OK    OK    WARNINGS    OK  UNNEEDED, same version exists in internal repository
merida1macOS 10.14.6 Mojave / x86_64  OK    OK    WARNINGS    OK  UNNEEDED, same version exists in internal repository
Package 124/439HostnameOS / ArchINSTALLBUILDCHECKBUILD BIN
easyRNASeq 2.26.0  (landing page)
Nicolas Delhomme
Last Commit: e3ce60a
Last Changed Date: 2020-10-27 10:44:21 -0400
malbec1Linux (Ubuntu 18.04.5 LTS) / x86_64  OK    ERROR  skipped
tokay1Windows Server 2012 R2 Standard / x64  OK    ERROR  skippedskipped
merida1macOS 10.14.6 Mojave / x86_64  OK    OK    OK    OK  UNNEEDED, same version exists in internal repository
Package 125/439HostnameOS / ArchINSTALLBUILDCHECKBUILD BIN
EDASeq 2.24.0  (landing page)
Davide Risso
Last Commit: c7c4531
Last Changed Date: 2020-10-27 10:42:52 -0400
malbec1Linux (Ubuntu 18.04.5 LTS) / x86_64  OK    OK    OK  UNNEEDED, same version exists in internal repository
tokay1Windows Server 2012 R2 Standard / x64  OK    OK    OK    OK  UNNEEDED, same version exists in internal repository
merida1macOS 10.14.6 Mojave / x86_64  OK    OK    OK    OK  UNNEEDED, same version exists in internal repository
Package 126/439HostnameOS / ArchINSTALLBUILDCHECKBUILD BIN
eisaR 1.2.0  (landing page)
Michael Stadler
Last Commit: e93caba
Last Changed Date: 2020-10-27 11:54:24 -0400
malbec1Linux (Ubuntu 18.04.5 LTS) / x86_64  OK    OK    OK  UNNEEDED, same version exists in internal repository
tokay1Windows Server 2012 R2 Standard / x64  OK    OK    OK    OK  UNNEEDED, same version exists in internal repository
merida1macOS 10.14.6 Mojave / x86_64  OK    OK    OK    OK  UNNEEDED, same version exists in internal repository
Package 127/439HostnameOS / ArchINSTALLBUILDCHECKBUILD BIN
ELMER 2.14.0  (landing page)
Tiago Chedraoui Silva
Last Commit: 1a74024
Last Changed Date: 2020-10-27 11:05:43 -0400
malbec1Linux (Ubuntu 18.04.5 LTS) / x86_64  OK    OK    OK  UNNEEDED, same version exists in internal repository
tokay1Windows Server 2012 R2 Standard / x64  OK    OK    OK    OK  UNNEEDED, same version exists in internal repository
merida1macOS 10.14.6 Mojave / x86_64  OK    OK    OK    OK  UNNEEDED, same version exists in internal repository
Package 128/439HostnameOS / ArchINSTALLBUILDCHECKBUILD BIN
ENmix 1.26.10  (landing page)
Zongli Xu
Last Commit: c027267
Last Changed Date: 2021-05-01 21:12:03 -0400
malbec1Linux (Ubuntu 18.04.5 LTS) / x86_64  OK    OK    OK  UNNEEDED, same version exists in internal repository
tokay1Windows Server 2012 R2 Standard / x64  OK    OK    OK    OK  UNNEEDED, same version exists in internal repository
merida1macOS 10.14.6 Mojave / x86_64  OK    OK    OK    OK  UNNEEDED, same version exists in internal repository
Package 129/439HostnameOS / ArchINSTALLBUILDCHECKBUILD BIN
EnrichedHeatmap 1.20.0  (landing page)
Zuguang Gu
Last Commit: 3bcdeac
Last Changed Date: 2020-10-27 11:08:11 -0400
malbec1Linux (Ubuntu 18.04.5 LTS) / x86_64  OK    OK    OK  UNNEEDED, same version exists in internal repository
tokay1Windows Server 2012 R2 Standard / x64  OK    OK    OK    OK  UNNEEDED, same version exists in internal repository
merida1macOS 10.14.6 Mojave / x86_64  OK    OK    OK    OK  UNNEEDED, same version exists in internal repository
Package 130/439HostnameOS / ArchINSTALLBUILDCHECKBUILD BIN
enrichTF 1.6.0  (landing page)
Zheng Wei
Last Commit: 1e2abb2
Last Changed Date: 2020-10-27 11:45:51 -0400
malbec1Linux (Ubuntu 18.04.5 LTS) / x86_64  OK    OK    OK  UNNEEDED, same version exists in internal repository
tokay1Windows Server 2012 R2 Standard / x64  OK    OK    OK    OK  UNNEEDED, same version exists in internal repository
merida1macOS 10.14.6 Mojave / x86_64  OK    OK    OK    OK  UNNEEDED, same version exists in internal repository
Package 131/439HostnameOS / ArchINSTALLBUILDCHECKBUILD BIN
ensembldb 2.14.1  (landing page)
Johannes Rainer
Last Commit: c8945b3
Last Changed Date: 2021-04-19 02:04:01 -0400
malbec1Linux (Ubuntu 18.04.5 LTS) / x86_64  OK    OK    OK  UNNEEDED, same version exists in internal repository
tokay1Windows Server 2012 R2 Standard / x64  OK    OK    OK    OK  UNNEEDED, same version exists in internal repository
merida1macOS 10.14.6 Mojave / x86_64  OK    OK    OK    OK  UNNEEDED, same version exists in internal repository
Package 132/439HostnameOS / ArchINSTALLBUILDCHECKBUILD BIN
epigenomix 1.30.0  (landing page)
Hans-Ulrich Klein
Last Commit: 56b3595
Last Changed Date: 2020-10-27 10:49:42 -0400
malbec1Linux (Ubuntu 18.04.5 LTS) / x86_64  OK    OK    OK  UNNEEDED, same version exists in internal repository
tokay1Windows Server 2012 R2 Standard / x64  OK    OK    OK    OK  UNNEEDED, same version exists in internal repository
merida1macOS 10.14.6 Mojave / x86_64  OK    OK    OK    OK  UNNEEDED, same version exists in internal repository
Package 133/439HostnameOS / ArchINSTALLBUILDCHECKBUILD BIN
epihet 1.6.1  (landing page)
Xiaowen Chen
Last Commit: 9cff2f9
Last Changed Date: 2020-12-21 10:26:58 -0400
malbec1Linux (Ubuntu 18.04.5 LTS) / x86_64  OK    OK    OK  UNNEEDED, same version exists in internal repository
tokay1Windows Server 2012 R2 Standard / x64  OK    OK    OK    OK  UNNEEDED, same version exists in internal repository
merida1macOS 10.14.6 Mojave / x86_64  OK    OK    OK    OK  UNNEEDED, same version exists in internal repository
Package 134/439HostnameOS / ArchINSTALLBUILDCHECKBUILD BIN
EpiTxDb 1.2.1  (landing page)
Felix G.M. Ernst
Last Commit: 359e443
Last Changed Date: 2021-03-25 06:10:58 -0400
malbec1Linux (Ubuntu 18.04.5 LTS) / x86_64  OK    OK    OK  UNNEEDED, same version exists in internal repository
tokay1Windows Server 2012 R2 Standard / x64  OK    OK    OK    OK  UNNEEDED, same version exists in internal repository
merida1macOS 10.14.6 Mojave / x86_64  OK    OK    OK    OK  UNNEEDED, same version exists in internal repository
Package 135/439HostnameOS / ArchINSTALLBUILDCHECKBUILD BIN
epivizr 2.20.0  (landing page)
Hector Corrada Bravo
Last Commit: 5b93e6c
Last Changed Date: 2020-10-27 10:53:17 -0400
malbec1Linux (Ubuntu 18.04.5 LTS) / x86_64  OK    OK    OK  UNNEEDED, same version exists in internal repository
tokay1Windows Server 2012 R2 Standard / x64  OK    OK    WARNINGS    OK  UNNEEDED, same version exists in internal repository
merida1macOS 10.14.6 Mojave / x86_64  OK    OK    OK    OK  UNNEEDED, same version exists in internal repository
Package 136/439HostnameOS / ArchINSTALLBUILDCHECKBUILD BIN
epivizrData 1.18.0  (landing page)
Hector Corrada Bravo
Last Commit: 57c859f
Last Changed Date: 2020-10-27 11:14:25 -0400
malbec1Linux (Ubuntu 18.04.5 LTS) / x86_64  OK    OK    OK  UNNEEDED, same version exists in internal repository
tokay1Windows Server 2012 R2 Standard / x64  OK    OK    OK    OK  UNNEEDED, same version exists in internal repository
merida1macOS 10.14.6 Mojave / x86_64  OK    OK    OK    OK  UNNEEDED, same version exists in internal repository
Package 137/439HostnameOS / ArchINSTALLBUILDCHECKBUILD BIN
erma 1.6.0  (landing page)
VJ Carey
Last Commit: 2b7cca5
Last Changed Date: 2020-10-27 11:06:02 -0400
malbec1Linux (Ubuntu 18.04.5 LTS) / x86_64  OK    OK    OK  UNNEEDED, same version exists in internal repository
tokay1Windows Server 2012 R2 Standard / x64  OK    OK    OK    OK  UNNEEDED, same version exists in internal repository
merida1macOS 10.14.6 Mojave / x86_64  OK    OK    OK    OK  UNNEEDED, same version exists in internal repository
Package 138/439HostnameOS / ArchINSTALLBUILDCHECKBUILD BIN
esATAC 1.12.0  (landing page)
Zheng Wei
Last Commit: 7a68538
Last Changed Date: 2020-10-27 11:29:55 -0400
malbec1Linux (Ubuntu 18.04.5 LTS) / x86_64  OK    OK    OK  UNNEEDED, same version exists in internal repository
tokay1Windows Server 2012 R2 Standard / x64  OK    OK    OK    OK  UNNEEDED, same version exists in internal repository
merida1macOS 10.14.6 Mojave / x86_64  OK    OK    OK    OK  UNNEEDED, same version exists in internal repository
Package 139/439HostnameOS / ArchINSTALLBUILDCHECKBUILD BIN
EventPointer 2.8.0  (landing page)
Juan Pablo Romero
Last Commit: bde3577
Last Changed Date: 2020-10-27 11:21:53 -0400
malbec1Linux (Ubuntu 18.04.5 LTS) / x86_64  OK    OK    OK  UNNEEDED, same version exists in internal repository
tokay1Windows Server 2012 R2 Standard / x64  OK    OK    OK    OK  UNNEEDED, same version exists in internal repository
merida1macOS 10.14.6 Mojave / x86_64  OK    OK    OK    OK  UNNEEDED, same version exists in internal repository
Package 140/439HostnameOS / ArchINSTALLBUILDCHECKBUILD BIN
ExCluster 1.8.0  (landing page)
R. Matthew Tanner
Last Commit: 392eb82
Last Changed Date: 2020-10-27 11:39:00 -0400
malbec1Linux (Ubuntu 18.04.5 LTS) / x86_64  OK    OK    OK  UNNEEDED, same version exists in internal repository
tokay1Windows Server 2012 R2 Standard / x64... NOT SUPPORTED ...
merida1macOS 10.14.6 Mojave / x86_64  OK    OK    OK    OK  UNNEEDED, same version exists in internal repository
Package 141/439HostnameOS / ArchINSTALLBUILDCHECKBUILD BIN
exomeCopy 1.36.0  (landing page)
Michael Love
Last Commit: cbe3134
Last Changed Date: 2020-10-27 10:43:40 -0400
malbec1Linux (Ubuntu 18.04.5 LTS) / x86_64  OK    OK    OK  UNNEEDED, same version exists in internal repository
tokay1Windows Server 2012 R2 Standard / x64  OK    OK    OK    OK  UNNEEDED, same version exists in internal repository
merida1macOS 10.14.6 Mojave / x86_64  OK    OK    OK    OK  UNNEEDED, same version exists in internal repository
Package 142/439HostnameOS / ArchINSTALLBUILDCHECKBUILD BIN
exomePeak2 1.2.0  (landing page)
Zhen Wei
Last Commit: a214469
Last Changed Date: 2020-10-27 11:53:58 -0400
malbec1Linux (Ubuntu 18.04.5 LTS) / x86_64  OK    OK    OK  UNNEEDED, same version exists in internal repository
tokay1Windows Server 2012 R2 Standard / x64  OK    OK    OK    OK  UNNEEDED, same version exists in internal repository
merida1macOS 10.14.6 Mojave / x86_64  OK    OK    OK    OK  UNNEEDED, same version exists in internal repository
Package 143/439HostnameOS / ArchINSTALLBUILDCHECKBUILD BIN
FastqCleaner 1.8.0  (landing page)
Leandro Roser
Last Commit: a2a6837
Last Changed Date: 2020-10-27 11:35:58 -0400
malbec1Linux (Ubuntu 18.04.5 LTS) / x86_64  OK    OK    OK  UNNEEDED, same version exists in internal repository
tokay1Windows Server 2012 R2 Standard / x64  OK    OK    WARNINGS    OK  UNNEEDED, same version exists in internal repository
merida1macOS 10.14.6 Mojave / x86_64  OK    OK    OK    OK  UNNEEDED, same version exists in internal repository
Package 144/439HostnameOS / ArchINSTALLBUILDCHECKBUILD BIN
fastseg 1.36.0  (landing page)
Guenter Klambauer
Last Commit: 851ff86
Last Changed Date: 2020-10-27 10:44:00 -0400
malbec1Linux (Ubuntu 18.04.5 LTS) / x86_64  OK    OK    WARNINGS  UNNEEDED, same version exists in internal repository
tokay1Windows Server 2012 R2 Standard / x64  OK    OK    WARNINGS    OK  UNNEEDED, same version exists in internal repository
merida1macOS 10.14.6 Mojave / x86_64  OK    OK    WARNINGS    OK  UNNEEDED, same version exists in internal repository
Package 145/439HostnameOS / ArchINSTALLBUILDCHECKBUILD BIN
fCCAC 1.16.0  (landing page)
Pedro Madrigal
Last Commit: 34a8c76
Last Changed Date: 2020-10-27 11:19:21 -0400
malbec1Linux (Ubuntu 18.04.5 LTS) / x86_64  OK    OK    OK  UNNEEDED, same version exists in internal repository
tokay1Windows Server 2012 R2 Standard / x64  OK    OK    OK    OK  UNNEEDED, same version exists in internal repository
merida1macOS 10.14.6 Mojave / x86_64  OK    OK    OK    OK  UNNEEDED, same version exists in internal repository
Package 146/439HostnameOS / ArchINSTALLBUILDCHECKBUILD BIN
fcScan 1.4.0  (landing page)
Pierre Khoueiry Abdullah El-Kurdi
Last Commit: ec9c90d
Last Changed Date: 2020-10-27 11:48:17 -0400
malbec1Linux (Ubuntu 18.04.5 LTS) / x86_64  OK    OK    OK  UNNEEDED, same version exists in internal repository
tokay1Windows Server 2012 R2 Standard / x64  OK    OK    OK    OK  UNNEEDED, same version exists in internal repository
merida1macOS 10.14.6 Mojave / x86_64  OK    OK    OK    OK  UNNEEDED, same version exists in internal repository
Package 147/439HostnameOS / ArchINSTALLBUILDCHECKBUILD BIN
FilterFFPE 1.0.0  (landing page)
Lanying Wei
Last Commit: 8838232
Last Changed Date: 2020-10-27 12:00:56 -0400
malbec1Linux (Ubuntu 18.04.5 LTS) / x86_64  OK    OK    OK  UNNEEDED, same version exists in internal repository
tokay1Windows Server 2012 R2 Standard / x64  OK    OK    OK    OK  UNNEEDED, same version exists in internal repository
merida1macOS 10.14.6 Mojave / x86_64  OK    OK    OK    OK  UNNEEDED, same version exists in internal repository
Package 148/439HostnameOS / ArchINSTALLBUILDCHECKBUILD BIN
FindMyFriends 1.20.0  (landing page)
Thomas Lin Pedersen
Last Commit: 43d1515
Last Changed Date: 2020-10-27 11:08:14 -0400
malbec1Linux (Ubuntu 18.04.5 LTS) / x86_64  OK    OK    WARNINGS  UNNEEDED, same version exists in internal repository
tokay1Windows Server 2012 R2 Standard / x64  OK    ERROR  skippedskipped
merida1macOS 10.14.6 Mojave / x86_64  OK    OK    WARNINGS    OK  UNNEEDED, same version exists in internal repository
Package 149/439HostnameOS / ArchINSTALLBUILDCHECKBUILD BIN
FRASER 1.2.1  (landing page)
Christian Mertes
Last Commit: 9160638
Last Changed Date: 2021-01-31 17:38:49 -0400
malbec1Linux (Ubuntu 18.04.5 LTS) / x86_64  OK    OK    OK  UNNEEDED, same version exists in internal repository
tokay1Windows Server 2012 R2 Standard / x64  OK    OK    OK    OK  UNNEEDED, same version exists in internal repository
merida1macOS 10.14.6 Mojave / x86_64  OK    OK    OK    OK  UNNEEDED, same version exists in internal repository
Package 150/439HostnameOS / ArchINSTALLBUILDCHECKBUILD BIN
FunciSNP 1.34.0  (landing page)
Simon G. Coetzee
Last Commit: f3222c1
Last Changed Date: 2020-10-27 10:46:05 -0400
malbec1Linux (Ubuntu 18.04.5 LTS) / x86_64  OK    OK    WARNINGS  UNNEEDED, same version exists in internal repository
tokay1Windows Server 2012 R2 Standard / x64  ERROR    ERROR  skippedskipped
merida1macOS 10.14.6 Mojave / x86_64  ERROR    ERROR  skippedskipped
Package 151/439HostnameOS / ArchINSTALLBUILDCHECKBUILD BIN
GA4GHclient 1.14.0  (landing page)
Welliton Souza
Last Commit: e012515
Last Changed Date: 2020-10-27 11:22:46 -0400
malbec1Linux (Ubuntu 18.04.5 LTS) / x86_64  OK    OK    OK  UNNEEDED, same version exists in internal repository
tokay1Windows Server 2012 R2 Standard / x64  OK    OK    OK    OK  UNNEEDED, same version exists in internal repository
merida1macOS 10.14.6 Mojave / x86_64  OK    OK    OK    OK  UNNEEDED, same version exists in internal repository
Package 152/439HostnameOS / ArchINSTALLBUILDCHECKBUILD BIN
gcapc 1.14.0  (landing page)
Mingxiang Teng
Last Commit: 6c7d83d
Last Changed Date: 2020-10-27 11:20:02 -0400
malbec1Linux (Ubuntu 18.04.5 LTS) / x86_64  OK    OK    OK  UNNEEDED, same version exists in internal repository
tokay1Windows Server 2012 R2 Standard / x64  OK    OK    WARNINGS    OK  UNNEEDED, same version exists in internal repository
merida1macOS 10.14.6 Mojave / x86_64  OK    OK    OK    OK  UNNEEDED, same version exists in internal repository
Package 153/439HostnameOS / ArchINSTALLBUILDCHECKBUILD BIN
genbankr 1.18.0  (landing page)
Gabriel Becker
Last Commit: d3c2004
Last Changed Date: 2020-10-27 11:14:04 -0400
malbec1Linux (Ubuntu 18.04.5 LTS) / x86_64  OK    OK    OK  UNNEEDED, same version exists in internal repository
tokay1Windows Server 2012 R2 Standard / x64  OK    OK    OK    OK  UNNEEDED, same version exists in internal repository
merida1macOS 10.14.6 Mojave / x86_64  OK    OK    OK    OK  UNNEEDED, same version exists in internal repository
Package 154/439HostnameOS / ArchINSTALLBUILDCHECKBUILD BIN
geneAttribution 1.16.0  (landing page)
Arthur Wuster
Last Commit: 4f9fa9a
Last Changed Date: 2020-10-27 11:17:20 -0400
malbec1Linux (Ubuntu 18.04.5 LTS) / x86_64  OK    OK    OK  UNNEEDED, same version exists in internal repository
tokay1Windows Server 2012 R2 Standard / x64  OK    OK    OK    OK  UNNEEDED, same version exists in internal repository
merida1macOS 10.14.6 Mojave / x86_64  OK    OK    OK    OK  UNNEEDED, same version exists in internal repository
Package 155/439HostnameOS / ArchINSTALLBUILDCHECKBUILD BIN
GeneGeneInteR 1.16.0  (landing page)
Mathieu Emily
Last Commit: b8a4049
Last Changed Date: 2020-10-27 11:16:28 -0400
malbec1Linux (Ubuntu 18.04.5 LTS) / x86_64  OK    OK    OK  UNNEEDED, same version exists in internal repository
tokay1Windows Server 2012 R2 Standard / x64  OK    OK    OK    OK  UNNEEDED, same version exists in internal repository
merida1macOS 10.14.6 Mojave / x86_64  OK    OK    OK    OK  UNNEEDED, same version exists in internal repository
Package 156/439HostnameOS / ArchINSTALLBUILDCHECKBUILD BIN
geneRxCluster 1.26.0  (landing page)
Charles Berry
Last Commit: cf69aa4
Last Changed Date: 2020-10-27 10:54:16 -0400
malbec1Linux (Ubuntu 18.04.5 LTS) / x86_64  OK    OK    OK  UNNEEDED, same version exists in internal repository
tokay1Windows Server 2012 R2 Standard / x64  OK    OK    OK    OK  UNNEEDED, same version exists in internal repository
merida1macOS 10.14.6 Mojave / x86_64  OK    OK    OK    OK  UNNEEDED, same version exists in internal repository
Package 157/439HostnameOS / ArchINSTALLBUILDCHECKBUILD BIN
GENESIS 2.20.1  (landing page)
Stephanie M. Gogarten
Last Commit: d7ecf7b
Last Changed Date: 2021-01-27 20:13:23 -0400
malbec1Linux (Ubuntu 18.04.5 LTS) / x86_64  OK    OK    OK  UNNEEDED, same version exists in internal repository
tokay1Windows Server 2012 R2 Standard / x64  OK    OK    OK    OK  UNNEEDED, same version exists in internal repository
merida1macOS 10.14.6 Mojave / x86_64  OK    OK    OK    OK  UNNEEDED, same version exists in internal repository
Package 158/439HostnameOS / ArchINSTALLBUILDCHECKBUILD BIN
GeneStructureTools 1.10.0  (landing page)
Beth Signal
Last Commit: 61bb2b5
Last Changed Date: 2020-10-27 11:32:49 -0400
malbec1Linux (Ubuntu 18.04.5 LTS) / x86_64  OK    OK    OK  UNNEEDED, same version exists in internal repository
tokay1Windows Server 2012 R2 Standard / x64  OK    OK    OK    OK  UNNEEDED, same version exists in internal repository
merida1macOS 10.14.6 Mojave / x86_64  OK    OK    OK    OK  UNNEEDED, same version exists in internal repository
Package 159/439HostnameOS / ArchINSTALLBUILDCHECKBUILD BIN
GenoGAM 2.8.0  (landing page)
Georg Stricker
Last Commit: 7698827
Last Changed Date: 2020-10-27 11:13:12 -0400
malbec1Linux (Ubuntu 18.04.5 LTS) / x86_64  OK    OK    WARNINGS  UNNEEDED, same version exists in internal repository
tokay1Windows Server 2012 R2 Standard / x64  OK    OK    WARNINGS    OK  UNNEEDED, same version exists in internal repository
merida1macOS 10.14.6 Mojave / x86_64  OK    OK    WARNINGS    OK  UNNEEDED, same version exists in internal repository
Package 160/439HostnameOS / ArchINSTALLBUILDCHECKBUILD BIN
genomation 1.22.0  (landing page)
Altuna Akalin , Vedran Franke
Last Commit: 4ab56f3
Last Changed Date: 2020-10-27 11:01:16 -0400
malbec1Linux (Ubuntu 18.04.5 LTS) / x86_64  OK    OK    WARNINGS  UNNEEDED, same version exists in internal repository
tokay1Windows Server 2012 R2 Standard / x64  OK    OK    WARNINGS    OK  UNNEEDED, same version exists in internal repository
merida1macOS 10.14.6 Mojave / x86_64  OK    OK    WARNINGS    OK  UNNEEDED, same version exists in internal repository
Package 161/439HostnameOS / ArchINSTALLBUILDCHECKBUILD BIN
GenomeInfoDb 1.26.7  (landing page)
Bioconductor Package Maintainer
Last Commit: 6bef593
Last Changed Date: 2021-04-08 04:38:43 -0400
malbec1Linux (Ubuntu 18.04.5 LTS) / x86_64  OK    OK    OK  UNNEEDED, same version exists in internal repository
tokay1Windows Server 2012 R2 Standard / x64  OK    OK    WARNINGS    OK  UNNEEDED, same version exists in internal repository
merida1macOS 10.14.6 Mojave / x86_64  OK    OK    OK    OK  UNNEEDED, same version exists in internal repository
Package 162/439HostnameOS / ArchINSTALLBUILDCHECKBUILD BIN
genomeIntervals 1.46.0  (landing page)
Julien Gagneur
Last Commit: 519c416
Last Changed Date: 2020-10-27 10:35:22 -0400
malbec1Linux (Ubuntu 18.04.5 LTS) / x86_64  OK    OK    OK  UNNEEDED, same version exists in internal repository
tokay1Windows Server 2012 R2 Standard / x64  OK    OK    WARNINGS    OK  UNNEEDED, same version exists in internal repository
merida1macOS 10.14.6 Mojave / x86_64  OK    OK    OK    OK  UNNEEDED, same version exists in internal repository
Package 163/439HostnameOS / ArchINSTALLBUILDCHECKBUILD BIN
GenomicAlignments 1.26.0  (landing page)
Bioconductor Package Maintainer
Last Commit: 6c74c74
Last Changed Date: 2020-10-27 10:53:58 -0400
malbec1Linux (Ubuntu 18.04.5 LTS) / x86_64  OK    OK    OK  UNNEEDED, same version exists in internal repository
tokay1Windows Server 2012 R2 Standard / x64  OK    OK    WARNINGS    OK  UNNEEDED, same version exists in internal repository
merida1macOS 10.14.6 Mojave / x86_64  OK    OK    OK    OK  UNNEEDED, same version exists in internal repository
Package 164/439HostnameOS / ArchINSTALLBUILDCHECKBUILD BIN
GenomicDataCommons 1.14.0  (landing page)
Sean Davis
Last Commit: c08477c
Last Changed Date: 2020-10-27 11:23:06 -0400
malbec1Linux (Ubuntu 18.04.5 LTS) / x86_64  OK    OK    WARNINGS  UNNEEDED, same version exists in internal repository
tokay1Windows Server 2012 R2 Standard / x64  OK    OK    WARNINGS    OK  UNNEEDED, same version exists in internal repository
merida1macOS 10.14.6 Mojave / x86_64  OK    OK    WARNINGS    OK  UNNEEDED, same version exists in internal repository
Package 165/439HostnameOS / ArchINSTALLBUILDCHECKBUILD BIN
GenomicFeatures 1.42.3  (landing page)
Bioconductor Package Maintainer
Last Commit: 9ce5435
Last Changed Date: 2021-03-31 23:51:33 -0400
malbec1Linux (Ubuntu 18.04.5 LTS) / x86_64  OK    OK    OK  UNNEEDED, same version exists in internal repository
tokay1Windows Server 2012 R2 Standard / x64  OK    OK    WARNINGS    OK  UNNEEDED, same version exists in internal repository
merida1macOS 10.14.6 Mojave / x86_64  OK    OK    OK    OK  UNNEEDED, same version exists in internal repository
Package 166/439HostnameOS / ArchINSTALLBUILDCHECKBUILD BIN
GenomicFiles 1.26.0  (landing page)
Bioconductor Package Maintainer
Last Commit: 8c9e00d
Last Changed Date: 2020-10-27 10:56:29 -0400
malbec1Linux (Ubuntu 18.04.5 LTS) / x86_64  OK    OK    OK  UNNEEDED, same version exists in internal repository
tokay1Windows Server 2012 R2 Standard / x64  OK    OK    WARNINGS    OK  UNNEEDED, same version exists in internal repository
merida1macOS 10.14.6 Mojave / x86_64  OK    OK    OK    OK  UNNEEDED, same version exists in internal repository
Package 167/439HostnameOS / ArchINSTALLBUILDCHECKBUILD BIN
GenomicInteractions 1.24.0  (landing page)
Liz Ing-Simmons
Last Commit: 014f226
Last Changed Date: 2020-10-27 10:59:15 -0400
malbec1Linux (Ubuntu 18.04.5 LTS) / x86_64  OK    OK    OK  UNNEEDED, same version exists in internal repository
tokay1Windows Server 2012 R2 Standard / x64  OK    OK    WARNINGS    OK  UNNEEDED, same version exists in internal repository
merida1macOS 10.14.6 Mojave / x86_64  OK    OK    OK    OK  UNNEEDED, same version exists in internal repository
Package 168/439HostnameOS / ArchINSTALLBUILDCHECKBUILD BIN
GenomicOZone 1.4.1  (landing page)
Mingzhou Song
Last Commit: 4bc5a11
Last Changed Date: 2021-04-27 11:18:29 -0400
malbec1Linux (Ubuntu 18.04.5 LTS) / x86_64  OK    OK    OK  UNNEEDED, same version exists in internal repository
tokay1Windows Server 2012 R2 Standard / x64  OK    OK    OK    OK  UNNEEDED, same version exists in internal repository
merida1macOS 10.14.6 Mojave / x86_64  OK    OK    OK    OK  UNNEEDED, same version exists in internal repository
Package 169/439HostnameOS / ArchINSTALLBUILDCHECKBUILD BIN
GenomicRanges 1.42.0  (landing page)
Bioconductor Package Maintainer
Last Commit: 32baca7
Last Changed Date: 2020-10-27 10:37:41 -0400
malbec1Linux (Ubuntu 18.04.5 LTS) / x86_64  OK    OK    OK  UNNEEDED, same version exists in internal repository
tokay1Windows Server 2012 R2 Standard / x64  OK    OK    WARNINGS    OK  UNNEEDED, same version exists in internal repository
merida1macOS 10.14.6 Mojave / x86_64  OK    OK    OK    OK  UNNEEDED, same version exists in internal repository
Package 170/439HostnameOS / ArchINSTALLBUILDCHECKBUILD BIN
GenomicScores 2.2.0  (landing page)
Robert Castelo
Last Commit: 1a877e1
Last Changed Date: 2020-10-27 11:23:24 -0400
malbec1Linux (Ubuntu 18.04.5 LTS) / x86_64  OK    OK    OK  UNNEEDED, same version exists in internal repository
tokay1Windows Server 2012 R2 Standard / x64  OK    OK    WARNINGS    OK  UNNEEDED, same version exists in internal repository
merida1macOS 10.14.6 Mojave / x86_64  OK    OK    OK    OK  UNNEEDED, same version exists in internal repository
Package 171/439HostnameOS / ArchINSTALLBUILDCHECKBUILD BIN
GenomicTuples 1.24.0  (landing page)
Peter Hickey
Last Commit: c458252
Last Changed Date: 2020-10-27 10:59:57 -0400
malbec1Linux (Ubuntu 18.04.5 LTS) / x86_64  OK    OK    OK  UNNEEDED, same version exists in internal repository
tokay1Windows Server 2012 R2 Standard / x64  OK    OK    OK    OK  UNNEEDED, same version exists in internal repository
merida1macOS 10.14.6 Mojave / x86_64  OK    OK    OK    OK  UNNEEDED, same version exists in internal repository
Package 172/439HostnameOS / ArchINSTALLBUILDCHECKBUILD BIN
genoset 1.46.0  (landing page)
Peter M. Haverty
Last Commit: 74cd3c5
Last Changed Date: 2020-10-27 10:40:59 -0400
malbec1Linux (Ubuntu 18.04.5 LTS) / x86_64  OK    ERROR  skipped
tokay1Windows Server 2012 R2 Standard / x64  OK    ERROR  skippedskipped
merida1macOS 10.14.6 Mojave / x86_64  OK    ERROR  skippedskipped
Package 173/439HostnameOS / ArchINSTALLBUILDCHECKBUILD BIN
genotypeeval 1.22.0  (landing page)
Jennifer Tom
Last Commit: fdb3376
Last Changed Date: 2020-10-27 11:06:38 -0400
malbec1Linux (Ubuntu 18.04.5 LTS) / x86_64  OK    OK    OK  UNNEEDED, same version exists in internal repository
tokay1Windows Server 2012 R2 Standard / x64  OK    OK    OK    OK  UNNEEDED, same version exists in internal repository
merida1macOS 10.14.6 Mojave / x86_64  OK    OK    OK    OK  UNNEEDED, same version exists in internal repository
Package 174/439HostnameOS / ArchINSTALLBUILDCHECKBUILD BIN
GenVisR 1.22.1  (landing page)
Zachary Skidmore
Last Commit: 2e30ead
Last Changed Date: 2020-12-25 19:00:29 -0400
malbec1Linux (Ubuntu 18.04.5 LTS) / x86_64  OK    OK    OK  UNNEEDED, same version exists in internal repository
tokay1Windows Server 2012 R2 Standard / x64  OK    OK    OK    OK  UNNEEDED, same version exists in internal repository
merida1macOS 10.14.6 Mojave / x86_64  OK    OK    ERROR    OK  
Package 175/439HostnameOS / ArchINSTALLBUILDCHECKBUILD BIN
GGBase 3.52.0  (landing page)
VJ Carey
Last Commit: 61410a4
Last Changed Date: 2020-10-27 10:33:19 -0400
malbec1Linux (Ubuntu 18.04.5 LTS) / x86_64  OK    OK    WARNINGS  UNNEEDED, same version exists in internal repository
tokay1Windows Server 2012 R2 Standard / x64  OK    OK    WARNINGS    OK  UNNEEDED, same version exists in internal repository
merida1macOS 10.14.6 Mojave / x86_64  OK    OK    WARNINGS    OK  UNNEEDED, same version exists in internal repository
Package 176/439HostnameOS / ArchINSTALLBUILDCHECKBUILD BIN
ggbio 1.38.0  (landing page)
Michael Lawrence
Last Commit: c39c519
Last Changed Date: 2020-10-27 10:43:32 -0400
malbec1Linux (Ubuntu 18.04.5 LTS) / x86_64  OK    OK    OK  UNNEEDED, same version exists in internal repository
tokay1Windows Server 2012 R2 Standard / x64  OK    OK    WARNINGS    OK  UNNEEDED, same version exists in internal repository
merida1macOS 10.14.6 Mojave / x86_64  OK    OK    OK    OK  UNNEEDED, same version exists in internal repository
Package 177/439HostnameOS / ArchINSTALLBUILDCHECKBUILD BIN
GGtools 5.26.0  (landing page)
VJ Carey
Last Commit: e3aed73
Last Changed Date: 2020-10-27 10:29:23 -0400
malbec1Linux (Ubuntu 18.04.5 LTS) / x86_64  OK    OK    ERROR  
tokay1Windows Server 2012 R2 Standard / x64  OK    OK    ERROR    OK  
merida1macOS 10.14.6 Mojave / x86_64  OK    OK    ERROR    OK  
Package 178/439HostnameOS / ArchINSTALLBUILDCHECKBUILD BIN
girafe 1.42.0  (landing page)
J. Toedling
Last Commit: 983e1ff
Last Changed Date: 2020-10-27 10:37:50 -0400
malbec1Linux (Ubuntu 18.04.5 LTS) / x86_64  OK    OK    OK  UNNEEDED, same version exists in internal repository
tokay1Windows Server 2012 R2 Standard / x64  OK    OK    WARNINGS    OK  UNNEEDED, same version exists in internal repository
merida1macOS 10.14.6 Mojave / x86_64  OK    OK    OK    OK  UNNEEDED, same version exists in internal repository
Package 179/439HostnameOS / ArchINSTALLBUILDCHECKBUILD BIN
gmapR 1.32.0  (landing page)
Michael Lawrence
Last Commit: 02e06e4
Last Changed Date: 2020-11-06 12:06:58 -0400
malbec1Linux (Ubuntu 18.04.5 LTS) / x86_64  OK    OK    WARNINGS  UNNEEDED, same version exists in internal repository
tokay1Windows Server 2012 R2 Standard / x64... NOT SUPPORTED ...
merida1macOS 10.14.6 Mojave / x86_64  OK    OK    WARNINGS    OK  UNNEEDED, same version exists in internal repository
Package 180/439HostnameOS / ArchINSTALLBUILDCHECKBUILD BIN
gmoviz 1.2.0  (landing page)
Kathleen Zeglinski
Last Commit: 67f6302
Last Changed Date: 2020-10-27 11:54:40 -0400
malbec1Linux (Ubuntu 18.04.5 LTS) / x86_64  OK    OK    OK  UNNEEDED, same version exists in internal repository
tokay1Windows Server 2012 R2 Standard / x64  OK    OK    OK    OK  UNNEEDED, same version exists in internal repository
merida1macOS 10.14.6 Mojave / x86_64  OK    OK    OK    OK  UNNEEDED, same version exists in internal repository
Package 181/439HostnameOS / ArchINSTALLBUILDCHECKBUILD BIN
GOfuncR 1.10.0  (landing page)
Steffi Grote
Last Commit: 51b01a2
Last Changed Date: 2020-10-27 11:30:34 -0400
malbec1Linux (Ubuntu 18.04.5 LTS) / x86_64  OK    OK    OK  UNNEEDED, same version exists in internal repository
tokay1Windows Server 2012 R2 Standard / x64  OK    OK    OK    OK  UNNEEDED, same version exists in internal repository
merida1macOS 10.14.6 Mojave / x86_64  OK    OK    OK    OK  UNNEEDED, same version exists in internal repository
Package 182/439HostnameOS / ArchINSTALLBUILDCHECKBUILD BIN
GOpro 1.16.0  (landing page)
Lidia Chrabaszcz
Last Commit: 54b3be7
Last Changed Date: 2020-10-27 11:18:06 -0400
malbec1Linux (Ubuntu 18.04.5 LTS) / x86_64  OK    OK    WARNINGS  UNNEEDED, same version exists in internal repository
tokay1Windows Server 2012 R2 Standard / x64  OK    OK    WARNINGS    OK  UNNEEDED, same version exists in internal repository
merida1macOS 10.14.6 Mojave / x86_64  OK    OK    WARNINGS    OK  UNNEEDED, same version exists in internal repository
Package 183/439HostnameOS / ArchINSTALLBUILDCHECKBUILD BIN
GOTHiC 1.26.0  (landing page)
Borbala Mifsud
Last Commit: 49fc755
Last Changed Date: 2020-10-27 11:47:18 -0400
malbec1Linux (Ubuntu 18.04.5 LTS) / x86_64  OK    OK    OK  UNNEEDED, same version exists in internal repository
tokay1Windows Server 2012 R2 Standard / x64  OK    OK    OK    OK  UNNEEDED, same version exists in internal repository
merida1macOS 10.14.6 Mojave / x86_64  OK    OK    OK    OK  UNNEEDED, same version exists in internal repository
Package 184/439HostnameOS / ArchINSTALLBUILDCHECKBUILD BIN
gpart 1.8.0  (landing page)
Sun Ah Kim
Last Commit: 54a9514
Last Changed Date: 2020-10-27 11:38:51 -0400
malbec1Linux (Ubuntu 18.04.5 LTS) / x86_64  OK    OK    OK  UNNEEDED, same version exists in internal repository
tokay1Windows Server 2012 R2 Standard / x64  OK    OK    OK    OK  UNNEEDED, same version exists in internal repository
merida1macOS 10.14.6 Mojave / x86_64  OK    OK    OK    OK  UNNEEDED, same version exists in internal repository
Package 185/439HostnameOS / ArchINSTALLBUILDCHECKBUILD BIN
gQTLstats 1.22.0  (landing page)
VJ Carey
Last Commit: cf2dc31
Last Changed Date: 2020-10-27 11:01:32 -0400
malbec1Linux (Ubuntu 18.04.5 LTS) / x86_64  ERROR    ERROR  skipped
tokay1Windows Server 2012 R2 Standard / x64  ERROR    ERROR  skippedskipped
merida1macOS 10.14.6 Mojave / x86_64  ERROR    ERROR  skippedskipped
Package 186/439HostnameOS / ArchINSTALLBUILDCHECKBUILD BIN
groHMM 1.24.0  (landing page)
Anusha Nagari , Tulip Nandu , W. Lee Kraus
Last Commit: 40688b8
Last Changed Date: 2020-10-27 11:00:20 -0400
malbec1Linux (Ubuntu 18.04.5 LTS) / x86_64  OK    OK    OK  UNNEEDED, same version exists in internal repository
tokay1Windows Server 2012 R2 Standard / x64  OK    OK    OK    OK  UNNEEDED, same version exists in internal repository
merida1macOS 10.14.6 Mojave / x86_64  OK    OK    OK    OK  UNNEEDED, same version exists in internal repository
Package 187/439HostnameOS / ArchINSTALLBUILDCHECKBUILD BIN
GSVA 1.38.2  (landing page)
Justin Guinney
Last Commit: 3acf0ce
Last Changed Date: 2021-02-09 08:18:15 -0400
malbec1Linux (Ubuntu 18.04.5 LTS) / x86_64  OK    OK    OK  UNNEEDED, same version exists in internal repository
tokay1Windows Server 2012 R2 Standard / x64  OK    OK    OK    OK  UNNEEDED, same version exists in internal repository
merida1macOS 10.14.6 Mojave / x86_64  OK    OK    OK    OK  UNNEEDED, same version exists in internal repository
Package 188/439HostnameOS / ArchINSTALLBUILDCHECKBUILD BIN
gtrellis 1.22.0  (landing page)
Zuguang Gu
Last Commit: c071c56
Last Changed Date: 2020-10-27 11:03:49 -0400
malbec1Linux (Ubuntu 18.04.5 LTS) / x86_64  OK    OK    OK  UNNEEDED, same version exists in internal repository
tokay1Windows Server 2012 R2 Standard / x64  OK    OK    OK    OK  UNNEEDED, same version exists in internal repository
merida1macOS 10.14.6 Mojave / x86_64  OK    OK    OK    OK  UNNEEDED, same version exists in internal repository
Package 189/439HostnameOS / ArchINSTALLBUILDCHECKBUILD BIN
GUIDEseq 1.20.0  (landing page)
Lihua Julie Zhu
Last Commit: ccacc7a
Last Changed Date: 2020-10-27 11:08:56 -0400
malbec1Linux (Ubuntu 18.04.5 LTS) / x86_64  OK    OK    OK  UNNEEDED, same version exists in internal repository
tokay1Windows Server 2012 R2 Standard / x64  OK    OK    OK    OK  UNNEEDED, same version exists in internal repository
merida1macOS 10.14.6 Mojave / x86_64  OK    OK    OK    OK  UNNEEDED, same version exists in internal repository
Package 190/439HostnameOS / ArchINSTALLBUILDCHECKBUILD BIN
Gviz 1.34.1  (landing page)
Robert Ivanek
Last Commit: 5aa425a
Last Changed Date: 2021-03-14 18:05:41 -0400
malbec1Linux (Ubuntu 18.04.5 LTS) / x86_64  OK    OK    OK  UNNEEDED, same version exists in internal repository
tokay1Windows Server 2012 R2 Standard / x64  OK    OK    OK    OK  UNNEEDED, same version exists in internal repository
merida1macOS 10.14.6 Mojave / x86_64  OK    OK    OK    OK  UNNEEDED, same version exists in internal repository
Package 191/439HostnameOS / ArchINSTALLBUILDCHECKBUILD BIN
gwascat 2.22.0  (landing page)
VJ Carey
Last Commit: 2340948
Last Changed Date: 2020-10-27 10:44:53 -0400
malbec1Linux (Ubuntu 18.04.5 LTS) / x86_64  OK    OK    OK  UNNEEDED, same version exists in internal repository
tokay1Windows Server 2012 R2 Standard / x64  OK    OK    OK    OK  UNNEEDED, same version exists in internal repository
merida1macOS 10.14.6 Mojave / x86_64  OK    OK    OK    OK  UNNEEDED, same version exists in internal repository
Package 192/439HostnameOS / ArchINSTALLBUILDCHECKBUILD BIN
h5vc 2.24.0  (landing page)
Paul Theodor Pyl
Last Commit: 325e19e
Last Changed Date: 2020-10-27 10:53:51 -0400
malbec1Linux (Ubuntu 18.04.5 LTS) / x86_64  OK    OK    OK  UNNEEDED, same version exists in internal repository
tokay1Windows Server 2012 R2 Standard / x64  OK    OK    WARNINGS    OK  UNNEEDED, same version exists in internal repository
merida1macOS 10.14.6 Mojave / x86_64  OK    OK    OK    OK  UNNEEDED, same version exists in internal repository
Package 193/439HostnameOS / ArchINSTALLBUILDCHECKBUILD BIN
HDF5Array 1.18.1  (landing page)
Hervé Pagès
Last Commit: 5bc12e4
Last Changed Date: 2021-02-04 13:15:08 -0400
malbec1Linux (Ubuntu 18.04.5 LTS) / x86_64  OK    OK    OK  UNNEEDED, same version exists in internal repository
tokay1Windows Server 2012 R2 Standard / x64  OK    OK    WARNINGS    OK  UNNEEDED, same version exists in internal repository
merida1macOS 10.14.6 Mojave / x86_64  OK    OK    OK    OK  UNNEEDED, same version exists in internal repository
Package 194/439HostnameOS / ArchINSTALLBUILDCHECKBUILD BIN
heatmaps 1.14.0  (landing page)
Malcolm Perry
Last Commit: 6e5cabd
Last Changed Date: 2020-10-27 11:24:04 -0400
malbec1Linux (Ubuntu 18.04.5 LTS) / x86_64  OK    OK    OK  UNNEEDED, same version exists in internal repository
tokay1Windows Server 2012 R2 Standard / x64  OK    OK    OK    OK  UNNEEDED, same version exists in internal repository
merida1macOS 10.14.6 Mojave / x86_64  OK    OK    OK    OK  UNNEEDED, same version exists in internal repository
Package 195/439HostnameOS / ArchINSTALLBUILDCHECKBUILD BIN
HelloRanges 1.16.0  (landing page)
Michael Lawrence
Last Commit: 49e5245
Last Changed Date: 2020-10-27 11:18:48 -0400
malbec1Linux (Ubuntu 18.04.5 LTS) / x86_64  OK    OK    OK  UNNEEDED, same version exists in internal repository
tokay1Windows Server 2012 R2 Standard / x64  OK    OK    WARNINGS    OK  UNNEEDED, same version exists in internal repository
merida1macOS 10.14.6 Mojave / x86_64  OK    OK    OK    OK  UNNEEDED, same version exists in internal repository
Package 196/439HostnameOS / ArchINSTALLBUILDCHECKBUILD BIN
HiCBricks 1.8.0  (landing page)
Koustav Pal
Last Commit: 12ba995
Last Changed Date: 2020-10-27 11:39:46 -0400
malbec1Linux (Ubuntu 18.04.5 LTS) / x86_64  OK    OK    OK  UNNEEDED, same version exists in internal repository
tokay1Windows Server 2012 R2 Standard / x64  OK    OK    OK    OK  UNNEEDED, same version exists in internal repository
merida1macOS 10.14.6 Mojave / x86_64  OK    OK    OK    OK  UNNEEDED, same version exists in internal repository
Package 197/439HostnameOS / ArchINSTALLBUILDCHECKBUILD BIN
HiCcompare 1.12.0  (landing page)
John Stansfield , Mikhail Dozmorov
Last Commit: f28a3b7
Last Changed Date: 2020-10-27 11:26:02 -0400
malbec1Linux (Ubuntu 18.04.5 LTS) / x86_64  OK    OK    OK  UNNEEDED, same version exists in internal repository
tokay1Windows Server 2012 R2 Standard / x64  OK    OK    OK    OK  UNNEEDED, same version exists in internal repository
merida1macOS 10.14.6 Mojave / x86_64  OK    OK    OK    OK  UNNEEDED, same version exists in internal repository
Package 198/439HostnameOS / ArchINSTALLBUILDCHECKBUILD BIN
HilbertCurve 1.20.0  (landing page)
Zuguang Gu
Last Commit: b100b32
Last Changed Date: 2020-10-27 11:06:52 -0400
malbec1Linux (Ubuntu 18.04.5 LTS) / x86_64  OK    OK    OK  UNNEEDED, same version exists in internal repository
tokay1Windows Server 2012 R2 Standard / x64  OK    OK    OK    OK  UNNEEDED, same version exists in internal repository
merida1macOS 10.14.6 Mojave / x86_64  OK    OK    OK    OK  UNNEEDED, same version exists in internal repository
Package 199/439HostnameOS / ArchINSTALLBUILDCHECKBUILD BIN
HiTC 1.34.0  (landing page)
Nicolas Servant
Last Commit: b68a85e
Last Changed Date: 2020-10-27 10:45:35 -0400
malbec1Linux (Ubuntu 18.04.5 LTS) / x86_64  OK    OK    OK  UNNEEDED, same version exists in internal repository
tokay1Windows Server 2012 R2 Standard / x64  OK    OK    OK    OK  UNNEEDED, same version exists in internal repository
merida1macOS 10.14.6 Mojave / x86_64  OK    OK    OK    OK  UNNEEDED, same version exists in internal repository
Package 200/439HostnameOS / ArchINSTALLBUILDCHECKBUILD BIN
HTSeqGenie 4.20.0  (landing page)
Jens Reeder
Last Commit: 1967349
Last Changed Date: 2020-10-27 10:47:41 -0400
malbec1Linux (Ubuntu 18.04.5 LTS) / x86_64  OK    OK    OK  UNNEEDED, same version exists in internal repository
tokay1Windows Server 2012 R2 Standard / x64... NOT SUPPORTED ...
merida1macOS 10.14.6 Mojave / x86_64... NOT SUPPORTED ...
Package 201/439HostnameOS / ArchINSTALLBUILDCHECKBUILD BIN
hummingbird 1.0.3  (landing page)
Eleni Adam
Last Commit: 457ac10
Last Changed Date: 2021-04-17 13:34:10 -0400
malbec1Linux (Ubuntu 18.04.5 LTS) / x86_64  OK    OK    OK  UNNEEDED, same version exists in internal repository
tokay1Windows Server 2012 R2 Standard / x64  OK    OK    OK    OK  UNNEEDED, same version exists in internal repository
merida1macOS 10.14.6 Mojave / x86_64  OK    OK    OK    OK  UNNEEDED, same version exists in internal repository
Package 202/439HostnameOS / ArchINSTALLBUILDCHECKBUILD BIN
icetea 1.8.0  (landing page)
Vivek Bhardwaj
Last Commit: 72b27ba
Last Changed Date: 2020-10-27 11:36:17 -0400
malbec1Linux (Ubuntu 18.04.5 LTS) / x86_64  OK    OK    OK  UNNEEDED, same version exists in internal repository
tokay1Windows Server 2012 R2 Standard / x64  OK    OK    OK    OK  UNNEEDED, same version exists in internal repository
merida1macOS 10.14.6 Mojave / x86_64  OK    OK    OK    OK  UNNEEDED, same version exists in internal repository
Package 203/439HostnameOS / ArchINSTALLBUILDCHECKBUILD BIN
ideal 1.14.0  (landing page)
Federico Marini
Last Commit: 984d306
Last Changed Date: 2020-10-27 11:24:01 -0400
malbec1Linux (Ubuntu 18.04.5 LTS) / x86_64  OK    OK    OK  UNNEEDED, same version exists in internal repository
tokay1Windows Server 2012 R2 Standard / x64  OK    OK    OK    OK  UNNEEDED, same version exists in internal repository
merida1macOS 10.14.6 Mojave / x86_64  OK    OK    OK    OK  UNNEEDED, same version exists in internal repository
Package 204/439HostnameOS / ArchINSTALLBUILDCHECKBUILD BIN
IdeoViz 1.26.0  (landing page)
Shraddha Pai
Last Commit: 72f01cf
Last Changed Date: 2020-10-27 10:59:40 -0400
malbec1Linux (Ubuntu 18.04.5 LTS) / x86_64  OK    OK    WARNINGS  UNNEEDED, same version exists in internal repository
tokay1Windows Server 2012 R2 Standard / x64  OK    OK    WARNINGS    OK  UNNEEDED, same version exists in internal repository
merida1macOS 10.14.6 Mojave / x86_64  OK    OK    WARNINGS    OK  UNNEEDED, same version exists in internal repository
Package 205/439HostnameOS / ArchINSTALLBUILDCHECKBUILD BIN
idr2d 1.4.0  (landing page)
Konstantin Krismer
Last Commit: 53471a2
Last Changed Date: 2020-10-29 13:13:10 -0400
malbec1Linux (Ubuntu 18.04.5 LTS) / x86_64  OK    OK    OK  UNNEEDED, same version exists in internal repository
tokay1Windows Server 2012 R2 Standard / x64  OK    OK    OK    OK  UNNEEDED, same version exists in internal repository
merida1macOS 10.14.6 Mojave / x86_64  OK    OK    OK    OK  UNNEEDED, same version exists in internal repository
Package 206/439HostnameOS / ArchINSTALLBUILDCHECKBUILD BIN
IMAS 1.14.0  (landing page)
Seonggyun Han
Last Commit: 541abe0
Last Changed Date: 2020-10-27 11:23:28 -0400
malbec1Linux (Ubuntu 18.04.5 LTS) / x86_64  OK    OK    OK  UNNEEDED, same version exists in internal repository
tokay1Windows Server 2012 R2 Standard / x64  OK    OK    OK    OK