Back to Multiple platform build/check report for BioC 3.12
ABCDEF[G]HIJKLMNOPQRSTUVWXYZ

Multiple platform build/check report for BioC 3.12

All results for package GenomicAlignments

This page was generated on 2021-05-06 12:25:54 -0400 (Thu, 06 May 2021).

Package 714/1974HostnameOS / ArchINSTALLBUILDCHECKBUILD BIN
GenomicAlignments 1.26.0  (landing page)
Bioconductor Package Maintainer
Snapshot Date: 2021-05-05 14:51:38 -0400 (Wed, 05 May 2021)
URL: https://git.bioconductor.org/packages/GenomicAlignments
Branch: RELEASE_3_12
Last Commit: 6c74c74
Last Changed Date: 2020-10-27 10:53:58 -0400 (Tue, 27 Oct 2020)
malbec1Linux (Ubuntu 18.04.5 LTS) / x86_64  OK    OK    OK  UNNEEDED, same version exists in internal repository
tokay1Windows Server 2012 R2 Standard / x64  OK    OK    WARNINGS    OK  UNNEEDED, same version exists in internal repository
merida1macOS 10.14.6 Mojave / x86_64  OK    OK    OK    OK  UNNEEDED, same version exists in internal repository

Results for Bioconductor software packages that depend directly on package GenomicAlignments

QUICK STATSOS / ArchINSTALLBUILDCHECKBUILD BIN
malbec1Linux (Ubuntu 18.04.5 LTS) / x86_64
00109
02107
012482
tokay1Windows Server 2012 R2 Standard / x64
00105
02103
323266
00103
merida1macOS 10.14.6 Mojave / x86_64
01107
01107
012383
00107
Package 1/109HostnameOS / ArchINSTALLBUILDCHECKBUILD BIN
AllelicImbalance 1.28.0  (landing page)
Jesper R Gadin
Last Commit: ac5d13c
Last Changed Date: 2020-10-27 10:53:07 -0400
malbec1Linux (Ubuntu 18.04.5 LTS) / x86_64  OK    OK    OK  UNNEEDED, same version exists in internal repository
tokay1Windows Server 2012 R2 Standard / x64  OK    OK    OK    OK  UNNEEDED, same version exists in internal repository
merida1macOS 10.14.6 Mojave / x86_64  OK    OK    OK    OK  UNNEEDED, same version exists in internal repository
Package 2/109HostnameOS / ArchINSTALLBUILDCHECKBUILD BIN
alpine 1.16.0  (landing page)
Michael Love
Last Commit: aee3977
Last Changed Date: 2020-10-27 11:17:10 -0400
malbec1Linux (Ubuntu 18.04.5 LTS) / x86_64  OK    OK    OK  UNNEEDED, same version exists in internal repository
tokay1Windows Server 2012 R2 Standard / x64  OK    OK    OK    OK  UNNEEDED, same version exists in internal repository
merida1macOS 10.14.6 Mojave / x86_64  OK    OK    OK    OK  UNNEEDED, same version exists in internal repository
Package 3/109HostnameOS / ArchINSTALLBUILDCHECKBUILD BIN
AneuFinder 1.18.0  (landing page)
Aaron Taudt
Last Commit: 76ec9af
Last Changed Date: 2020-10-27 11:12:55 -0400
malbec1Linux (Ubuntu 18.04.5 LTS) / x86_64  OK    OK    OK  UNNEEDED, same version exists in internal repository
tokay1Windows Server 2012 R2 Standard / x64  OK    OK    OK    OK  UNNEEDED, same version exists in internal repository
merida1macOS 10.14.6 Mojave / x86_64  OK    OK    OK    OK  UNNEEDED, same version exists in internal repository
Package 4/109HostnameOS / ArchINSTALLBUILDCHECKBUILD BIN
APAlyzer 1.4.0  (landing page)
Ruijia Wang
Last Commit: 4247a57
Last Changed Date: 2020-10-27 11:48:13 -0400
malbec1Linux (Ubuntu 18.04.5 LTS) / x86_64  OK    OK    OK  UNNEEDED, same version exists in internal repository
tokay1Windows Server 2012 R2 Standard / x64  OK    OK    OK    OK  UNNEEDED, same version exists in internal repository
merida1macOS 10.14.6 Mojave / x86_64  OK    OK    OK    OK  UNNEEDED, same version exists in internal repository
Package 5/109HostnameOS / ArchINSTALLBUILDCHECKBUILD BIN
ASpediaFI 1.4.0  (landing page)
Doyeong Yu
Last Commit: d59c4a0
Last Changed Date: 2020-10-27 11:50:40 -0400
malbec1Linux (Ubuntu 18.04.5 LTS) / x86_64  OK    OK    OK  UNNEEDED, same version exists in internal repository
tokay1Windows Server 2012 R2 Standard / x64  OK    OK    OK    OK  UNNEEDED, same version exists in internal repository
merida1macOS 10.14.6 Mojave / x86_64  OK    OK    OK    OK  UNNEEDED, same version exists in internal repository
Package 6/109HostnameOS / ArchINSTALLBUILDCHECKBUILD BIN
ASpli 2.0.0  (landing page)
Estefania Mancini
Last Commit: 641dc04
Last Changed Date: 2020-10-27 11:16:38 -0400
malbec1Linux (Ubuntu 18.04.5 LTS) / x86_64  OK    OK    OK  UNNEEDED, same version exists in internal repository
tokay1Windows Server 2012 R2 Standard / x64  OK    OK    OK    OK  UNNEEDED, same version exists in internal repository
merida1macOS 10.14.6 Mojave / x86_64  OK    OK    OK    OK  UNNEEDED, same version exists in internal repository
Package 7/109HostnameOS / ArchINSTALLBUILDCHECKBUILD BIN
ATACseqQC 1.14.4  (landing page)
Jianhong Ou
Last Commit: 0728a45
Last Changed Date: 2020-11-05 09:56:56 -0400
malbec1Linux (Ubuntu 18.04.5 LTS) / x86_64  OK    OK    OK  UNNEEDED, same version exists in internal repository
tokay1Windows Server 2012 R2 Standard / x64  OK    OK    OK    OK  UNNEEDED, same version exists in internal repository
merida1macOS 10.14.6 Mojave / x86_64  OK    OK    OK    OK  UNNEEDED, same version exists in internal repository
Package 8/109HostnameOS / ArchINSTALLBUILDCHECKBUILD BIN
BaalChIP 1.16.0  (landing page)
Ines de Santiago
Last Commit: a5ef128
Last Changed Date: 2021-03-01 09:11:25 -0400
malbec1Linux (Ubuntu 18.04.5 LTS) / x86_64  OK    OK    WARNINGS  UNNEEDED, same version exists in internal repository
tokay1Windows Server 2012 R2 Standard / x64  OK    OK    WARNINGS    OK  UNNEEDED, same version exists in internal repository
merida1macOS 10.14.6 Mojave / x86_64  OK    OK    WARNINGS    OK  UNNEEDED, same version exists in internal repository
Package 9/109HostnameOS / ArchINSTALLBUILDCHECKBUILD BIN
bambu 1.0.3  (landing page)
Ying Chen
Last Commit: 7140dd6
Last Changed Date: 2021-04-26 22:57:23 -0400
malbec1Linux (Ubuntu 18.04.5 LTS) / x86_64  OK    OK    OK  UNNEEDED, same version exists in internal repository
tokay1Windows Server 2012 R2 Standard / x64  OK    OK    OK    OK  UNNEEDED, same version exists in internal repository
merida1macOS 10.14.6 Mojave / x86_64  OK    OK    OK    OK  UNNEEDED, same version exists in internal repository
Package 10/109HostnameOS / ArchINSTALLBUILDCHECKBUILD BIN
Basic4Cseq 1.26.0  (landing page)
Carolin Walter
Last Commit: aa3db3b
Last Changed Date: 2020-10-27 10:55:12 -0400
malbec1Linux (Ubuntu 18.04.5 LTS) / x86_64  OK    OK    OK  UNNEEDED, same version exists in internal repository
tokay1Windows Server 2012 R2 Standard / x64  OK    OK    OK    OK  UNNEEDED, same version exists in internal repository
merida1macOS 10.14.6 Mojave / x86_64  OK    OK    OK    OK  UNNEEDED, same version exists in internal repository
Package 11/109HostnameOS / ArchINSTALLBUILDCHECKBUILD BIN
BasicSTARRseq 1.18.0  (landing page)
Annika Buerger
Last Commit: acae287
Last Changed Date: 2020-10-27 11:10:59 -0400
malbec1Linux (Ubuntu 18.04.5 LTS) / x86_64  OK    OK    OK  UNNEEDED, same version exists in internal repository
tokay1Windows Server 2012 R2 Standard / x64  OK    OK    OK    OK  UNNEEDED, same version exists in internal repository
merida1macOS 10.14.6 Mojave / x86_64  OK    OK    OK    OK  UNNEEDED, same version exists in internal repository
Package 12/109HostnameOS / ArchINSTALLBUILDCHECKBUILD BIN
biovizBase 1.38.0  (landing page)
Michael Lawrence
Last Commit: d0f3362
Last Changed Date: 2020-10-27 10:43:03 -0400
malbec1Linux (Ubuntu 18.04.5 LTS) / x86_64  OK    OK    WARNINGS  UNNEEDED, same version exists in internal repository
tokay1Windows Server 2012 R2 Standard / x64  OK    OK    WARNINGS    OK  UNNEEDED, same version exists in internal repository
merida1macOS 10.14.6 Mojave / x86_64  OK    OK    WARNINGS    OK  UNNEEDED, same version exists in internal repository
Package 13/109HostnameOS / ArchINSTALLBUILDCHECKBUILD BIN
breakpointR 1.8.0  (landing page)
David Porubsky
Last Commit: 8542f20
Last Changed Date: 2020-10-27 11:38:49 -0400
malbec1Linux (Ubuntu 18.04.5 LTS) / x86_64  OK    OK    OK  UNNEEDED, same version exists in internal repository
tokay1Windows Server 2012 R2 Standard / x64  OK    OK    OK    OK  UNNEEDED, same version exists in internal repository
merida1macOS 10.14.6 Mojave / x86_64  OK    OK    OK    OK  UNNEEDED, same version exists in internal repository
Package 14/109HostnameOS / ArchINSTALLBUILDCHECKBUILD BIN
BRGenomics 1.2.0  (landing page)
Mike DeBerardine
Last Commit: 79bb3d5
Last Changed Date: 2020-10-27 11:54:54 -0400
malbec1Linux (Ubuntu 18.04.5 LTS) / x86_64  OK    OK    OK  UNNEEDED, same version exists in internal repository
tokay1Windows Server 2012 R2 Standard / x64  OK    OK    OK    OK  UNNEEDED, same version exists in internal repository
merida1macOS 10.14.6 Mojave / x86_64  OK    OK    OK    OK  UNNEEDED, same version exists in internal repository
Package 15/109HostnameOS / ArchINSTALLBUILDCHECKBUILD BIN
CAGEfightR 1.10.0  (landing page)
Malte Thodberg
Last Commit: 2ed5872
Last Changed Date: 2020-10-27 11:35:28 -0400
malbec1Linux (Ubuntu 18.04.5 LTS) / x86_64  OK    OK    OK  UNNEEDED, same version exists in internal repository
tokay1Windows Server 2012 R2 Standard / x64  OK    OK    OK    OK  UNNEEDED, same version exists in internal repository
merida1macOS 10.14.6 Mojave / x86_64  OK    OK    OK    OK  UNNEEDED, same version exists in internal repository
Package 16/109HostnameOS / ArchINSTALLBUILDCHECKBUILD BIN
CAGEr 1.32.1  (landing page)
Vanja Haberle , Charles Plessy , Damir Baranasic , Sarvesh Nikumbh
Last Commit: 034e4bf
Last Changed Date: 2021-01-15 01:28:35 -0400
malbec1Linux (Ubuntu 18.04.5 LTS) / x86_64  OK    OK    WARNINGS  UNNEEDED, same version exists in internal repository
tokay1Windows Server 2012 R2 Standard / x64  OK    OK    WARNINGS    OK  UNNEEDED, same version exists in internal repository
merida1macOS 10.14.6 Mojave / x86_64  OK    OK    WARNINGS    OK  UNNEEDED, same version exists in internal repository
Package 17/109HostnameOS / ArchINSTALLBUILDCHECKBUILD BIN
chimera 1.32.0  (landing page)
Raffaele A Calogero
Last Commit: a3c6b1f
Last Changed Date: 2020-10-27 10:49:26 -0400
malbec1Linux (Ubuntu 18.04.5 LTS) / x86_64  OK    OK    WARNINGS  UNNEEDED, same version exists in internal repository
tokay1Windows Server 2012 R2 Standard / x64  OK    ERROR  skippedskipped
merida1macOS 10.14.6 Mojave / x86_64  OK    OK    WARNINGS    OK  UNNEEDED, same version exists in internal repository
Package 18/109HostnameOS / ArchINSTALLBUILDCHECKBUILD BIN
chimeraviz 1.16.1  (landing page)
Stian Lågstad
Last Commit: 66a60b3
Last Changed Date: 2021-01-16 17:11:31 -0400
malbec1Linux (Ubuntu 18.04.5 LTS) / x86_64  OK    OK    OK  UNNEEDED, same version exists in internal repository
tokay1Windows Server 2012 R2 Standard / x64  OK    OK    OK    OK  UNNEEDED, same version exists in internal repository
merida1macOS 10.14.6 Mojave / x86_64  OK    OK    OK    OK  UNNEEDED, same version exists in internal repository
Package 19/109HostnameOS / ArchINSTALLBUILDCHECKBUILD BIN
ChIPexoQual 1.14.0  (landing page)
Rene Welch
Last Commit: c593ac2
Last Changed Date: 2020-10-27 11:20:56 -0400
malbec1Linux (Ubuntu 18.04.5 LTS) / x86_64  OK    OK    OK  UNNEEDED, same version exists in internal repository
tokay1Windows Server 2012 R2 Standard / x64  OK    OK    OK    OK  UNNEEDED, same version exists in internal repository
merida1macOS 10.14.6 Mojave / x86_64  OK    OK    OK    OK  UNNEEDED, same version exists in internal repository
Package 20/109HostnameOS / ArchINSTALLBUILDCHECKBUILD BIN
ChIPpeakAnno 3.24.2  (landing page)
Jianhong Ou
Last Commit: 09d9fec
Last Changed Date: 2021-03-30 09:36:14 -0400
malbec1Linux (Ubuntu 18.04.5 LTS) / x86_64  OK    OK    OK  UNNEEDED, same version exists in internal repository
tokay1Windows Server 2012 R2 Standard / x64  OK    OK    OK    OK  UNNEEDED, same version exists in internal repository
merida1macOS 10.14.6 Mojave / x86_64  OK    OK    OK    OK  UNNEEDED, same version exists in internal repository
Package 21/109HostnameOS / ArchINSTALLBUILDCHECKBUILD BIN
ChIPQC 1.26.0  (landing page)
Tom Carroll , Rory Stark
Last Commit: 967dee8
Last Changed Date: 2020-10-27 10:55:48 -0400
malbec1Linux (Ubuntu 18.04.5 LTS) / x86_64  OK    OK    WARNINGS  UNNEEDED, same version exists in internal repository
tokay1Windows Server 2012 R2 Standard / x64  OK    OK    WARNINGS    OK  UNNEEDED, same version exists in internal repository
merida1macOS 10.14.6 Mojave / x86_64  OK    OK    WARNINGS    OK  UNNEEDED, same version exists in internal repository
Package 22/109HostnameOS / ArchINSTALLBUILDCHECKBUILD BIN
chromstaR 1.16.0  (landing page)
Aaron Taudt
Last Commit: b2bacfd
Last Changed Date: 2020-10-27 11:15:35 -0400
malbec1Linux (Ubuntu 18.04.5 LTS) / x86_64  OK    OK    OK  UNNEEDED, same version exists in internal repository
tokay1Windows Server 2012 R2 Standard / x64  OK    OK    OK    OK  UNNEEDED, same version exists in internal repository
merida1macOS 10.14.6 Mojave / x86_64  OK    OK    OK    OK  UNNEEDED, same version exists in internal repository
Package 23/109HostnameOS / ArchINSTALLBUILDCHECKBUILD BIN
CNEr 1.26.0  (landing page)
Ge Tan
Last Commit: e5e582d
Last Changed Date: 2020-10-27 10:54:44 -0400
malbec1Linux (Ubuntu 18.04.5 LTS) / x86_64  OK    OK    WARNINGS  UNNEEDED, same version exists in internal repository
tokay1Windows Server 2012 R2 Standard / x64  OK    OK    WARNINGS    OK  UNNEEDED, same version exists in internal repository
merida1macOS 10.14.6 Mojave / x86_64  OK    OK    WARNINGS    OK  UNNEEDED, same version exists in internal repository
Package 24/109HostnameOS / ArchINSTALLBUILDCHECKBUILD BIN
consensusDE 1.8.0  (landing page)
Ashley J. Waardenberg
Last Commit: 0ade359
Last Changed Date: 2020-10-27 11:40:12 -0400
malbec1Linux (Ubuntu 18.04.5 LTS) / x86_64  OK    OK    OK  UNNEEDED, same version exists in internal repository
tokay1Windows Server 2012 R2 Standard / x64  OK    OK    OK    OK  UNNEEDED, same version exists in internal repository
merida1macOS 10.14.6 Mojave / x86_64  OK    OK    OK    OK  UNNEEDED, same version exists in internal repository
Package 25/109HostnameOS / ArchINSTALLBUILDCHECKBUILD BIN
contiBAIT 1.18.0  (landing page)
Kieran O'Neill
Last Commit: d50ef02
Last Changed Date: 2020-10-27 11:11:14 -0400
malbec1Linux (Ubuntu 18.04.5 LTS) / x86_64  OK    OK    WARNINGS  UNNEEDED, same version exists in internal repository
tokay1Windows Server 2012 R2 Standard / x64  OK    OK    WARNINGS    OK  UNNEEDED, same version exists in internal repository
merida1macOS 10.14.6 Mojave / x86_64  OK    OK    WARNINGS    OK  UNNEEDED, same version exists in internal repository
Package 26/109HostnameOS / ArchINSTALLBUILDCHECKBUILD BIN
CopywriteR 2.22.0  (landing page)
Oscar Krijgsman
Last Commit: fadf9a9
Last Changed Date: 2020-10-27 11:04:30 -0400
malbec1Linux (Ubuntu 18.04.5 LTS) / x86_64  OK    OK    OK  UNNEEDED, same version exists in internal repository
tokay1Windows Server 2012 R2 Standard / x64  OK    OK    OK    OK  UNNEEDED, same version exists in internal repository
merida1macOS 10.14.6 Mojave / x86_64  OK    OK    OK    OK  UNNEEDED, same version exists in internal repository
Package 27/109HostnameOS / ArchINSTALLBUILDCHECKBUILD BIN
CoverageView 1.28.0  (landing page)
Ernesto Lowy
Last Commit: e1e05ed
Last Changed Date: 2020-10-27 10:56:07 -0400
malbec1Linux (Ubuntu 18.04.5 LTS) / x86_64  OK    OK    OK  UNNEEDED, same version exists in internal repository
tokay1Windows Server 2012 R2 Standard / x64... NOT SUPPORTED ...
merida1macOS 10.14.6 Mojave / x86_64  OK    OK    OK    OK  UNNEEDED, same version exists in internal repository
Package 28/109HostnameOS / ArchINSTALLBUILDCHECKBUILD BIN
CrispRVariants 1.18.0  (landing page)
Helen Lindsay
Last Commit: 4bbba2e
Last Changed Date: 2020-10-27 11:10:15 -0400
malbec1Linux (Ubuntu 18.04.5 LTS) / x86_64  OK    OK    WARNINGS  UNNEEDED, same version exists in internal repository
tokay1Windows Server 2012 R2 Standard / x64  OK    OK    WARNINGS    OK  UNNEEDED, same version exists in internal repository
merida1macOS 10.14.6 Mojave / x86_64  OK    OK    WARNINGS    OK  UNNEEDED, same version exists in internal repository
Package 29/109HostnameOS / ArchINSTALLBUILDCHECKBUILD BIN
CSSQ 1.2.0  (landing page)
Fan Lab at Georgia Institute of Technology
Last Commit: 1e9ee24
Last Changed Date: 2020-10-27 11:52:14 -0400
malbec1Linux (Ubuntu 18.04.5 LTS) / x86_64  OK    OK    OK  UNNEEDED, same version exists in internal repository
tokay1Windows Server 2012 R2 Standard / x64  OK    OK    OK    OK  UNNEEDED, same version exists in internal repository
merida1macOS 10.14.6 Mojave / x86_64  OK    OK    OK    OK  UNNEEDED, same version exists in internal repository
Package 30/109HostnameOS / ArchINSTALLBUILDCHECKBUILD BIN
customProDB 1.30.1  (landing page)
Xiaojing Wang
Last Commit: 2c66727
Last Changed Date: 2021-04-26 13:05:49 -0400
malbec1Linux (Ubuntu 18.04.5 LTS) / x86_64  OK    OK    OK  UNNEEDED, same version exists in internal repository
tokay1Windows Server 2012 R2 Standard / x64  OK    OK    OK    OK  UNNEEDED, same version exists in internal repository
merida1macOS 10.14.6 Mojave / x86_64  OK    OK    OK    OK  UNNEEDED, same version exists in internal repository
Package 31/109HostnameOS / ArchINSTALLBUILDCHECKBUILD BIN
DAMEfinder 1.2.0  (landing page)
Stephany Orjuela
Last Commit: 99d17c3
Last Changed Date: 2020-10-27 11:52:56 -0400
malbec1Linux (Ubuntu 18.04.5 LTS) / x86_64  OK    OK    OK  UNNEEDED, same version exists in internal repository
tokay1Windows Server 2012 R2 Standard / x64  OK    OK    OK    OK  UNNEEDED, same version exists in internal repository
merida1macOS 10.14.6 Mojave / x86_64  OK    OK    OK    OK  UNNEEDED, same version exists in internal repository
Package 32/109HostnameOS / ArchINSTALLBUILDCHECKBUILD BIN
DegNorm 1.0.0  (landing page)
Ji-Ping Wang
Last Commit: 5331464
Last Changed Date: 2020-10-27 11:57:52 -0400
malbec1Linux (Ubuntu 18.04.5 LTS) / x86_64  OK    OK    OK  UNNEEDED, same version exists in internal repository
tokay1Windows Server 2012 R2 Standard / x64  OK    OK    OK    OK  UNNEEDED, same version exists in internal repository
merida1macOS 10.14.6 Mojave / x86_64  OK    OK    OK    OK  UNNEEDED, same version exists in internal repository
Package 33/109HostnameOS / ArchINSTALLBUILDCHECKBUILD BIN
derfinder 1.24.2  (landing page)
Leonardo Collado-Torres
Last Commit: 20f2596
Last Changed Date: 2020-12-18 13:03:04 -0400
malbec1Linux (Ubuntu 18.04.5 LTS) / x86_64  OK    OK    OK  UNNEEDED, same version exists in internal repository
tokay1Windows Server 2012 R2 Standard / x64  OK    OK    OK    OK  UNNEEDED, same version exists in internal repository
merida1macOS 10.14.6 Mojave / x86_64  OK    OK    OK    OK  UNNEEDED, same version exists in internal repository
Package 34/109HostnameOS / ArchINSTALLBUILDCHECKBUILD BIN
DEScan2 1.10.0  (landing page)
Dario Righelli
Last Commit: 7a7d1be
Last Changed Date: 2020-10-27 11:32:55 -0400
malbec1Linux (Ubuntu 18.04.5 LTS) / x86_64  OK    OK    WARNINGS  UNNEEDED, same version exists in internal repository
tokay1Windows Server 2012 R2 Standard / x64  OK    OK    WARNINGS    OK  UNNEEDED, same version exists in internal repository
merida1macOS 10.14.6 Mojave / x86_64  OK    OK    WARNINGS    OK  UNNEEDED, same version exists in internal repository
Package 35/109HostnameOS / ArchINSTALLBUILDCHECKBUILD BIN
DiffBind 3.0.15  (landing page)
Rory Stark
Last Commit: 9c4e998
Last Changed Date: 2021-03-22 13:19:01 -0400
malbec1Linux (Ubuntu 18.04.5 LTS) / x86_64  OK    OK    OK  UNNEEDED, same version exists in internal repository
tokay1Windows Server 2012 R2 Standard / x64  OK    OK    OK    OK  UNNEEDED, same version exists in internal repository
merida1macOS 10.14.6 Mojave / x86_64  OK    OK    OK    OK  UNNEEDED, same version exists in internal repository
Package 36/109HostnameOS / ArchINSTALLBUILDCHECKBUILD BIN
easyRNASeq 2.26.0  (landing page)
Nicolas Delhomme
Last Commit: e3ce60a
Last Changed Date: 2020-10-27 10:44:21 -0400
malbec1Linux (Ubuntu 18.04.5 LTS) / x86_64  OK    ERROR  skipped
tokay1Windows Server 2012 R2 Standard / x64  OK    ERROR  skippedskipped
merida1macOS 10.14.6 Mojave / x86_64  OK    OK    OK    OK  UNNEEDED, same version exists in internal repository
Package 37/109HostnameOS / ArchINSTALLBUILDCHECKBUILD BIN
exomePeak2 1.2.0  (landing page)
Zhen Wei
Last Commit: a214469
Last Changed Date: 2020-10-27 11:53:58 -0400
malbec1Linux (Ubuntu 18.04.5 LTS) / x86_64  OK    OK    OK  UNNEEDED, same version exists in internal repository
tokay1Windows Server 2012 R2 Standard / x64  OK    OK    OK    OK  UNNEEDED, same version exists in internal repository
merida1macOS 10.14.6 Mojave / x86_64  OK    OK    OK    OK  UNNEEDED, same version exists in internal repository
Package 38/109HostnameOS / ArchINSTALLBUILDCHECKBUILD BIN
FourCSeq 1.24.0  (landing page)
Mike Smith
Last Commit: 5575105
Last Changed Date: 2020-10-27 10:58:38 -0400
malbec1Linux (Ubuntu 18.04.5 LTS) / x86_64  OK    OK    WARNINGS  UNNEEDED, same version exists in internal repository
tokay1Windows Server 2012 R2 Standard / x64  OK    OK    WARNINGS    OK  UNNEEDED, same version exists in internal repository
merida1macOS 10.14.6 Mojave / x86_64  OK    OK    WARNINGS    OK  UNNEEDED, same version exists in internal repository
Package 39/109HostnameOS / ArchINSTALLBUILDCHECKBUILD BIN
FRASER 1.2.1  (landing page)
Christian Mertes
Last Commit: 9160638
Last Changed Date: 2021-01-31 17:38:49 -0400
malbec1Linux (Ubuntu 18.04.5 LTS) / x86_64  OK    OK    OK  UNNEEDED, same version exists in internal repository
tokay1Windows Server 2012 R2 Standard / x64  OK    OK    OK    OK  UNNEEDED, same version exists in internal repository
merida1macOS 10.14.6 Mojave / x86_64  OK    OK    OK    OK  UNNEEDED, same version exists in internal repository
Package 40/109HostnameOS / ArchINSTALLBUILDCHECKBUILD BIN
FunChIP 1.16.0  (landing page)
Alice Parodi
Last Commit: 477b137
Last Changed Date: 2020-10-27 11:15:08 -0400
malbec1Linux (Ubuntu 18.04.5 LTS) / x86_64  OK    OK    WARNINGS  UNNEEDED, same version exists in internal repository
tokay1Windows Server 2012 R2 Standard / x64  OK    OK    WARNINGS    OK  UNNEEDED, same version exists in internal repository
merida1macOS 10.14.6 Mojave / x86_64  OK    OK    WARNINGS    OK  UNNEEDED, same version exists in internal repository
Package 41/109HostnameOS / ArchINSTALLBUILDCHECKBUILD BIN
gcapc 1.14.0  (landing page)
Mingxiang Teng
Last Commit: 6c7d83d
Last Changed Date: 2020-10-27 11:20:02 -0400
malbec1Linux (Ubuntu 18.04.5 LTS) / x86_64  OK    OK    OK  UNNEEDED, same version exists in internal repository
tokay1Windows Server 2012 R2 Standard / x64  OK    OK    WARNINGS    OK  UNNEEDED, same version exists in internal repository
merida1macOS 10.14.6 Mojave / x86_64  OK    OK    OK    OK  UNNEEDED, same version exists in internal repository
Package 42/109HostnameOS / ArchINSTALLBUILDCHECKBUILD BIN
GenoGAM 2.8.0  (landing page)
Georg Stricker
Last Commit: 7698827
Last Changed Date: 2020-10-27 11:13:12 -0400
malbec1Linux (Ubuntu 18.04.5 LTS) / x86_64  OK    OK    WARNINGS  UNNEEDED, same version exists in internal repository
tokay1Windows Server 2012 R2 Standard / x64  OK    OK    WARNINGS    OK  UNNEEDED, same version exists in internal repository
merida1macOS 10.14.6 Mojave / x86_64  OK    OK    WARNINGS    OK  UNNEEDED, same version exists in internal repository
Package 43/109HostnameOS / ArchINSTALLBUILDCHECKBUILD BIN
genomation 1.22.0  (landing page)
Altuna Akalin , Vedran Franke
Last Commit: 4ab56f3
Last Changed Date: 2020-10-27 11:01:16 -0400
malbec1Linux (Ubuntu 18.04.5 LTS) / x86_64  OK    OK    WARNINGS  UNNEEDED, same version exists in internal repository
tokay1Windows Server 2012 R2 Standard / x64  OK    OK    WARNINGS    OK  UNNEEDED, same version exists in internal repository
merida1macOS 10.14.6 Mojave / x86_64  OK    OK    WARNINGS    OK  UNNEEDED, same version exists in internal repository
Package 44/109HostnameOS / ArchINSTALLBUILDCHECKBUILD BIN
GenomicFiles 1.26.0  (landing page)
Bioconductor Package Maintainer
Last Commit: 8c9e00d
Last Changed Date: 2020-10-27 10:56:29 -0400
malbec1Linux (Ubuntu 18.04.5 LTS) / x86_64  OK    OK    OK  UNNEEDED, same version exists in internal repository
tokay1Windows Server 2012 R2 Standard / x64  OK    OK    WARNINGS    OK  UNNEEDED, same version exists in internal repository
merida1macOS 10.14.6 Mojave / x86_64  OK    OK    OK    OK  UNNEEDED, same version exists in internal repository
Package 45/109HostnameOS / ArchINSTALLBUILDCHECKBUILD BIN
ggbio 1.38.0  (landing page)
Michael Lawrence
Last Commit: c39c519
Last Changed Date: 2020-10-27 10:43:32 -0400
malbec1Linux (Ubuntu 18.04.5 LTS) / x86_64  OK    OK    OK  UNNEEDED, same version exists in internal repository
tokay1Windows Server 2012 R2 Standard / x64  OK    OK    WARNINGS    OK  UNNEEDED, same version exists in internal repository
merida1macOS 10.14.6 Mojave / x86_64  OK    OK    OK    OK  UNNEEDED, same version exists in internal repository
Package 46/109HostnameOS / ArchINSTALLBUILDCHECKBUILD BIN
gmapR 1.32.0  (landing page)
Michael Lawrence
Last Commit: 02e06e4
Last Changed Date: 2020-11-06 12:06:58 -0400
malbec1Linux (Ubuntu 18.04.5 LTS) / x86_64  OK    OK    WARNINGS  UNNEEDED, same version exists in internal repository
tokay1Windows Server 2012 R2 Standard / x64... NOT SUPPORTED ...
merida1macOS 10.14.6 Mojave / x86_64  OK    OK    WARNINGS    OK  UNNEEDED, same version exists in internal repository
Package 47/109HostnameOS / ArchINSTALLBUILDCHECKBUILD BIN
gmoviz 1.2.0  (landing page)
Kathleen Zeglinski
Last Commit: 67f6302
Last Changed Date: 2020-10-27 11:54:40 -0400
malbec1Linux (Ubuntu 18.04.5 LTS) / x86_64  OK    OK    OK  UNNEEDED, same version exists in internal repository
tokay1Windows Server 2012 R2 Standard / x64  OK    OK    OK    OK  UNNEEDED, same version exists in internal repository
merida1macOS 10.14.6 Mojave / x86_64  OK    OK    OK    OK  UNNEEDED, same version exists in internal repository
Package 48/109HostnameOS / ArchINSTALLBUILDCHECKBUILD BIN
GreyListChIP 1.22.0  (landing page)
Gordon Brown
Last Commit: 7026152
Last Changed Date: 2020-10-27 11:02:17 -0400
malbec1Linux (Ubuntu 18.04.5 LTS) / x86_64  OK    OK    OK  UNNEEDED, same version exists in internal repository
tokay1Windows Server 2012 R2 Standard / x64  OK    OK    OK    OK  UNNEEDED, same version exists in internal repository
merida1macOS 10.14.6 Mojave / x86_64  OK    OK    OK    OK  UNNEEDED, same version exists in internal repository
Package 49/109HostnameOS / ArchINSTALLBUILDCHECKBUILD BIN
groHMM 1.24.0  (landing page)
Anusha Nagari , Tulip Nandu , W. Lee Kraus
Last Commit: 40688b8
Last Changed Date: 2020-10-27 11:00:20 -0400
malbec1Linux (Ubuntu 18.04.5 LTS) / x86_64  OK    OK    OK  UNNEEDED, same version exists in internal repository
tokay1Windows Server 2012 R2 Standard / x64  OK    OK    OK    OK  UNNEEDED, same version exists in internal repository
merida1macOS 10.14.6 Mojave / x86_64  OK    OK    OK    OK  UNNEEDED, same version exists in internal repository
Package 50/109HostnameOS / ArchINSTALLBUILDCHECKBUILD BIN
GUIDEseq 1.20.0  (landing page)
Lihua Julie Zhu
Last Commit: ccacc7a
Last Changed Date: 2020-10-27 11:08:56 -0400
malbec1Linux (Ubuntu 18.04.5 LTS) / x86_64  OK    OK    OK  UNNEEDED, same version exists in internal repository
tokay1Windows Server 2012 R2 Standard / x64  OK    OK    OK    OK  UNNEEDED, same version exists in internal repository
merida1macOS 10.14.6 Mojave / x86_64  OK    OK    OK    OK  UNNEEDED, same version exists in internal repository
Package 51/109HostnameOS / ArchINSTALLBUILDCHECKBUILD BIN
Gviz 1.34.1  (landing page)
Robert Ivanek
Last Commit: 5aa425a
Last Changed Date: 2021-03-14 18:05:41 -0400
malbec1Linux (Ubuntu 18.04.5 LTS) / x86_64  OK    OK    OK  UNNEEDED, same version exists in internal repository
tokay1Windows Server 2012 R2 Standard / x64  OK    OK    OK    OK  UNNEEDED, same version exists in internal repository
merida1macOS 10.14.6 Mojave / x86_64  OK    OK    OK    OK  UNNEEDED, same version exists in internal repository
Package 52/109HostnameOS / ArchINSTALLBUILDCHECKBUILD BIN
HelloRanges 1.16.0  (landing page)
Michael Lawrence
Last Commit: 49e5245
Last Changed Date: 2020-10-27 11:18:48 -0400
malbec1Linux (Ubuntu 18.04.5 LTS) / x86_64  OK    OK    OK  UNNEEDED, same version exists in internal repository
tokay1Windows Server 2012 R2 Standard / x64  OK    OK    WARNINGS    OK  UNNEEDED, same version exists in internal repository
merida1macOS 10.14.6 Mojave / x86_64  OK    OK    OK    OK  UNNEEDED, same version exists in internal repository
Package 53/109HostnameOS / ArchINSTALLBUILDCHECKBUILD BIN
hiReadsProcessor 1.26.0  (landing page)
Nirav V Malani
Last Commit: 41c0142
Last Changed Date: 2020-10-27 10:58:22 -0400
malbec1Linux (Ubuntu 18.04.5 LTS) / x86_64  OK    OK    OK  UNNEEDED, same version exists in internal repository
tokay1Windows Server 2012 R2 Standard / x64... NOT SUPPORTED ...
merida1macOS 10.14.6 Mojave / x86_64  OK    OK    OK    OK  UNNEEDED, same version exists in internal repository
Package 54/109HostnameOS / ArchINSTALLBUILDCHECKBUILD BIN
HTSeqGenie 4.20.0  (landing page)
Jens Reeder
Last Commit: 1967349
Last Changed Date: 2020-10-27 10:47:41 -0400
malbec1Linux (Ubuntu 18.04.5 LTS) / x86_64  OK    OK    OK  UNNEEDED, same version exists in internal repository
tokay1Windows Server 2012 R2 Standard / x64... NOT SUPPORTED ...
merida1macOS 10.14.6 Mojave / x86_64... NOT SUPPORTED ...
Package 55/109HostnameOS / ArchINSTALLBUILDCHECKBUILD BIN
icetea 1.8.0  (landing page)
Vivek Bhardwaj
Last Commit: 72b27ba
Last Changed Date: 2020-10-27 11:36:17 -0400
malbec1Linux (Ubuntu 18.04.5 LTS) / x86_64  OK    OK    OK  UNNEEDED, same version exists in internal repository
tokay1Windows Server 2012 R2 Standard / x64  OK    OK    OK    OK  UNNEEDED, same version exists in internal repository
merida1macOS 10.14.6 Mojave / x86_64  OK    OK    OK    OK  UNNEEDED, same version exists in internal repository
Package 56/109HostnameOS / ArchINSTALLBUILDCHECKBUILD BIN
igvR 1.10.0  (landing page)
Paul Shannon
Last Commit: d74e551
Last Changed Date: 2020-10-27 11:34:57 -0400
malbec1Linux (Ubuntu 18.04.5 LTS) / x86_64  OK    OK    WARNINGS  UNNEEDED, same version exists in internal repository
tokay1Windows Server 2012 R2 Standard / x64  OK    OK    WARNINGS    OK  UNNEEDED, same version exists in internal repository
merida1macOS 10.14.6 Mojave / x86_64  OK    OK    WARNINGS    OK  UNNEEDED, same version exists in internal repository
Package 57/109HostnameOS / ArchINSTALLBUILDCHECKBUILD BIN
IMAS 1.14.0  (landing page)
Seonggyun Han
Last Commit: 541abe0
Last Changed Date: 2020-10-27 11:23:28 -0400
malbec1Linux (Ubuntu 18.04.5 LTS) / x86_64  OK    OK    OK  UNNEEDED, same version exists in internal repository
tokay1Windows Server 2012 R2 Standard / x64  OK    OK    OK    OK  UNNEEDED, same version exists in internal repository
merida1macOS 10.14.6 Mojave / x86_64  OK    OK    OK    OK  UNNEEDED, same version exists in internal repository
Package 58/109HostnameOS / ArchINSTALLBUILDCHECKBUILD BIN
INSPEcT 1.20.0  (landing page)
Stefano de Pretis
Last Commit: d952c98
Last Changed Date: 2020-10-27 11:06:18 -0400
malbec1Linux (Ubuntu 18.04.5 LTS) / x86_64  OK    OK    OK  UNNEEDED, same version exists in internal repository
tokay1Windows Server 2012 R2 Standard / x64  OK    OK    OK    OK  UNNEEDED, same version exists in internal repository
merida1macOS 10.14.6 Mojave / x86_64  OK    OK    OK    OK  UNNEEDED, same version exists in internal repository
Package 59/109HostnameOS / ArchINSTALLBUILDCHECKBUILD BIN
IntEREst 1.14.0  (landing page)
Ali Oghabian , Mikko Frilander
Last Commit: 514e896
Last Changed Date: 2020-10-27 11:22:16 -0400
malbec1Linux (Ubuntu 18.04.5 LTS) / x86_64  OK    OK    OK  UNNEEDED, same version exists in internal repository
tokay1Windows Server 2012 R2 Standard / x64  OK    OK    WARNINGS    OK  UNNEEDED, same version exists in internal repository
merida1macOS 10.14.6 Mojave / x86_64  OK    OK    OK    OK  UNNEEDED, same version exists in internal repository
Package 60/109HostnameOS / ArchINSTALLBUILDCHECKBUILD BIN
MACPET 1.10.0  (landing page)
Ioannis Vardaxis
Last Commit: bf2919e
Last Changed Date: 2020-10-27 11:32:24 -0400
malbec1Linux (Ubuntu 18.04.5 LTS) / x86_64  OK    OK    OK  UNNEEDED, same version exists in internal repository
tokay1Windows Server 2012 R2 Standard / x64  OK    OK    OK    OK  UNNEEDED, same version exists in internal repository
merida1macOS 10.14.6 Mojave / x86_64  OK    OK    OK    OK  UNNEEDED, same version exists in internal repository
Package 61/109HostnameOS / ArchINSTALLBUILDCHECKBUILD BIN
MADSEQ 1.16.0  (landing page)
Yu Kong
Last Commit: 970e1fe
Last Changed Date: 2020-10-27 11:15:16 -0400
malbec1Linux (Ubuntu 18.04.5 LTS) / x86_64  OK    OK    OK  UNNEEDED, same version exists in internal repository
tokay1Windows Server 2012 R2 Standard / x64  OK    OK    OK    OK  UNNEEDED, same version exists in internal repository
merida1macOS 10.14.6 Mojave / x86_64  OK    OK    OK    OK  UNNEEDED, same version exists in internal repository
Package 62/109HostnameOS / ArchINSTALLBUILDCHECKBUILD BIN
MDTS 1.10.0  (landing page)
Jack M.. Fu
Last Commit: f64bdf7
Last Changed Date: 2020-10-27 11:32:52 -0400
malbec1Linux (Ubuntu 18.04.5 LTS) / x86_64  OK    OK    OK  UNNEEDED, same version exists in internal repository
tokay1Windows Server 2012 R2 Standard / x64  OK    OK    OK    OK  UNNEEDED, same version exists in internal repository
merida1macOS 10.14.6 Mojave / x86_64  OK    OK    OK    OK  UNNEEDED, same version exists in internal repository
Package 63/109HostnameOS / ArchINSTALLBUILDCHECKBUILD BIN
metagene 2.22.0  (landing page)
Charles Joly Beauparlant
Last Commit: cdf1dbb
Last Changed Date: 2020-10-27 10:58:00 -0400
malbec1Linux (Ubuntu 18.04.5 LTS) / x86_64  OK    OK    OK  UNNEEDED, same version exists in internal repository
tokay1Windows Server 2012 R2 Standard / x64  OK    OK    OK    OK  UNNEEDED, same version exists in internal repository
merida1macOS 10.14.6 Mojave / x86_64  OK    OK    OK    OK  UNNEEDED, same version exists in internal repository
Package 64/109HostnameOS / ArchINSTALLBUILDCHECKBUILD BIN
metagene2 1.6.1  (landing page)
Eric Fournier
Last Commit: 2610629
Last Changed Date: 2021-03-17 10:40:21 -0400
malbec1Linux (Ubuntu 18.04.5 LTS) / x86_64  OK    OK    OK  UNNEEDED, same version exists in internal repository
tokay1Windows Server 2012 R2 Standard / x64  OK    OK    OK    OK  UNNEEDED, same version exists in internal repository
merida1macOS 10.14.6 Mojave / x86_64  OK    OK    OK    OK  UNNEEDED, same version exists in internal repository
Package 65/109HostnameOS / ArchINSTALLBUILDCHECKBUILD BIN
metaseqR2 1.2.0  (landing page)
Panagiotis Moulos
Last Commit: 2bcc067
Last Changed Date: 2020-10-27 11:57:00 -0400
malbec1Linux (Ubuntu 18.04.5 LTS) / x86_64  OK    OK    OK  UNNEEDED, same version exists in internal repository
tokay1Windows Server 2012 R2 Standard / x64  OK    OK    OK    OK  UNNEEDED, same version exists in internal repository
merida1macOS 10.14.6 Mojave / x86_64  OK    OK    OK    OK  UNNEEDED, same version exists in internal repository
Package 66/109HostnameOS / ArchINSTALLBUILDCHECKBUILD BIN
methylPipe 1.24.0  (landing page)
Kamal Kishore
Last Commit: 5afa573
Last Changed Date: 2020-10-27 10:58:28 -0400
malbec1Linux (Ubuntu 18.04.5 LTS) / x86_64  OK    OK    WARNINGS  UNNEEDED, same version exists in internal repository
tokay1Windows Server 2012 R2 Standard / x64  OK    OK    WARNINGS    OK  UNNEEDED, same version exists in internal repository
merida1macOS 10.14.6 Mojave / x86_64  OK    OK    WARNINGS    OK  UNNEEDED, same version exists in internal repository
Package 67/109HostnameOS / ArchINSTALLBUILDCHECKBUILD BIN
mosaics 2.28.0  (landing page)
Dongjun Chung
Last Commit: 4f6e125
Last Changed Date: 2020-10-27 10:40:07 -0400
malbec1Linux (Ubuntu 18.04.5 LTS) / x86_64  OK    OK    OK  UNNEEDED, same version exists in internal repository
tokay1Windows Server 2012 R2 Standard / x64  OK    OK    OK    OK  UNNEEDED, same version exists in internal repository
merida1macOS 10.14.6 Mojave / x86_64  OK    OK    OK    OK  UNNEEDED, same version exists in internal repository
Package 68/109HostnameOS / ArchINSTALLBUILDCHECKBUILD BIN
msgbsR 1.14.0  (landing page)
Benjamin Mayne
Last Commit: 9b64d08
Last Changed Date: 2020-10-27 11:24:25 -0400
malbec1Linux (Ubuntu 18.04.5 LTS) / x86_64  OK    OK    WARNINGS  UNNEEDED, same version exists in internal repository
tokay1Windows Server 2012 R2 Standard / x64  OK    OK    WARNINGS    OK  UNNEEDED, same version exists in internal repository
merida1macOS 10.14.6 Mojave / x86_64  OK    OK    WARNINGS    OK  UNNEEDED, same version exists in internal repository
Package 69/109HostnameOS / ArchINSTALLBUILDCHECKBUILD BIN
NADfinder 1.14.0  (landing page)
Jianhong Ou
Last Commit: e5dde58
Last Changed Date: 2020-10-27 11:23:02 -0400
malbec1Linux (Ubuntu 18.04.5 LTS) / x86_64  OK    OK    OK  UNNEEDED, same version exists in internal repository
tokay1Windows Server 2012 R2 Standard / x64  OK    OK    OK    OK  UNNEEDED, same version exists in internal repository
merida1macOS 10.14.6 Mojave / x86_64  OK    OK    OK    OK  UNNEEDED, same version exists in internal repository
Package 70/109HostnameOS / ArchINSTALLBUILDCHECKBUILD BIN
ORFik 1.10.13  (landing page)
Haakon Tjeldnes
Last Commit: 3f2976e
Last Changed Date: 2021-03-26 10:15:54 -0400
malbec1Linux (Ubuntu 18.04.5 LTS) / x86_64  OK    OK    OK  UNNEEDED, same version exists in internal repository
tokay1Windows Server 2012 R2 Standard / x64  OK    OK    WARNINGS    OK  UNNEEDED, same version exists in internal repository
merida1macOS 10.14.6 Mojave / x86_64  OK    OK    OK    OK  UNNEEDED, same version exists in internal repository
Package 71/109HostnameOS / ArchINSTALLBUILDCHECKBUILD BIN
PICS 2.34.0  (landing page)
Renan Sauteraud
Last Commit: b7ee719
Last Changed Date: 2020-10-27 10:38:04 -0400
malbec1Linux (Ubuntu 18.04.5 LTS) / x86_64  OK    OK    OK  UNNEEDED, same version exists in internal repository
tokay1Windows Server 2012 R2 Standard / x64  OK    OK    OK    OK  UNNEEDED, same version exists in internal repository
merida1macOS 10.14.6 Mojave / x86_64  OK    OK    OK    OK  UNNEEDED, same version exists in internal repository
Package 72/109HostnameOS / ArchINSTALLBUILDCHECKBUILD BIN
plyranges 1.10.0  (landing page)
Stuart Lee
Last Commit: 5856b8c
Last Changed Date: 2020-10-27 11:34:01 -0400
malbec1Linux (Ubuntu 18.04.5 LTS) / x86_64  OK    OK    OK  UNNEEDED, same version exists in internal repository
tokay1Windows Server 2012 R2 Standard / x64  OK    OK    WARNINGS    OK  UNNEEDED, same version exists in internal repository
merida1macOS 10.14.6 Mojave / x86_64  OK    OK    OK    OK  UNNEEDED, same version exists in internal repository
Package 73/109HostnameOS / ArchINSTALLBUILDCHECKBUILD BIN
pram 1.6.0  (landing page)
Peng Liu
Last Commit: 2a91c54
Last Changed Date: 2020-10-27 11:43:36 -0400
malbec1Linux (Ubuntu 18.04.5 LTS) / x86_64  OK    OK    OK  UNNEEDED, same version exists in internal repository
tokay1Windows Server 2012 R2 Standard / x64  OK    OK    OK    OK  UNNEEDED, same version exists in internal repository
merida1macOS 10.14.6 Mojave / x86_64  OK    OK    OK    OK  UNNEEDED, same version exists in internal repository
Package 74/109HostnameOS / ArchINSTALLBUILDCHECKBUILD BIN
prebs 1.30.0  (landing page)
Karolis Uziela
Last Commit: 24d9c3a
Last Changed Date: 2020-10-27 10:50:26 -0400
malbec1Linux (Ubuntu 18.04.5 LTS) / x86_64  OK    OK    OK  UNNEEDED, same version exists in internal repository
tokay1Windows Server 2012 R2 Standard / x64  OK    OK    OK    OK  UNNEEDED, same version exists in internal repository
merida1macOS 10.14.6 Mojave / x86_64  OK    OK    OK    OK  UNNEEDED, same version exists in internal repository
Package 75/109HostnameOS / ArchINSTALLBUILDCHECKBUILD BIN
proActiv 1.0.0  (landing page)
Joseph Lee
Last Commit: a9bc3ac
Last Changed Date: 2020-10-27 12:00:53 -0400
malbec1Linux (Ubuntu 18.04.5 LTS) / x86_64  OK    OK    OK  UNNEEDED, same version exists in internal repository
tokay1Windows Server 2012 R2 Standard / x64  OK    OK    OK    OK  UNNEEDED, same version exists in internal repository
merida1macOS 10.14.6 Mojave / x86_64  OK    OK    OK    OK  UNNEEDED, same version exists in internal repository
Package 76/109HostnameOS / ArchINSTALLBUILDCHECKBUILD BIN
QuasR 1.30.0  (landing page)
Michael Stadler
Last Commit: 1b9d992
Last Changed Date: 2020-10-27 10:48:46 -0400
malbec1Linux (Ubuntu 18.04.5 LTS) / x86_64  OK    OK    OK  UNNEEDED, same version exists in internal repository
tokay1Windows Server 2012 R2 Standard / x64  OK    OK    OK    OK  UNNEEDED, same version exists in internal repository
merida1macOS 10.14.6 Mojave / x86_64  OK    OK    OK    OK  UNNEEDED, same version exists in internal repository
Package 77/109HostnameOS / ArchINSTALLBUILDCHECKBUILD BIN
ramwas 1.14.0  (landing page)
Andrey A Shabalin
Last Commit: b13659e
Last Changed Date: 2020-10-27 11:20:16 -0400
malbec1Linux (Ubuntu 18.04.5 LTS) / x86_64  OK    OK    OK  UNNEEDED, same version exists in internal repository
tokay1Windows Server 2012 R2 Standard / x64  OK    OK    WARNINGS    OK  UNNEEDED, same version exists in internal repository
merida1macOS 10.14.6 Mojave / x86_64  OK    OK    OK    OK  UNNEEDED, same version exists in internal repository
Package 78/109HostnameOS / ArchINSTALLBUILDCHECKBUILD BIN
Rcade 1.32.0  (landing page)
Jonathan Cairns
Last Commit: 41f4e17
Last Changed Date: 2020-10-27 10:47:44 -0400
malbec1Linux (Ubuntu 18.04.5 LTS) / x86_64  OK    OK    OK  UNNEEDED, same version exists in internal repository
tokay1Windows Server 2012 R2 Standard / x64  OK    OK    OK    OK  UNNEEDED, same version exists in internal repository
merida1macOS 10.14.6 Mojave / x86_64  ERROR    ERROR  skippedskipped
Package 79/109HostnameOS / ArchINSTALLBUILDCHECKBUILD BIN
recoup 1.18.0  (landing page)
Panagiotis Moulos
Last Commit: 71261f1
Last Changed Date: 2020-10-27 11:12:57 -0400
malbec1Linux (Ubuntu 18.04.5 LTS) / x86_64  OK    OK    OK  UNNEEDED, same version exists in internal repository
tokay1Windows Server 2012 R2 Standard / x64  OK    OK    OK    OK  UNNEEDED, same version exists in internal repository
merida1macOS 10.14.6 Mojave / x86_64  OK    OK    OK    OK  UNNEEDED, same version exists in internal repository
Package 80/109HostnameOS / ArchINSTALLBUILDCHECKBUILD BIN
Repitools 1.36.0  (landing page)
Mark Robinson
Last Commit: 60617aa
Last Changed Date: 2020-10-27 10:41:57 -0400
malbec1Linux (Ubuntu 18.04.5 LTS) / x86_64  OK    OK    OK  UNNEEDED, same version exists in internal repository
tokay1Windows Server 2012 R2 Standard / x64  OK    OK    WARNINGS    OK  UNNEEDED, same version exists in internal repository
merida1macOS 10.14.6 Mojave / x86_64  OK    OK    OK    OK  UNNEEDED, same version exists in internal repository
Package 81/109HostnameOS / ArchINSTALLBUILDCHECKBUILD BIN
RiboProfiling 1.20.0  (landing page)
A. Popa
Last Commit: 0037574
Last Changed Date: 2020-10-27 11:09:02 -0400
malbec1Linux (Ubuntu 18.04.5 LTS) / x86_64  OK    OK    WARNINGS  UNNEEDED, same version exists in internal repository
tokay1Windows Server 2012 R2 Standard / x64  OK    OK    WARNINGS    OK  UNNEEDED, same version exists in internal repository
merida1macOS 10.14.6 Mojave / x86_64  OK    OK    WARNINGS    OK  UNNEEDED, same version exists in internal repository
Package 82/109HostnameOS / ArchINSTALLBUILDCHECKBUILD BIN
ribosomeProfilingQC 1.2.1  (landing page)
Jianhong Ou
Last Commit: 5c7f59f
Last Changed Date: 2021-03-10 18:24:26 -0400
malbec1Linux (Ubuntu 18.04.5 LTS) / x86_64  OK    OK    OK  UNNEEDED, same version exists in internal repository
tokay1Windows Server 2012 R2 Standard / x64  OK    OK    OK    OK  UNNEEDED, same version exists in internal repository
merida1macOS 10.14.6 Mojave / x86_64  OK    OK    OK    OK  UNNEEDED, same version exists in internal repository
Package 83/109HostnameOS / ArchINSTALLBUILDCHECKBUILD BIN
RNAmodR 1.4.2  (landing page)
Felix G.M. Ernst
Last Commit: facd587
Last Changed Date: 2020-12-12 16:58:02 -0400
malbec1Linux (Ubuntu 18.04.5 LTS) / x86_64  OK    OK    OK  UNNEEDED, same version exists in internal repository
tokay1Windows Server 2012 R2 Standard / x64  OK    OK    OK    OK  UNNEEDED, same version exists in internal repository
merida1macOS 10.14.6 Mojave / x86_64  OK    OK    OK    OK  UNNEEDED, same version exists in internal repository
Package 84/109HostnameOS / ArchINSTALLBUILDCHECKBUILD BIN
RNAprobR 1.22.0  (landing page)
Nikos Sidiropoulos
Last Commit: a1d0885
Last Changed Date: 2020-10-27 11:03:22 -0400
malbec1Linux (Ubuntu 18.04.5 LTS) / x86_64  OK    OK    WARNINGS  UNNEEDED, same version exists in internal repository
tokay1Windows Server 2012 R2 Standard / x64  OK    OK    WARNINGS    OK  UNNEEDED, same version exists in internal repository
merida1macOS 10.14.6 Mojave / x86_64  OK    OK    WARNINGS    OK  UNNEEDED, same version exists in internal repository
Package 85/109HostnameOS / ArchINSTALLBUILDCHECKBUILD BIN
rnaSeqMap 2.48.0  (landing page)
Michal Okoniewski
Last Commit: a8c515e
Last Changed Date: 2020-10-27 10:39:23 -0400
malbec1Linux (Ubuntu 18.04.5 LTS) / x86_64  OK    OK    OK  UNNEEDED, same version exists in internal repository
tokay1Windows Server 2012 R2 Standard / x64  OK    OK    OK    OK  UNNEEDED, same version exists in internal repository
merida1macOS 10.14.6 Mojave / x86_64  OK    OK    OK    OK  UNNEEDED, same version exists in internal repository
Package 86/109HostnameOS / ArchINSTALLBUILDCHECKBUILD BIN
roar 1.26.0  (landing page)
Elena Grassi
Last Commit: 42dac5f
Last Changed Date: 2020-10-27 10:54:12 -0400
malbec1Linux (Ubuntu 18.04.5 LTS) / x86_64  OK    OK    OK  UNNEEDED, same version exists in internal repository
tokay1Windows Server 2012 R2 Standard / x64  OK    OK    OK    OK  UNNEEDED, same version exists in internal repository
merida1macOS 10.14.6 Mojave / x86_64  OK    OK    OK    OK  UNNEEDED, same version exists in internal repository
Package 87/109HostnameOS / ArchINSTALLBUILDCHECKBUILD BIN
Rqc 1.24.0  (landing page)
Welliton Souza
Last Commit: bf3c098
Last Changed Date: 2020-10-27 11:00:42 -0400
malbec1Linux (Ubuntu 18.04.5 LTS) / x86_64  OK    OK    OK  UNNEEDED, same version exists in internal repository
tokay1Windows Server 2012 R2 Standard / x64  OK    OK    WARNINGS    OK  UNNEEDED, same version exists in internal repository
merida1macOS 10.14.6 Mojave / x86_64  OK    OK    OK    OK  UNNEEDED, same version exists in internal repository
Package 88/109HostnameOS / ArchINSTALLBUILDCHECKBUILD BIN
rtracklayer 1.50.0  (landing page)
Michael Lawrence
Last Commit: d2e61f7
Last Changed Date: 2020-10-27 10:33:14 -0400
malbec1Linux (Ubuntu 18.04.5 LTS) / x86_64  OK    OK    WARNINGS  UNNEEDED, same version exists in internal repository
tokay1Windows Server 2012 R2 Standard / x64  OK    OK    ERROR    OK  
merida1macOS 10.14.6 Mojave / x86_64  OK    OK    WARNINGS    OK  UNNEEDED, same version exists in internal repository
Package 89/109HostnameOS / ArchINSTALLBUILDCHECKBUILD BIN
SCATE 1.0.0  (landing page)
Wenpin Hou
Last Commit: 00a484b
Last Changed Date: 2020-10-27 12:00:07 -0400
malbec1Linux (Ubuntu 18.04.5 LTS) / x86_64  OK    OK    OK  UNNEEDED, same version exists in internal repository
tokay1Windows Server 2012 R2 Standard / x64  OK    OK    OK    OK  UNNEEDED, same version exists in internal repository
merida1macOS 10.14.6 Mojave / x86_64  OK    OK    OK    OK  UNNEEDED, same version exists in internal repository
Package 90/109HostnameOS / ArchINSTALLBUILDCHECKBUILD BIN
scruff 1.8.3  (landing page)
Zhe Wang
Last Commit: 371fab0
Last Changed Date: 2021-02-11 12:03:52 -0400
malbec1Linux (Ubuntu 18.04.5 LTS) / x86_64  OK    OK    OK  UNNEEDED, same version exists in internal repository
tokay1Windows Server 2012 R2 Standard / x64  OK    OK    OK    OK  UNNEEDED, same version exists in internal repository
merida1macOS 10.14.6 Mojave / x86_64  OK    OK    OK    OK  UNNEEDED, same version exists in internal repository
Package 91/109HostnameOS / ArchINSTALLBUILDCHECKBUILD BIN
seqplots 1.28.0  (landing page)
Przemyslaw Stempor
Last Commit: d3b50e7
Last Changed Date: 2020-10-27 10:58:50 -0400
malbec1Linux (Ubuntu 18.04.5 LTS) / x86_64  OK    OK    ERROR  
tokay1Windows Server 2012 R2 Standard / x64  OK    OK    ERROR    OK  
merida1macOS 10.14.6 Mojave / x86_64  OK    OK    ERROR    OK  
Package 92/109HostnameOS / ArchINSTALLBUILDCHECKBUILD BIN
seqsetvis 1.10.0  (landing page)
Joseph R Boyd
Last Commit: 24f478a
Last Changed Date: 2020-10-27 11:33:58 -0400
malbec1Linux (Ubuntu 18.04.5 LTS) / x86_64  OK    OK    OK  UNNEEDED, same version exists in internal repository
tokay1Windows Server 2012 R2 Standard / x64  OK    OK    OK    OK  UNNEEDED, same version exists in internal repository
merida1macOS 10.14.6 Mojave / x86_64  OK    OK    OK    OK  UNNEEDED, same version exists in internal repository
Package 93/109HostnameOS / ArchINSTALLBUILDCHECKBUILD BIN
SGSeq 1.24.0  (landing page)
Leonard Goldstein
Last Commit: d776538
Last Changed Date: 2020-10-27 11:00:12 -0400
malbec1Linux (Ubuntu 18.04.5 LTS) / x86_64  OK    OK    OK  UNNEEDED, same version exists in internal repository
tokay1Windows Server 2012 R2 Standard / x64  OK    OK    OK    OK  UNNEEDED, same version exists in internal repository
merida1macOS 10.14.6 Mojave / x86_64  OK    OK    OK    OK  UNNEEDED, same version exists in internal repository
Package 94/109HostnameOS / ArchINSTALLBUILDCHECKBUILD BIN
ShortRead 1.48.0  (landing page)
Bioconductor Package Maintainer
Last Commit: ba44cd2
Last Changed Date: 2020-10-27 10:33:27 -0400
malbec1Linux (Ubuntu 18.04.5 LTS) / x86_64  OK    OK    WARNINGS  UNNEEDED, same version exists in internal repository
tokay1Windows Server 2012 R2 Standard / x64  OK    OK    WARNINGS    OK  UNNEEDED, same version exists in internal repository
merida1macOS 10.14.6 Mojave / x86_64  OK    OK    OK    OK  UNNEEDED, same version exists in internal repository
Package 95/109HostnameOS / ArchINSTALLBUILDCHECKBUILD BIN
soGGi 1.22.0  (landing page)
Tom Carroll
Last Commit: 7f949ee
Last Changed Date: 2020-10-27 11:04:48 -0400
malbec1Linux (Ubuntu 18.04.5 LTS) / x86_64  OK    OK    OK  UNNEEDED, same version exists in internal repository
tokay1Windows Server 2012 R2 Standard / x64  OK    OK    OK    OK  UNNEEDED, same version exists in internal repository
merida1macOS 10.14.6 Mojave / x86_64  OK    OK    OK    OK  UNNEEDED, same version exists in internal repository
Package 96/109HostnameOS / ArchINSTALLBUILDCHECKBUILD BIN
SplicingGraphs 1.30.0  (landing page)
H. Pagès
Last Commit: b093fb0
Last Changed Date: 2020-10-27 10:50:40 -0400
malbec1Linux (Ubuntu 18.04.5 LTS) / x86_64  OK    OK    WARNINGS  UNNEEDED, same version exists in internal repository
tokay1Windows Server 2012 R2 Standard / x64  OK    OK    TIMEOUT    OK  
merida1macOS 10.14.6 Mojave / x86_64  OK    OK    WARNINGS    OK  UNNEEDED, same version exists in internal repository
Package 97/109HostnameOS / ArchINSTALLBUILDCHECKBUILD BIN
SPLINTER 1.16.0  (landing page)
Diana Low
Last Commit: 0cd3dd0
Last Changed Date: 2020-10-27 11:18:03 -0400
malbec1Linux (Ubuntu 18.04.5 LTS) / x86_64  OK    OK    OK  UNNEEDED, same version exists in internal repository
tokay1Windows Server 2012 R2 Standard / x64  OK    OK    WARNINGS    OK  UNNEEDED, same version exists in internal repository
merida1macOS 10.14.6 Mojave / x86_64  OK    OK    OK    OK  UNNEEDED, same version exists in internal repository
Package 98/109HostnameOS / ArchINSTALLBUILDCHECKBUILD BIN
srnadiff 1.10.1  (landing page)
Zytnicki Matthias
Last Commit: b06f511
Last Changed Date: 2020-10-13 05:50:14 -0400
malbec1Linux (Ubuntu 18.04.5 LTS) / x86_64  OK    OK    OK  UNNEEDED, same version exists in internal repository
tokay1Windows Server 2012 R2 Standard / x64  OK    OK    TIMEOUT    OK  
merida1macOS 10.14.6 Mojave / x86_64  OK    OK    OK    OK  UNNEEDED, same version exists in internal repository
Package 99/109HostnameOS / ArchINSTALLBUILDCHECKBUILD BIN
strandCheckR 1.8.0  (landing page)
Thu-Hien To
Last Commit: 6d8767e
Last Changed Date: 2020-10-27 11:37:23 -0400
malbec1Linux (Ubuntu 18.04.5 LTS) / x86_64  OK    OK    OK  UNNEEDED, same version exists in internal repository
tokay1Windows Server 2012 R2 Standard / x64  OK    OK    OK    OK  UNNEEDED, same version exists in internal repository
merida1macOS 10.14.6 Mojave / x86_64  OK    OK    OK    OK  UNNEEDED, same version exists in internal repository
Package 100/109HostnameOS / ArchINSTALLBUILDCHECKBUILD BIN
TAPseq 1.2.0  (landing page)
Andreas Gschwind
Last Commit: ab2957a
Last Changed Date: 2020-10-27 11:54:09 -0400
malbec1Linux (Ubuntu 18.04.5 LTS) / x86_64  OK    OK    WARNINGS  UNNEEDED, same version exists in internal repository
tokay1Windows Server 2012 R2 Standard / x64  OK    OK    WARNINGS    OK  UNNEEDED, same version exists in internal repository
merida1macOS 10.14.6 Mojave / x86_64  OK    OK    WARNINGS    OK  UNNEEDED, same version exists in internal repository
Package 101/109HostnameOS / ArchINSTALLBUILDCHECKBUILD BIN
TarSeqQC 1.20.0  (landing page)
Gabriela Merino
Last Commit: 96ddeb9
Last Changed Date: 2020-10-27 11:08:21 -0400
malbec1Linux (Ubuntu 18.04.5 LTS) / x86_64  OK    OK    OK  UNNEEDED, same version exists in internal repository
tokay1Windows Server 2012 R2 Standard / x64  OK    OK    TIMEOUT    OK  
merida1macOS 10.14.6 Mojave / x86_64  OK    OK    OK    OK  UNNEEDED, same version exists in internal repository
Package 102/109HostnameOS / ArchINSTALLBUILDCHECKBUILD BIN
TCseq 1.14.0  (landing page)
Mengjun Wu
Last Commit: 3a210f7
Last Changed Date: 2020-10-27 11:20:39 -0400
malbec1Linux (Ubuntu 18.04.5 LTS) / x86_64  OK    OK    OK  UNNEEDED, same version exists in internal repository
tokay1Windows Server 2012 R2 Standard / x64  OK    OK    OK    OK  UNNEEDED, same version exists in internal repository
merida1macOS 10.14.6 Mojave / x86_64  OK    OK    OK    OK  UNNEEDED, same version exists in internal repository
Package 103/109HostnameOS / ArchINSTALLBUILDCHECKBUILD BIN
trackViewer 1.26.2  (landing page)
Jianhong Ou
Last Commit: 369c778
Last Changed Date: 2021-02-08 10:57:08 -0400
malbec1Linux (Ubuntu 18.04.5 LTS) / x86_64  OK    OK    OK  UNNEEDED, same version exists in internal repository
tokay1Windows Server 2012 R2 Standard / x64  OK    OK    OK    OK  UNNEEDED, same version exists in internal repository
merida1macOS 10.14.6 Mojave / x86_64  OK    OK    OK    OK  UNNEEDED, same version exists in internal repository
Package 104/109HostnameOS / ArchINSTALLBUILDCHECKBUILD BIN
transcriptR 1.18.0  (landing page)
Armen R. Karapetyan
Last Commit: 96add55
Last Changed Date: 2020-10-27 11:10:00 -0400
malbec1Linux (Ubuntu 18.04.5 LTS) / x86_64  OK    OK    OK  UNNEEDED, same version exists in internal repository
tokay1Windows Server 2012 R2 Standard / x64  OK    OK    WARNINGS    OK  UNNEEDED, same version exists in internal repository
merida1macOS 10.14.6 Mojave / x86_64  OK    OK    OK    OK  UNNEEDED, same version exists in internal repository
Package 105/109HostnameOS / ArchINSTALLBUILDCHECKBUILD BIN
TSRchitect 1.16.0  (landing page)
R. Taylor Raborn
Last Commit: 75ac941
Last Changed Date: 2020-10-27 11:24:22 -0400
malbec1Linux (Ubuntu 18.04.5 LTS) / x86_64  OK    OK    WARNINGS  UNNEEDED, same version exists in internal repository
tokay1Windows Server 2012 R2 Standard / x64  OK    OK    WARNINGS    OK  UNNEEDED, same version exists in internal repository
merida1macOS 10.14.6 Mojave / x86_64  OK    OK    WARNINGS    OK  UNNEEDED, same version exists in internal repository
Package 106/109HostnameOS / ArchINSTALLBUILDCHECKBUILD BIN
Ularcirc 1.8.0  (landing page)
David Humphreys
Last Commit: c22748f
Last Changed Date: 2020-10-27 11:36:06 -0400
malbec1Linux (Ubuntu 18.04.5 LTS) / x86_64  OK    OK    OK  UNNEEDED, same version exists in internal repository
tokay1Windows Server 2012 R2 Standard / x64  OK    OK    OK    OK  UNNEEDED, same version exists in internal repository
merida1macOS 10.14.6 Mojave / x86_64  OK    OK    OK    OK  UNNEEDED, same version exists in internal repository
Package 107/109HostnameOS / ArchINSTALLBUILDCHECKBUILD BIN
UMI4Cats 1.0.1  (landing page)
Mireia Ramos-Rodriguez
Last Commit: 1f6f3d8
Last Changed Date: 2020-12-29 05:50:42 -0400
malbec1Linux (Ubuntu 18.04.5 LTS) / x86_64  OK    OK    OK  UNNEEDED, same version exists in internal repository
tokay1Windows Server 2012 R2 Standard / x64  OK    OK    OK    OK  UNNEEDED, same version exists in internal repository
merida1macOS 10.14.6 Mojave / x86_64  OK    OK    OK    OK  UNNEEDED, same version exists in internal repository
Package 108/109HostnameOS / ArchINSTALLBUILDCHECKBUILD BIN
VaSP 1.2.5  (landing page)
Huihui Yu
Last Commit: f6f0188
Last Changed Date: 2021-02-14 18:52:23 -0400
malbec1Linux (Ubuntu 18.04.5 LTS) / x86_64  OK    OK    OK  UNNEEDED, same version exists in internal repository
tokay1Windows Server 2012 R2 Standard / x64  OK    OK    OK    OK  UNNEEDED, same version exists in internal repository
merida1macOS 10.14.6 Mojave / x86_64  OK    OK    OK    OK  UNNEEDED, same version exists in internal repository
Package 109/109HostnameOS / ArchINSTALLBUILDCHECKBUILD BIN
VplotR 1.0.0  (landing page)
Jacques Serizay
Last Commit: 6e7c2ee
Last Changed Date: 2020-10-27 11:59:50 -0400
malbec1Linux (Ubuntu 18.04.5 LTS) / x86_64  OK    ERROR  skipped
tokay1Windows Server 2012 R2 Standard / x64  OK    OK    OK    OK  UNNEEDED, same version exists in internal repository
merida1macOS 10.14.6 Mojave / x86_64  OK    OK    OK    OK  UNNEEDED, same version exists in internal repository