Back to Multiple platform build/check report for BioC 3.12
ABCDEF[G]HIJKLMNOPQRSTUVWXYZ

Multiple platform build/check report for BioC 3.12

All results for package GenomeInfoDb

This page was generated on 2021-05-06 12:25:52 -0400 (Thu, 06 May 2021).

Package 711/1974HostnameOS / ArchINSTALLBUILDCHECKBUILD BIN
GenomeInfoDb 1.26.7  (landing page)
Bioconductor Package Maintainer
Snapshot Date: 2021-05-05 14:51:38 -0400 (Wed, 05 May 2021)
URL: https://git.bioconductor.org/packages/GenomeInfoDb
Branch: RELEASE_3_12
Last Commit: 6bef593
Last Changed Date: 2021-04-08 04:38:43 -0400 (Thu, 08 Apr 2021)
malbec1Linux (Ubuntu 18.04.5 LTS) / x86_64  OK    OK    OK  UNNEEDED, same version exists in internal repository
tokay1Windows Server 2012 R2 Standard / x64  OK    OK    WARNINGS    OK  UNNEEDED, same version exists in internal repository
merida1macOS 10.14.6 Mojave / x86_64  OK    OK    OK    OK  UNNEEDED, same version exists in internal repository

Results for Bioconductor software packages that depend directly on package GenomeInfoDb

QUICK STATSOS / ArchINSTALLBUILDCHECKBUILD BIN
malbec1Linux (Ubuntu 18.04.5 LTS) / x86_64
02255
08249
0638205
tokay1Windows Server 2012 R2 Standard / x64
02247
07242
3874157
00242
merida1macOS 10.14.6 Mojave / x86_64
04252
08248
0639203
00248
Package 1/257HostnameOS / ArchINSTALLBUILDCHECKBUILD BIN
AllelicImbalance 1.28.0  (landing page)
Jesper R Gadin
Last Commit: ac5d13c
Last Changed Date: 2020-10-27 10:53:07 -0400
malbec1Linux (Ubuntu 18.04.5 LTS) / x86_64  OK    OK    OK  UNNEEDED, same version exists in internal repository
tokay1Windows Server 2012 R2 Standard / x64  OK    OK    OK    OK  UNNEEDED, same version exists in internal repository
merida1macOS 10.14.6 Mojave / x86_64  OK    OK    OK    OK  UNNEEDED, same version exists in internal repository
Package 2/257HostnameOS / ArchINSTALLBUILDCHECKBUILD BIN
alpine 1.16.0  (landing page)
Michael Love
Last Commit: aee3977
Last Changed Date: 2020-10-27 11:17:10 -0400
malbec1Linux (Ubuntu 18.04.5 LTS) / x86_64  OK    OK    OK  UNNEEDED, same version exists in internal repository
tokay1Windows Server 2012 R2 Standard / x64  OK    OK    OK    OK  UNNEEDED, same version exists in internal repository
merida1macOS 10.14.6 Mojave / x86_64  OK    OK    OK    OK  UNNEEDED, same version exists in internal repository
Package 3/257HostnameOS / ArchINSTALLBUILDCHECKBUILD BIN
amplican 1.12.0  (landing page)
Eivind Valen
Last Commit: f593f59
Last Changed Date: 2020-10-27 11:27:25 -0400
malbec1Linux (Ubuntu 18.04.5 LTS) / x86_64  OK    OK    OK  UNNEEDED, same version exists in internal repository
tokay1Windows Server 2012 R2 Standard / x64  OK    OK    OK    OK  UNNEEDED, same version exists in internal repository
merida1macOS 10.14.6 Mojave / x86_64  OK    OK    OK    OK  UNNEEDED, same version exists in internal repository
Package 4/257HostnameOS / ArchINSTALLBUILDCHECKBUILD BIN
AneuFinder 1.18.0  (landing page)
Aaron Taudt
Last Commit: 76ec9af
Last Changed Date: 2020-10-27 11:12:55 -0400
malbec1Linux (Ubuntu 18.04.5 LTS) / x86_64  OK    OK    OK  UNNEEDED, same version exists in internal repository
tokay1Windows Server 2012 R2 Standard / x64  OK    OK    OK    OK  UNNEEDED, same version exists in internal repository
merida1macOS 10.14.6 Mojave / x86_64  OK    OK    OK    OK  UNNEEDED, same version exists in internal repository
Package 5/257HostnameOS / ArchINSTALLBUILDCHECKBUILD BIN
AnnotationHubData 1.20.2  (landing page)
Bioconductor Package Maintainer
Last Commit: 60ff8b9
Last Changed Date: 2021-04-16 08:31:14 -0400
malbec1Linux (Ubuntu 18.04.5 LTS) / x86_64  OK    OK    WARNINGS  UNNEEDED, same version exists in internal repository
tokay1Windows Server 2012 R2 Standard / x64  OK    OK    WARNINGS    OK  UNNEEDED, same version exists in internal repository
merida1macOS 10.14.6 Mojave / x86_64  OK    OK    WARNINGS    OK  UNNEEDED, same version exists in internal repository
Package 6/257HostnameOS / ArchINSTALLBUILDCHECKBUILD BIN
annotatr 1.16.0  (landing page)
Raymond G. Cavalcante
Last Commit: e5b2b37
Last Changed Date: 2020-10-27 11:18:54 -0400
malbec1Linux (Ubuntu 18.04.5 LTS) / x86_64  OK    OK    OK  UNNEEDED, same version exists in internal repository
tokay1Windows Server 2012 R2 Standard / x64  OK    OK    OK    OK  UNNEEDED, same version exists in internal repository
merida1macOS 10.14.6 Mojave / x86_64  OK    OK    OK    OK  UNNEEDED, same version exists in internal repository
Package 7/257HostnameOS / ArchINSTALLBUILDCHECKBUILD BIN
ASpediaFI 1.4.0  (landing page)
Doyeong Yu
Last Commit: d59c4a0
Last Changed Date: 2020-10-27 11:50:40 -0400
malbec1Linux (Ubuntu 18.04.5 LTS) / x86_64  OK    OK    OK  UNNEEDED, same version exists in internal repository
tokay1Windows Server 2012 R2 Standard / x64  OK    OK    OK    OK  UNNEEDED, same version exists in internal repository
merida1macOS 10.14.6 Mojave / x86_64  OK    OK    OK    OK  UNNEEDED, same version exists in internal repository
Package 8/257HostnameOS / ArchINSTALLBUILDCHECKBUILD BIN
ATACseqQC 1.14.4  (landing page)
Jianhong Ou
Last Commit: 0728a45
Last Changed Date: 2020-11-05 09:56:56 -0400
malbec1Linux (Ubuntu 18.04.5 LTS) / x86_64  OK    OK    OK  UNNEEDED, same version exists in internal repository
tokay1Windows Server 2012 R2 Standard / x64  OK    OK    OK    OK  UNNEEDED, same version exists in internal repository
merida1macOS 10.14.6 Mojave / x86_64  OK    OK    OK    OK  UNNEEDED, same version exists in internal repository
Package 9/257HostnameOS / ArchINSTALLBUILDCHECKBUILD BIN
BaalChIP 1.16.0  (landing page)
Ines de Santiago
Last Commit: a5ef128
Last Changed Date: 2021-03-01 09:11:25 -0400
malbec1Linux (Ubuntu 18.04.5 LTS) / x86_64  OK    OK    WARNINGS  UNNEEDED, same version exists in internal repository
tokay1Windows Server 2012 R2 Standard / x64  OK    OK    WARNINGS    OK  UNNEEDED, same version exists in internal repository
merida1macOS 10.14.6 Mojave / x86_64  OK    OK    WARNINGS    OK  UNNEEDED, same version exists in internal repository
Package 10/257HostnameOS / ArchINSTALLBUILDCHECKBUILD BIN
ballgown 2.22.0  (landing page)
Jack Fu
Last Commit: 3bb5d43
Last Changed Date: 2020-10-27 10:57:50 -0400
malbec1Linux (Ubuntu 18.04.5 LTS) / x86_64  OK    OK    OK  UNNEEDED, same version exists in internal repository
tokay1Windows Server 2012 R2 Standard / x64  OK    OK    OK    OK  UNNEEDED, same version exists in internal repository
merida1macOS 10.14.6 Mojave / x86_64  OK    OK    OK    OK  UNNEEDED, same version exists in internal repository
Package 11/257HostnameOS / ArchINSTALLBUILDCHECKBUILD BIN
bambu 1.0.3  (landing page)
Ying Chen
Last Commit: 7140dd6
Last Changed Date: 2021-04-26 22:57:23 -0400
malbec1Linux (Ubuntu 18.04.5 LTS) / x86_64  OK    OK    OK  UNNEEDED, same version exists in internal repository
tokay1Windows Server 2012 R2 Standard / x64  OK    OK    OK    OK  UNNEEDED, same version exists in internal repository
merida1macOS 10.14.6 Mojave / x86_64  OK    OK    OK    OK  UNNEEDED, same version exists in internal repository
Package 12/257HostnameOS / ArchINSTALLBUILDCHECKBUILD BIN
BasicSTARRseq 1.18.0  (landing page)
Annika Buerger
Last Commit: acae287
Last Changed Date: 2020-10-27 11:10:59 -0400
malbec1Linux (Ubuntu 18.04.5 LTS) / x86_64  OK    OK    OK  UNNEEDED, same version exists in internal repository
tokay1Windows Server 2012 R2 Standard / x64  OK    OK    OK    OK  UNNEEDED, same version exists in internal repository
merida1macOS 10.14.6 Mojave / x86_64  OK    OK    OK    OK  UNNEEDED, same version exists in internal repository
Package 13/257HostnameOS / ArchINSTALLBUILDCHECKBUILD BIN
biovizBase 1.38.0  (landing page)
Michael Lawrence
Last Commit: d0f3362
Last Changed Date: 2020-10-27 10:43:03 -0400
malbec1Linux (Ubuntu 18.04.5 LTS) / x86_64  OK    OK    WARNINGS  UNNEEDED, same version exists in internal repository
tokay1Windows Server 2012 R2 Standard / x64  OK    OK    WARNINGS    OK  UNNEEDED, same version exists in internal repository
merida1macOS 10.14.6 Mojave / x86_64  OK    OK    WARNINGS    OK  UNNEEDED, same version exists in internal repository
Package 14/257HostnameOS / ArchINSTALLBUILDCHECKBUILD BIN
biscuiteer 1.4.0  (landing page)
"Jacob Morrison"
Last Commit: 7142015
Last Changed Date: 2020-10-27 11:50:51 -0400
malbec1Linux (Ubuntu 18.04.5 LTS) / x86_64  OK    OK    WARNINGS  UNNEEDED, same version exists in internal repository
tokay1Windows Server 2012 R2 Standard / x64  OK    OK    WARNINGS    OK  UNNEEDED, same version exists in internal repository
merida1macOS 10.14.6 Mojave / x86_64  OK    OK    WARNINGS    OK  UNNEEDED, same version exists in internal repository
Package 15/257HostnameOS / ArchINSTALLBUILDCHECKBUILD BIN
BiSeq 1.30.0  (landing page)
Katja Hebestreit
Last Commit: e946e2d
Last Changed Date: 2020-10-27 10:50:37 -0400
malbec1Linux (Ubuntu 18.04.5 LTS) / x86_64  OK    OK    OK  UNNEEDED, same version exists in internal repository
tokay1Windows Server 2012 R2 Standard / x64  OK    OK    OK    OK  UNNEEDED, same version exists in internal repository
merida1macOS 10.14.6 Mojave / x86_64  OK    OK    OK    OK  UNNEEDED, same version exists in internal repository
Package 16/257HostnameOS / ArchINSTALLBUILDCHECKBUILD BIN
bnbc 1.12.0  (landing page)
Kipper Fletez-Brant
Last Commit: 191bf12
Last Changed Date: 2020-10-27 11:28:47 -0400
malbec1Linux (Ubuntu 18.04.5 LTS) / x86_64  OK    OK    OK  UNNEEDED, same version exists in internal repository
tokay1Windows Server 2012 R2 Standard / x64  OK    OK    OK    OK  UNNEEDED, same version exists in internal repository
merida1macOS 10.14.6 Mojave / x86_64  OK    OK    OK    OK  UNNEEDED, same version exists in internal repository
Package 17/257HostnameOS / ArchINSTALLBUILDCHECKBUILD BIN
branchpointer 1.16.0  (landing page)
Beth Signal
Last Commit: 853ea53
Last Changed Date: 2020-10-27 11:22:25 -0400
malbec1Linux (Ubuntu 18.04.5 LTS) / x86_64  OK    OK    OK  UNNEEDED, same version exists in internal repository
tokay1Windows Server 2012 R2 Standard / x64  OK    OK    OK    OK  UNNEEDED, same version exists in internal repository
merida1macOS 10.14.6 Mojave / x86_64  OK    OK    OK    OK  UNNEEDED, same version exists in internal repository
Package 18/257HostnameOS / ArchINSTALLBUILDCHECKBUILD BIN
breakpointR 1.8.0  (landing page)
David Porubsky
Last Commit: 8542f20
Last Changed Date: 2020-10-27 11:38:49 -0400
malbec1Linux (Ubuntu 18.04.5 LTS) / x86_64  OK    OK    OK  UNNEEDED, same version exists in internal repository
tokay1Windows Server 2012 R2 Standard / x64  OK    OK    OK    OK  UNNEEDED, same version exists in internal repository
merida1macOS 10.14.6 Mojave / x86_64  OK    OK    OK    OK  UNNEEDED, same version exists in internal repository
Package 19/257HostnameOS / ArchINSTALLBUILDCHECKBUILD BIN
BRGenomics 1.2.0  (landing page)
Mike DeBerardine
Last Commit: 79bb3d5
Last Changed Date: 2020-10-27 11:54:54 -0400
malbec1Linux (Ubuntu 18.04.5 LTS) / x86_64  OK    OK    OK  UNNEEDED, same version exists in internal repository
tokay1Windows Server 2012 R2 Standard / x64  OK    OK    OK    OK  UNNEEDED, same version exists in internal repository
merida1macOS 10.14.6 Mojave / x86_64  OK    OK    OK    OK  UNNEEDED, same version exists in internal repository
Package 20/257HostnameOS / ArchINSTALLBUILDCHECKBUILD BIN
BSgenome 1.58.0  (landing page)
H. Pagès
Last Commit: 3a4926e
Last Changed Date: 2020-10-27 10:28:39 -0400
malbec1Linux (Ubuntu 18.04.5 LTS) / x86_64  OK    OK    WARNINGS  UNNEEDED, same version exists in internal repository
tokay1Windows Server 2012 R2 Standard / x64  OK    OK    WARNINGS    OK  UNNEEDED, same version exists in internal repository
merida1macOS 10.14.6 Mojave / x86_64  OK    OK    WARNINGS    OK  UNNEEDED, same version exists in internal repository
Package 21/257HostnameOS / ArchINSTALLBUILDCHECKBUILD BIN
bsseq 1.26.0  (landing page)
Kasper Daniel Hansen
Last Commit: fae3229
Last Changed Date: 2020-10-27 10:46:25 -0400
malbec1Linux (Ubuntu 18.04.5 LTS) / x86_64  OK    OK    OK  UNNEEDED, same version exists in internal repository
tokay1Windows Server 2012 R2 Standard / x64  OK    OK    OK    OK  UNNEEDED, same version exists in internal repository
merida1macOS 10.14.6 Mojave / x86_64  OK    OK    OK    OK  UNNEEDED, same version exists in internal repository
Package 22/257HostnameOS / ArchINSTALLBUILDCHECKBUILD BIN
bumphunter 1.32.0  (landing page)
Tamilselvi Guharaj
Last Commit: b7d39c2
Last Changed Date: 2021-01-09 21:50:50 -0400
malbec1Linux (Ubuntu 18.04.5 LTS) / x86_64  OK    OK    ERROR  
tokay1Windows Server 2012 R2 Standard / x64  OK    OK    OK    OK  UNNEEDED, same version exists in internal repository
merida1macOS 10.14.6 Mojave / x86_64  OK    OK    OK    OK  UNNEEDED, same version exists in internal repository
Package 23/257HostnameOS / ArchINSTALLBUILDCHECKBUILD BIN
BUSpaRse 1.4.2  (landing page)
Lambda Moses
Last Commit: ac591a3
Last Changed Date: 2021-03-01 14:55:24 -0400
malbec1Linux (Ubuntu 18.04.5 LTS) / x86_64  OK    OK    OK  UNNEEDED, same version exists in internal repository
tokay1Windows Server 2012 R2 Standard / x64  OK    OK    OK    OK  UNNEEDED, same version exists in internal repository
merida1macOS 10.14.6 Mojave / x86_64  OK    OK    OK    OK  UNNEEDED, same version exists in internal repository
Package 24/257HostnameOS / ArchINSTALLBUILDCHECKBUILD BIN
CAGEfightR 1.10.0  (landing page)
Malte Thodberg
Last Commit: 2ed5872
Last Changed Date: 2020-10-27 11:35:28 -0400
malbec1Linux (Ubuntu 18.04.5 LTS) / x86_64  OK    OK    OK  UNNEEDED, same version exists in internal repository
tokay1Windows Server 2012 R2 Standard / x64  OK    OK    OK    OK  UNNEEDED, same version exists in internal repository
merida1macOS 10.14.6 Mojave / x86_64  OK    OK    OK    OK  UNNEEDED, same version exists in internal repository
Package 25/257HostnameOS / ArchINSTALLBUILDCHECKBUILD BIN
CAGEr 1.32.1  (landing page)
Vanja Haberle , Charles Plessy , Damir Baranasic , Sarvesh Nikumbh
Last Commit: 034e4bf
Last Changed Date: 2021-01-15 01:28:35 -0400
malbec1Linux (Ubuntu 18.04.5 LTS) / x86_64  OK    OK    WARNINGS  UNNEEDED, same version exists in internal repository
tokay1Windows Server 2012 R2 Standard / x64  OK    OK    WARNINGS    OK  UNNEEDED, same version exists in internal repository
merida1macOS 10.14.6 Mojave / x86_64  OK    OK    WARNINGS    OK  UNNEEDED, same version exists in internal repository
Package 26/257HostnameOS / ArchINSTALLBUILDCHECKBUILD BIN
casper 2.24.2  (landing page)
David Rossell
Last Commit: f2c5903
Last Changed Date: 2020-12-15 08:57:40 -0400
malbec1Linux (Ubuntu 18.04.5 LTS) / x86_64  OK    OK    OK  UNNEEDED, same version exists in internal repository
tokay1Windows Server 2012 R2 Standard / x64  OK    OK    WARNINGS    OK  UNNEEDED, same version exists in internal repository
merida1macOS 10.14.6 Mojave / x86_64  OK    OK    WARNINGS    OK  UNNEEDED, same version exists in internal repository
Package 27/257HostnameOS / ArchINSTALLBUILDCHECKBUILD BIN
cBioPortalData 2.2.11  (landing page)
Marcel Ramos
Last Commit: 48d683a
Last Changed Date: 2021-04-21 23:32:13 -0400
malbec1Linux (Ubuntu 18.04.5 LTS) / x86_64  OK    OK    OK  UNNEEDED, same version exists in internal repository
tokay1Windows Server 2012 R2 Standard / x64  OK    OK    OK    OK  UNNEEDED, same version exists in internal repository
merida1macOS 10.14.6 Mojave / x86_64  OK    OK    OK    OK  UNNEEDED, same version exists in internal repository
Package 28/257HostnameOS / ArchINSTALLBUILDCHECKBUILD BIN
CexoR 1.28.0  (landing page)
Pedro Madrigal
Last Commit: 3641236
Last Changed Date: 2020-10-27 10:53:12 -0400
malbec1Linux (Ubuntu 18.04.5 LTS) / x86_64  OK    OK    OK  UNNEEDED, same version exists in internal repository
tokay1Windows Server 2012 R2 Standard / x64  OK    OK    OK    OK  UNNEEDED, same version exists in internal repository
merida1macOS 10.14.6 Mojave / x86_64  OK    OK    OK    OK  UNNEEDED, same version exists in internal repository
Package 29/257HostnameOS / ArchINSTALLBUILDCHECKBUILD BIN
chimeraviz 1.16.1  (landing page)
Stian Lågstad
Last Commit: 66a60b3
Last Changed Date: 2021-01-16 17:11:31 -0400
malbec1Linux (Ubuntu 18.04.5 LTS) / x86_64  OK    OK    OK  UNNEEDED, same version exists in internal repository
tokay1Windows Server 2012 R2 Standard / x64  OK    OK    OK    OK  UNNEEDED, same version exists in internal repository
merida1macOS 10.14.6 Mojave / x86_64  OK    OK    OK    OK  UNNEEDED, same version exists in internal repository
Package 30/257HostnameOS / ArchINSTALLBUILDCHECKBUILD BIN
ChIPanalyser 1.12.0  (landing page)
Patrick C.N. Martin
Last Commit: 126b7fa
Last Changed Date: 2020-10-27 11:27:08 -0400
malbec1Linux (Ubuntu 18.04.5 LTS) / x86_64  OK    OK    OK  UNNEEDED, same version exists in internal repository
tokay1Windows Server 2012 R2 Standard / x64  OK    OK    WARNINGS    OK  UNNEEDED, same version exists in internal repository
merida1macOS 10.14.6 Mojave / x86_64  OK    OK    OK    OK  UNNEEDED, same version exists in internal repository
Package 31/257HostnameOS / ArchINSTALLBUILDCHECKBUILD BIN
ChIPComp 1.20.0  (landing page)
Li Chen
Last Commit: 9dbb9ed
Last Changed Date: 2020-10-27 11:07:24 -0400
malbec1Linux (Ubuntu 18.04.5 LTS) / x86_64  OK    OK    OK  UNNEEDED, same version exists in internal repository
tokay1Windows Server 2012 R2 Standard / x64  OK    OK    OK    OK  UNNEEDED, same version exists in internal repository
merida1macOS 10.14.6 Mojave / x86_64  OK    OK    OK    OK  UNNEEDED, same version exists in internal repository
Package 32/257HostnameOS / ArchINSTALLBUILDCHECKBUILD BIN
chipenrich 2.14.0  (landing page)
Raymond G. Cavalcante
Last Commit: 2e41855
Last Changed Date: 2020-10-27 10:52:32 -0400
malbec1Linux (Ubuntu 18.04.5 LTS) / x86_64  OK    OK    OK  UNNEEDED, same version exists in internal repository
tokay1Windows Server 2012 R2 Standard / x64  OK    OK    OK    OK  UNNEEDED, same version exists in internal repository
merida1macOS 10.14.6 Mojave / x86_64  OK    OK    OK    OK  UNNEEDED, same version exists in internal repository
Package 33/257HostnameOS / ArchINSTALLBUILDCHECKBUILD BIN
ChIPexoQual 1.14.0  (landing page)
Rene Welch
Last Commit: c593ac2
Last Changed Date: 2020-10-27 11:20:56 -0400
malbec1Linux (Ubuntu 18.04.5 LTS) / x86_64  OK    OK    OK  UNNEEDED, same version exists in internal repository
tokay1Windows Server 2012 R2 Standard / x64  OK    OK    OK    OK  UNNEEDED, same version exists in internal repository
merida1macOS 10.14.6 Mojave / x86_64  OK    OK    OK    OK  UNNEEDED, same version exists in internal repository
Package 34/257HostnameOS / ArchINSTALLBUILDCHECKBUILD BIN
ChIPpeakAnno 3.24.2  (landing page)
Jianhong Ou
Last Commit: 09d9fec
Last Changed Date: 2021-03-30 09:36:14 -0400
malbec1Linux (Ubuntu 18.04.5 LTS) / x86_64  OK    OK    OK  UNNEEDED, same version exists in internal repository
tokay1Windows Server 2012 R2 Standard / x64  OK    OK    OK    OK  UNNEEDED, same version exists in internal repository
merida1macOS 10.14.6 Mojave / x86_64  OK    OK    OK    OK  UNNEEDED, same version exists in internal repository
Package 35/257HostnameOS / ArchINSTALLBUILDCHECKBUILD BIN
ChIPseeker 1.26.2  (landing page)
Guangchuang Yu
Last Commit: 8142321
Last Changed Date: 2021-03-03 22:18:14 -0400
malbec1Linux (Ubuntu 18.04.5 LTS) / x86_64  OK    OK    OK  UNNEEDED, same version exists in internal repository
tokay1Windows Server 2012 R2 Standard / x64  OK    OK    WARNINGS    OK  UNNEEDED, same version exists in internal repository
merida1macOS 10.14.6 Mojave / x86_64  OK    OK    OK    OK  UNNEEDED, same version exists in internal repository
Package 36/257HostnameOS / ArchINSTALLBUILDCHECKBUILD BIN
chromstaR 1.16.0  (landing page)
Aaron Taudt
Last Commit: b2bacfd
Last Changed Date: 2020-10-27 11:15:35 -0400
malbec1Linux (Ubuntu 18.04.5 LTS) / x86_64  OK    OK    OK  UNNEEDED, same version exists in internal repository
tokay1Windows Server 2012 R2 Standard / x64  OK    OK    OK    OK  UNNEEDED, same version exists in internal repository
merida1macOS 10.14.6 Mojave / x86_64  OK    OK    OK    OK  UNNEEDED, same version exists in internal repository
Package 37/257HostnameOS / ArchINSTALLBUILDCHECKBUILD BIN
chromVAR 1.12.0  (landing page)
Alicia Schep
Last Commit: ea35241
Last Changed Date: 2020-10-27 11:28:24 -0400
malbec1Linux (Ubuntu 18.04.5 LTS) / x86_64  OK    OK    OK  UNNEEDED, same version exists in internal repository
tokay1Windows Server 2012 R2 Standard / x64  OK    OK    WARNINGS    OK  UNNEEDED, same version exists in internal repository
merida1macOS 10.14.6 Mojave / x86_64  OK    OK    OK    OK  UNNEEDED, same version exists in internal repository
Package 38/257HostnameOS / ArchINSTALLBUILDCHECKBUILD BIN
CINdex 1.18.0  (landing page)
Yuriy Gusev
Last Commit: 80688e0
Last Changed Date: 2020-10-27 11:13:21 -0400
malbec1Linux (Ubuntu 18.04.5 LTS) / x86_64  OK    OK    OK  UNNEEDED, same version exists in internal repository
tokay1Windows Server 2012 R2 Standard / x64  OK    OK    WARNINGS    OK  UNNEEDED, same version exists in internal repository
merida1macOS 10.14.6 Mojave / x86_64  OK    OK    OK    OK  UNNEEDED, same version exists in internal repository
Package 39/257HostnameOS / ArchINSTALLBUILDCHECKBUILD BIN
circRNAprofiler 1.4.2  (landing page)
Simona Aufiero
Last Commit: d699b41
Last Changed Date: 2021-03-04 02:48:10 -0400
malbec1Linux (Ubuntu 18.04.5 LTS) / x86_64  OK    OK    OK  UNNEEDED, same version exists in internal repository
tokay1Windows Server 2012 R2 Standard / x64  OK    OK    OK    OK  UNNEEDED, same version exists in internal repository
merida1macOS 10.14.6 Mojave / x86_64  OK    OK    OK    OK  UNNEEDED, same version exists in internal repository
Package 40/257HostnameOS / ArchINSTALLBUILDCHECKBUILD BIN
cleanUpdTSeq 1.28.0  (landing page)
Jianhong Ou ; Lihua Julie Zhu
Last Commit: 0a193f2
Last Changed Date: 2020-10-27 10:51:31 -0400
malbec1Linux (Ubuntu 18.04.5 LTS) / x86_64  OK    OK    OK  UNNEEDED, same version exists in internal repository
tokay1Windows Server 2012 R2 Standard / x64  OK    OK    OK    OK  UNNEEDED, same version exists in internal repository
merida1macOS 10.14.6 Mojave / x86_64  OK    OK    OK    OK  UNNEEDED, same version exists in internal repository
Package 41/257HostnameOS / ArchINSTALLBUILDCHECKBUILD BIN
cn.mops 1.36.0  (landing page)
Gundula Povysil
Last Commit: 94d0afc
Last Changed Date: 2020-10-27 10:43:58 -0400
malbec1Linux (Ubuntu 18.04.5 LTS) / x86_64  OK    OK    OK  UNNEEDED, same version exists in internal repository
tokay1Windows Server 2012 R2 Standard / x64  OK    OK    OK    OK  UNNEEDED, same version exists in internal repository
merida1macOS 10.14.6 Mojave / x86_64  OK    OK    OK    OK  UNNEEDED, same version exists in internal repository
Package 42/257HostnameOS / ArchINSTALLBUILDCHECKBUILD BIN
CNEr 1.26.0  (landing page)
Ge Tan
Last Commit: e5e582d
Last Changed Date: 2020-10-27 10:54:44 -0400
malbec1Linux (Ubuntu 18.04.5 LTS) / x86_64  OK    OK    WARNINGS  UNNEEDED, same version exists in internal repository
tokay1Windows Server 2012 R2 Standard / x64  OK    OK    WARNINGS    OK  UNNEEDED, same version exists in internal repository
merida1macOS 10.14.6 Mojave / x86_64  OK    OK    WARNINGS    OK  UNNEEDED, same version exists in internal repository
Package 43/257HostnameOS / ArchINSTALLBUILDCHECKBUILD BIN
CNVfilteR 1.4.2  (landing page)
Jose Marcos Moreno-Cabrera
Last Commit: 0cb32a5
Last Changed Date: 2021-04-16 08:46:56 -0400
malbec1Linux (Ubuntu 18.04.5 LTS) / x86_64  OK    OK    OK  UNNEEDED, same version exists in internal repository
tokay1Windows Server 2012 R2 Standard / x64  OK    OK    OK    OK  UNNEEDED, same version exists in internal repository
merida1macOS 10.14.6 Mojave / x86_64  OK    OK    OK    OK  UNNEEDED, same version exists in internal repository
Package 44/257HostnameOS / ArchINSTALLBUILDCHECKBUILD BIN
CNVPanelizer 1.22.0  (landing page)
Thomas Wolf
Last Commit: e43f2fb
Last Changed Date: 2020-10-27 11:06:10 -0400
malbec1Linux (Ubuntu 18.04.5 LTS) / x86_64  OK    OK    OK  UNNEEDED, same version exists in internal repository
tokay1Windows Server 2012 R2 Standard / x64  OK    OK    OK    OK  UNNEEDED, same version exists in internal repository
merida1macOS 10.14.6 Mojave / x86_64  OK    OK    OK    OK  UNNEEDED, same version exists in internal repository
Package 45/257HostnameOS / ArchINSTALLBUILDCHECKBUILD BIN
CNVRanger 1.6.1  (landing page)
Ludwig Geistlinger
Last Commit: a995fa8
Last Changed Date: 2020-12-09 15:36:10 -0400
malbec1Linux (Ubuntu 18.04.5 LTS) / x86_64  OK    OK    OK  UNNEEDED, same version exists in internal repository
tokay1Windows Server 2012 R2 Standard / x64  OK    OK    OK    OK  UNNEEDED, same version exists in internal repository
merida1macOS 10.14.6 Mojave / x86_64  OK    OK    OK    OK  UNNEEDED, same version exists in internal repository
Package 46/257HostnameOS / ArchINSTALLBUILDCHECKBUILD BIN
CODEX 1.22.0  (landing page)
Yuchao Jiang
Last Commit: aa0ee42
Last Changed Date: 2020-10-27 11:01:45 -0400
malbec1Linux (Ubuntu 18.04.5 LTS) / x86_64  OK    OK    OK  UNNEEDED, same version exists in internal repository
tokay1Windows Server 2012 R2 Standard / x64  OK    OK    OK    OK  UNNEEDED, same version exists in internal repository
merida1macOS 10.14.6 Mojave / x86_64  OK    OK    OK    OK  UNNEEDED, same version exists in internal repository
Package 47/257HostnameOS / ArchINSTALLBUILDCHECKBUILD BIN
compEpiTools 1.24.0  (landing page)
Kamal Kishore
Last Commit: 9acaf26
Last Changed Date: 2020-10-27 10:58:18 -0400
malbec1Linux (Ubuntu 18.04.5 LTS) / x86_64  OK    OK    OK  UNNEEDED, same version exists in internal repository
tokay1Windows Server 2012 R2 Standard / x64  OK    OK    OK    OK  UNNEEDED, same version exists in internal repository
merida1macOS 10.14.6 Mojave / x86_64  OK    OK    OK    OK  UNNEEDED, same version exists in internal repository
Package 48/257HostnameOS / ArchINSTALLBUILDCHECKBUILD BIN
consensusSeekeR 1.18.0  (landing page)
Astrid Deschenes
Last Commit: 2ef95ae
Last Changed Date: 2020-10-27 11:09:32 -0400
malbec1Linux (Ubuntu 18.04.5 LTS) / x86_64  OK    OK    OK  UNNEEDED, same version exists in internal repository
tokay1Windows Server 2012 R2 Standard / x64  OK    OK    OK    OK  UNNEEDED, same version exists in internal repository
merida1macOS 10.14.6 Mojave / x86_64  OK    OK    OK    OK  UNNEEDED, same version exists in internal repository
Package 49/257HostnameOS / ArchINSTALLBUILDCHECKBUILD BIN
conumee 1.24.0  (landing page)
Volker Hovestadt
Last Commit: 0be6400
Last Changed Date: 2020-10-27 11:04:42 -0400
malbec1Linux (Ubuntu 18.04.5 LTS) / x86_64  OK    OK    OK  UNNEEDED, same version exists in internal repository
tokay1Windows Server 2012 R2 Standard / x64... NOT SUPPORTED ...
merida1macOS 10.14.6 Mojave / x86_64  OK    OK    OK    OK  UNNEEDED, same version exists in internal repository
Package 50/257HostnameOS / ArchINSTALLBUILDCHECKBUILD BIN
CopyNumberPlots 1.6.0  (landing page)
Bernat Gel
Last Commit: bb544ff
Last Changed Date: 2020-10-27 11:45:26 -0400
malbec1Linux (Ubuntu 18.04.5 LTS) / x86_64  OK    OK    OK  UNNEEDED, same version exists in internal repository
tokay1Windows Server 2012 R2 Standard / x64  OK    OK    OK    OK  UNNEEDED, same version exists in internal repository
merida1macOS 10.14.6 Mojave / x86_64  OK    OK    OK    OK  UNNEEDED, same version exists in internal repository
Package 51/257HostnameOS / ArchINSTALLBUILDCHECKBUILD BIN
CopywriteR 2.22.0  (landing page)
Oscar Krijgsman
Last Commit: fadf9a9
Last Changed Date: 2020-10-27 11:04:30 -0400
malbec1Linux (Ubuntu 18.04.5 LTS) / x86_64  OK    OK    OK  UNNEEDED, same version exists in internal repository
tokay1Windows Server 2012 R2 Standard / x64  OK    OK    OK    OK  UNNEEDED, same version exists in internal repository
merida1macOS 10.14.6 Mojave / x86_64  OK    OK    OK    OK  UNNEEDED, same version exists in internal repository
Package 52/257HostnameOS / ArchINSTALLBUILDCHECKBUILD BIN
CrispRVariants 1.18.0  (landing page)
Helen Lindsay
Last Commit: 4bbba2e
Last Changed Date: 2020-10-27 11:10:15 -0400
malbec1Linux (Ubuntu 18.04.5 LTS) / x86_64  OK    OK    WARNINGS  UNNEEDED, same version exists in internal repository
tokay1Windows Server 2012 R2 Standard / x64  OK    OK    WARNINGS    OK  UNNEEDED, same version exists in internal repository
merida1macOS 10.14.6 Mojave / x86_64  OK    OK    WARNINGS    OK  UNNEEDED, same version exists in internal repository
Package 53/257HostnameOS / ArchINSTALLBUILDCHECKBUILD BIN
CSAR 1.42.0  (landing page)
Jose M Muino
Last Commit: 5e29252
Last Changed Date: 2020-10-27 10:37:11 -0400
malbec1Linux (Ubuntu 18.04.5 LTS) / x86_64  OK    OK    OK  UNNEEDED, same version exists in internal repository
tokay1Windows Server 2012 R2 Standard / x64  OK    OK    OK    OK  UNNEEDED, same version exists in internal repository
merida1macOS 10.14.6 Mojave / x86_64  OK    OK    OK    OK  UNNEEDED, same version exists in internal repository
Package 54/257HostnameOS / ArchINSTALLBUILDCHECKBUILD BIN
csaw 1.24.3  (landing page)
Aaron Lun
Last Commit: 9bad47b
Last Changed Date: 2020-11-09 23:33:24 -0400
malbec1Linux (Ubuntu 18.04.5 LTS) / x86_64  OK    OK    OK  UNNEEDED, same version exists in internal repository
tokay1Windows Server 2012 R2 Standard / x64  OK    OK    OK    OK  UNNEEDED, same version exists in internal repository
merida1macOS 10.14.6 Mojave / x86_64  OK    OK    OK    OK  UNNEEDED, same version exists in internal repository
Package 55/257HostnameOS / ArchINSTALLBUILDCHECKBUILD BIN
customProDB 1.30.1  (landing page)
Xiaojing Wang
Last Commit: 2c66727
Last Changed Date: 2021-04-26 13:05:49 -0400
malbec1Linux (Ubuntu 18.04.5 LTS) / x86_64  OK    OK    OK  UNNEEDED, same version exists in internal repository
tokay1Windows Server 2012 R2 Standard / x64  OK    OK    OK    OK  UNNEEDED, same version exists in internal repository
merida1macOS 10.14.6 Mojave / x86_64  OK    OK    OK    OK  UNNEEDED, same version exists in internal repository
Package 56/257HostnameOS / ArchINSTALLBUILDCHECKBUILD BIN
DAMEfinder 1.2.0  (landing page)
Stephany Orjuela
Last Commit: 99d17c3
Last Changed Date: 2020-10-27 11:52:56 -0400
malbec1Linux (Ubuntu 18.04.5 LTS) / x86_64  OK    OK    OK  UNNEEDED, same version exists in internal repository
tokay1Windows Server 2012 R2 Standard / x64  OK    OK    OK    OK  UNNEEDED, same version exists in internal repository
merida1macOS 10.14.6 Mojave / x86_64  OK    OK    OK    OK  UNNEEDED, same version exists in internal repository
Package 57/257HostnameOS / ArchINSTALLBUILDCHECKBUILD BIN
dasper 1.0.0  (landing page)
David Zhang
Last Commit: 395b887
Last Changed Date: 2020-10-27 12:03:54 -0400
malbec1Linux (Ubuntu 18.04.5 LTS) / x86_64  OK    OK    OK  UNNEEDED, same version exists in internal repository
tokay1Windows Server 2012 R2 Standard / x64  OK    OK    OK    OK  UNNEEDED, same version exists in internal repository
merida1macOS 10.14.6 Mojave / x86_64  OK    OK    OK    OK  UNNEEDED, same version exists in internal repository
Package 58/257HostnameOS / ArchINSTALLBUILDCHECKBUILD BIN
decompTumor2Sig 2.6.0  (landing page)
Rosario M. Piro
Last Commit: f498786
Last Changed Date: 2020-10-27 11:40:56 -0400
malbec1Linux (Ubuntu 18.04.5 LTS) / x86_64  OK    OK    OK  UNNEEDED, same version exists in internal repository
tokay1Windows Server 2012 R2 Standard / x64  OK    OK    OK    OK  UNNEEDED, same version exists in internal repository
merida1macOS 10.14.6 Mojave / x86_64  OK    OK    OK    OK  UNNEEDED, same version exists in internal repository
Package 59/257HostnameOS / ArchINSTALLBUILDCHECKBUILD BIN
DeepBlueR 1.16.0  (landing page)
Felipe Albrecht , Markus List
Last Commit: 9130898
Last Changed Date: 2020-10-27 11:16:05 -0400
malbec1Linux (Ubuntu 18.04.5 LTS) / x86_64  OK    OK    OK  UNNEEDED, same version exists in internal repository
tokay1Windows Server 2012 R2 Standard / x64  OK    OK    OK    OK  UNNEEDED, same version exists in internal repository
merida1macOS 10.14.6 Mojave / x86_64  OK    OK    OK    OK  UNNEEDED, same version exists in internal repository
Package 60/257HostnameOS / ArchINSTALLBUILDCHECKBUILD BIN
derfinder 1.24.2  (landing page)
Leonardo Collado-Torres
Last Commit: 20f2596
Last Changed Date: 2020-12-18 13:03:04 -0400
malbec1Linux (Ubuntu 18.04.5 LTS) / x86_64  OK    OK    OK  UNNEEDED, same version exists in internal repository
tokay1Windows Server 2012 R2 Standard / x64  OK    OK    OK    OK  UNNEEDED, same version exists in internal repository
merida1macOS 10.14.6 Mojave / x86_64  OK    OK    OK    OK  UNNEEDED, same version exists in internal repository
Package 61/257HostnameOS / ArchINSTALLBUILDCHECKBUILD BIN
derfinderPlot 1.24.1  (landing page)
Leonardo Collado-Torres
Last Commit: 8c36901
Last Changed Date: 2020-12-17 17:25:38 -0400
malbec1Linux (Ubuntu 18.04.5 LTS) / x86_64  OK    OK    OK  UNNEEDED, same version exists in internal repository
tokay1Windows Server 2012 R2 Standard / x64  OK    OK    OK    OK  UNNEEDED, same version exists in internal repository
merida1macOS 10.14.6 Mojave / x86_64  OK    OK    OK    OK  UNNEEDED, same version exists in internal repository
Package 62/257HostnameOS / ArchINSTALLBUILDCHECKBUILD BIN
DEScan2 1.10.0  (landing page)
Dario Righelli
Last Commit: 7a7d1be
Last Changed Date: 2020-10-27 11:32:55 -0400
malbec1Linux (Ubuntu 18.04.5 LTS) / x86_64  OK    OK    WARNINGS  UNNEEDED, same version exists in internal repository
tokay1Windows Server 2012 R2 Standard / x64  OK    OK    WARNINGS    OK  UNNEEDED, same version exists in internal repository
merida1macOS 10.14.6 Mojave / x86_64  OK    OK    WARNINGS    OK  UNNEEDED, same version exists in internal repository
Package 63/257HostnameOS / ArchINSTALLBUILDCHECKBUILD BIN
DEWSeq 1.4.4  (landing page)
bioinformatics team Hentze
Last Commit: 18bf75d
Last Changed Date: 2020-11-26 04:24:32 -0400
malbec1Linux (Ubuntu 18.04.5 LTS) / x86_64  OK    OK    OK  UNNEEDED, same version exists in internal repository
tokay1Windows Server 2012 R2 Standard / x64  OK    OK    OK    OK  UNNEEDED, same version exists in internal repository
merida1macOS 10.14.6 Mojave / x86_64  OK    OK    OK    OK  UNNEEDED, same version exists in internal repository
Package 64/257HostnameOS / ArchINSTALLBUILDCHECKBUILD BIN
diffHic 1.22.0  (landing page)
Aaron Lun
Last Commit: db4e4f8
Last Changed Date: 2020-10-27 11:05:00 -0400
malbec1Linux (Ubuntu 18.04.5 LTS) / x86_64  OK    OK    OK  UNNEEDED, same version exists in internal repository
tokay1Windows Server 2012 R2 Standard / x64  OK    OK    WARNINGS    OK  UNNEEDED, same version exists in internal repository
merida1macOS 10.14.6 Mojave / x86_64  OK    OK    OK    OK  UNNEEDED, same version exists in internal repository
Package 65/257HostnameOS / ArchINSTALLBUILDCHECKBUILD BIN
diffloop 1.18.0  (landing page)
Caleb Lareau
Last Commit: df423a8
Last Changed Date: 2020-10-27 11:14:27 -0400
malbec1Linux (Ubuntu 18.04.5 LTS) / x86_64  OK    OK    OK  UNNEEDED, same version exists in internal repository
tokay1Windows Server 2012 R2 Standard / x64  OK    OK    WARNINGS    OK  UNNEEDED, same version exists in internal repository
merida1macOS 10.14.6 Mojave / x86_64  OK    OK    OK    OK  UNNEEDED, same version exists in internal repository
Package 66/257HostnameOS / ArchINSTALLBUILDCHECKBUILD BIN
DMRcate 2.4.1  (landing page)
Tim Peters
Last Commit: bc6242a
Last Changed Date: 2021-01-13 23:09:44 -0400
malbec1Linux (Ubuntu 18.04.5 LTS) / x86_64  OK    OK    OK  UNNEEDED, same version exists in internal repository
tokay1Windows Server 2012 R2 Standard / x64  OK    OK    ERROR    OK  
merida1macOS 10.14.6 Mojave / x86_64  OK    OK    OK    OK  UNNEEDED, same version exists in internal repository
Package 67/257HostnameOS / ArchINSTALLBUILDCHECKBUILD BIN
DMRScan 1.12.0  (landing page)
Christian M Page
Last Commit: 25a84f2
Last Changed Date: 2020-10-27 11:20:53 -0400
malbec1Linux (Ubuntu 18.04.5 LTS) / x86_64  OK    OK    OK  UNNEEDED, same version exists in internal repository
tokay1Windows Server 2012 R2 Standard / x64  OK    OK    OK    OK  UNNEEDED, same version exists in internal repository
merida1macOS 10.14.6 Mojave / x86_64  OK    OK    OK    OK  UNNEEDED, same version exists in internal repository
Package 68/257HostnameOS / ArchINSTALLBUILDCHECKBUILD BIN
dmrseq 1.10.1  (landing page)
Keegan Korthauer
Last Commit: 9fc35ee
Last Changed Date: 2021-04-16 15:08:11 -0400
malbec1Linux (Ubuntu 18.04.5 LTS) / x86_64  OK    OK    WARNINGS  UNNEEDED, same version exists in internal repository
tokay1Windows Server 2012 R2 Standard / x64  OK    OK    WARNINGS    OK  UNNEEDED, same version exists in internal repository
merida1macOS 10.14.6 Mojave / x86_64  OK    OK    WARNINGS    OK  UNNEEDED, same version exists in internal repository
Package 69/257HostnameOS / ArchINSTALLBUILDCHECKBUILD BIN
DominoEffect 1.10.1  (landing page)
Marija Buljan
Last Commit: 4fcce39
Last Changed Date: 2021-04-16 10:19:46 -0400
malbec1Linux (Ubuntu 18.04.5 LTS) / x86_64  OK    OK    OK  UNNEEDED, same version exists in internal repository
tokay1Windows Server 2012 R2 Standard / x64  OK    OK    OK    OK  UNNEEDED, same version exists in internal repository
merida1macOS 10.14.6 Mojave / x86_64  OK    OK    OK    OK  UNNEEDED, same version exists in internal repository
Package 70/257HostnameOS / ArchINSTALLBUILDCHECKBUILD BIN
easyRNASeq 2.26.0  (landing page)
Nicolas Delhomme
Last Commit: e3ce60a
Last Changed Date: 2020-10-27 10:44:21 -0400
malbec1Linux (Ubuntu 18.04.5 LTS) / x86_64  OK    ERROR  skipped
tokay1Windows Server 2012 R2 Standard / x64  OK    ERROR  skippedskipped
merida1macOS 10.14.6 Mojave / x86_64  OK    OK    OK    OK  UNNEEDED, same version exists in internal repository
Package 71/257HostnameOS / ArchINSTALLBUILDCHECKBUILD BIN
ELMER 2.14.0  (landing page)
Tiago Chedraoui Silva
Last Commit: 1a74024
Last Changed Date: 2020-10-27 11:05:43 -0400
malbec1Linux (Ubuntu 18.04.5 LTS) / x86_64  OK    OK    OK  UNNEEDED, same version exists in internal repository
tokay1Windows Server 2012 R2 Standard / x64  OK    OK    OK    OK  UNNEEDED, same version exists in internal repository
merida1macOS 10.14.6 Mojave / x86_64  OK    OK    OK    OK  UNNEEDED, same version exists in internal repository
Package 72/257HostnameOS / ArchINSTALLBUILDCHECKBUILD BIN
ENCODExplorer 2.16.0  (landing page)
Charles Joly Beauparlant
Last Commit: cd5a8bf
Last Changed Date: 2020-10-27 11:05:06 -0400
malbec1Linux (Ubuntu 18.04.5 LTS) / x86_64  OK    OK    ERROR  
tokay1Windows Server 2012 R2 Standard / x64  OK    OK    ERROR    OK  
merida1macOS 10.14.6 Mojave / x86_64  OK    OK    ERROR    OK  
Package 73/257HostnameOS / ArchINSTALLBUILDCHECKBUILD BIN
enrichTF 1.6.0  (landing page)
Zheng Wei
Last Commit: 1e2abb2
Last Changed Date: 2020-10-27 11:45:51 -0400
malbec1Linux (Ubuntu 18.04.5 LTS) / x86_64  OK    OK    OK  UNNEEDED, same version exists in internal repository
tokay1Windows Server 2012 R2 Standard / x64  OK    OK    OK    OK  UNNEEDED, same version exists in internal repository
merida1macOS 10.14.6 Mojave / x86_64  OK    OK    OK    OK  UNNEEDED, same version exists in internal repository
Package 74/257HostnameOS / ArchINSTALLBUILDCHECKBUILD BIN
ensembldb 2.14.1  (landing page)
Johannes Rainer
Last Commit: c8945b3
Last Changed Date: 2021-04-19 02:04:01 -0400
malbec1Linux (Ubuntu 18.04.5 LTS) / x86_64  OK    OK    OK  UNNEEDED, same version exists in internal repository
tokay1Windows Server 2012 R2 Standard / x64  OK    OK    OK    OK  UNNEEDED, same version exists in internal repository
merida1macOS 10.14.6 Mojave / x86_64  OK    OK    OK    OK  UNNEEDED, same version exists in internal repository
Package 75/257HostnameOS / ArchINSTALLBUILDCHECKBUILD BIN
ensemblVEP 1.32.1  (landing page)
Bioconductor Package Maintainer
Last Commit: 5095beb
Last Changed Date: 2021-03-08 09:21:07 -0400
malbec1Linux (Ubuntu 18.04.5 LTS) / x86_64  OK    OK    OK  UNNEEDED, same version exists in internal repository
tokay1Windows Server 2012 R2 Standard / x64... NOT SUPPORTED ...
merida1macOS 10.14.6 Mojave / x86_64  OK    OK    OK    OK  UNNEEDED, same version exists in internal repository
Package 76/257HostnameOS / ArchINSTALLBUILDCHECKBUILD BIN
epigenomix 1.30.0  (landing page)
Hans-Ulrich Klein
Last Commit: 56b3595
Last Changed Date: 2020-10-27 10:49:42 -0400
malbec1Linux (Ubuntu 18.04.5 LTS) / x86_64  OK    OK    OK  UNNEEDED, same version exists in internal repository
tokay1Windows Server 2012 R2 Standard / x64  OK    OK    OK    OK  UNNEEDED, same version exists in internal repository
merida1macOS 10.14.6 Mojave / x86_64  OK    OK    OK    OK  UNNEEDED, same version exists in internal repository
Package 77/257HostnameOS / ArchINSTALLBUILDCHECKBUILD BIN
EpiTxDb 1.2.1  (landing page)
Felix G.M. Ernst
Last Commit: 359e443
Last Changed Date: 2021-03-25 06:10:58 -0400
malbec1Linux (Ubuntu 18.04.5 LTS) / x86_64  OK    OK    OK  UNNEEDED, same version exists in internal repository
tokay1Windows Server 2012 R2 Standard / x64  OK    OK    OK    OK  UNNEEDED, same version exists in internal repository
merida1macOS 10.14.6 Mojave / x86_64  OK    OK    OK    OK  UNNEEDED, same version exists in internal repository
Package 78/257HostnameOS / ArchINSTALLBUILDCHECKBUILD BIN
epivizr 2.20.0  (landing page)
Hector Corrada Bravo
Last Commit: 5b93e6c
Last Changed Date: 2020-10-27 10:53:17 -0400
malbec1Linux (Ubuntu 18.04.5 LTS) / x86_64  OK    OK    OK  UNNEEDED, same version exists in internal repository
tokay1Windows Server 2012 R2 Standard / x64  OK    OK    WARNINGS    OK  UNNEEDED, same version exists in internal repository
merida1macOS 10.14.6 Mojave / x86_64  OK    OK    OK    OK  UNNEEDED, same version exists in internal repository
Package 79/257HostnameOS / ArchINSTALLBUILDCHECKBUILD BIN
epivizrData 1.18.0  (landing page)
Hector Corrada Bravo
Last Commit: 57c859f
Last Changed Date: 2020-10-27 11:14:25 -0400
malbec1Linux (Ubuntu 18.04.5 LTS) / x86_64  OK    OK    OK  UNNEEDED, same version exists in internal repository
tokay1Windows Server 2012 R2 Standard / x64  OK    OK    OK    OK  UNNEEDED, same version exists in internal repository
merida1macOS 10.14.6 Mojave / x86_64  OK    OK    OK    OK  UNNEEDED, same version exists in internal repository
Package 80/257HostnameOS / ArchINSTALLBUILDCHECKBUILD BIN
epivizrStandalone 1.18.0  (landing page)
Hector Corrada Bravo
Last Commit: 3178098
Last Changed Date: 2020-10-27 11:14:49 -0400
malbec1Linux (Ubuntu 18.04.5 LTS) / x86_64  OK    OK    OK  UNNEEDED, same version exists in internal repository
tokay1Windows Server 2012 R2 Standard / x64  OK    OK    WARNINGS    OK  UNNEEDED, same version exists in internal repository
merida1macOS 10.14.6 Mojave / x86_64  OK    OK    OK    OK  UNNEEDED, same version exists in internal repository
Package 81/257HostnameOS / ArchINSTALLBUILDCHECKBUILD BIN
erma 1.6.0  (landing page)
VJ Carey
Last Commit: 2b7cca5
Last Changed Date: 2020-10-27 11:06:02 -0400
malbec1Linux (Ubuntu 18.04.5 LTS) / x86_64  OK    OK    OK  UNNEEDED, same version exists in internal repository
tokay1Windows Server 2012 R2 Standard / x64  OK    OK    OK    OK  UNNEEDED, same version exists in internal repository
merida1macOS 10.14.6 Mojave / x86_64  OK    OK    OK    OK  UNNEEDED, same version exists in internal repository
Package 82/257HostnameOS / ArchINSTALLBUILDCHECKBUILD BIN
esATAC 1.12.0  (landing page)
Zheng Wei
Last Commit: 7a68538
Last Changed Date: 2020-10-27 11:29:55 -0400
malbec1Linux (Ubuntu 18.04.5 LTS) / x86_64  OK    OK    OK  UNNEEDED, same version exists in internal repository
tokay1Windows Server 2012 R2 Standard / x64  OK    OK    OK    OK  UNNEEDED, same version exists in internal repository
merida1macOS 10.14.6 Mojave / x86_64  OK    OK    OK    OK  UNNEEDED, same version exists in internal repository
Package 83/257HostnameOS / ArchINSTALLBUILDCHECKBUILD BIN
EventPointer 2.8.0  (landing page)
Juan Pablo Romero
Last Commit: bde3577
Last Changed Date: 2020-10-27 11:21:53 -0400
malbec1Linux (Ubuntu 18.04.5 LTS) / x86_64  OK    OK    OK  UNNEEDED, same version exists in internal repository
tokay1Windows Server 2012 R2 Standard / x64  OK    OK    OK    OK  UNNEEDED, same version exists in internal repository
merida1macOS 10.14.6 Mojave / x86_64  OK    OK    OK    OK  UNNEEDED, same version exists in internal repository
Package 84/257HostnameOS / ArchINSTALLBUILDCHECKBUILD BIN
exomeCopy 1.36.0  (landing page)
Michael Love
Last Commit: cbe3134
Last Changed Date: 2020-10-27 10:43:40 -0400
malbec1Linux (Ubuntu 18.04.5 LTS) / x86_64  OK    OK    OK  UNNEEDED, same version exists in internal repository
tokay1Windows Server 2012 R2 Standard / x64  OK    OK    OK    OK  UNNEEDED, same version exists in internal repository
merida1macOS 10.14.6 Mojave / x86_64  OK    OK    OK    OK  UNNEEDED, same version exists in internal repository
Package 85/257HostnameOS / ArchINSTALLBUILDCHECKBUILD BIN
exomePeak2 1.2.0  (landing page)
Zhen Wei
Last Commit: a214469
Last Changed Date: 2020-10-27 11:53:58 -0400
malbec1Linux (Ubuntu 18.04.5 LTS) / x86_64  OK    OK    OK  UNNEEDED, same version exists in internal repository
tokay1Windows Server 2012 R2 Standard / x64  OK    OK    OK    OK  UNNEEDED, same version exists in internal repository
merida1macOS 10.14.6 Mojave / x86_64  OK    OK    OK    OK  UNNEEDED, same version exists in internal repository
Package 86/257HostnameOS / ArchINSTALLBUILDCHECKBUILD BIN
FRASER 1.2.1  (landing page)
Christian Mertes
Last Commit: 9160638
Last Changed Date: 2021-01-31 17:38:49 -0400
malbec1Linux (Ubuntu 18.04.5 LTS) / x86_64  OK    OK    OK  UNNEEDED, same version exists in internal repository
tokay1Windows Server 2012 R2 Standard / x64  OK    OK    OK    OK  UNNEEDED, same version exists in internal repository
merida1macOS 10.14.6 Mojave / x86_64  OK    OK    OK    OK  UNNEEDED, same version exists in internal repository
Package 87/257HostnameOS / ArchINSTALLBUILDCHECKBUILD BIN
FunChIP 1.16.0  (landing page)
Alice Parodi
Last Commit: 477b137
Last Changed Date: 2020-10-27 11:15:08 -0400
malbec1Linux (Ubuntu 18.04.5 LTS) / x86_64  OK    OK    WARNINGS  UNNEEDED, same version exists in internal repository
tokay1Windows Server 2012 R2 Standard / x64  OK    OK    WARNINGS    OK  UNNEEDED, same version exists in internal repository
merida1macOS 10.14.6 Mojave / x86_64  OK    OK    WARNINGS    OK  UNNEEDED, same version exists in internal repository
Package 88/257HostnameOS / ArchINSTALLBUILDCHECKBUILD BIN
funtooNorm 1.14.0  (landing page)
Kathleen Klein
Last Commit: 66254f5
Last Changed Date: 2020-10-27 11:20:49 -0400
malbec1Linux (Ubuntu 18.04.5 LTS) / x86_64  OK    OK    WARNINGS  UNNEEDED, same version exists in internal repository
tokay1Windows Server 2012 R2 Standard / x64  OK    OK    WARNINGS    OK  UNNEEDED, same version exists in internal repository
merida1macOS 10.14.6 Mojave / x86_64  OK    OK    WARNINGS    OK  UNNEEDED, same version exists in internal repository
Package 89/257HostnameOS / ArchINSTALLBUILDCHECKBUILD BIN
GA4GHclient 1.14.0  (landing page)
Welliton Souza
Last Commit: e012515
Last Changed Date: 2020-10-27 11:22:46 -0400
malbec1Linux (Ubuntu 18.04.5 LTS) / x86_64  OK    OK    OK  UNNEEDED, same version exists in internal repository
tokay1Windows Server 2012 R2 Standard / x64  OK    OK    OK    OK  UNNEEDED, same version exists in internal repository
merida1macOS 10.14.6 Mojave / x86_64  OK    OK    OK    OK  UNNEEDED, same version exists in internal repository
Package 90/257HostnameOS / ArchINSTALLBUILDCHECKBUILD BIN
GA4GHshiny 1.12.0  (landing page)
Welliton Souza
Last Commit: e1efc4e
Last Changed Date: 2020-10-27 11:24:31 -0400
malbec1Linux (Ubuntu 18.04.5 LTS) / x86_64  OK    OK    OK  UNNEEDED, same version exists in internal repository
tokay1Windows Server 2012 R2 Standard / x64  OK    OK    OK    OK  UNNEEDED, same version exists in internal repository
merida1macOS 10.14.6 Mojave / x86_64  OK    OK    OK    OK  UNNEEDED, same version exists in internal repository
Package 91/257HostnameOS / ArchINSTALLBUILDCHECKBUILD BIN
gcapc 1.14.0  (landing page)
Mingxiang Teng
Last Commit: 6c7d83d
Last Changed Date: 2020-10-27 11:20:02 -0400
malbec1Linux (Ubuntu 18.04.5 LTS) / x86_64  OK    OK    OK  UNNEEDED, same version exists in internal repository
tokay1Windows Server 2012 R2 Standard / x64  OK    OK    WARNINGS    OK  UNNEEDED, same version exists in internal repository
merida1macOS 10.14.6 Mojave / x86_64  OK    OK    OK    OK  UNNEEDED, same version exists in internal repository
Package 92/257HostnameOS / ArchINSTALLBUILDCHECKBUILD BIN
genbankr 1.18.0  (landing page)
Gabriel Becker
Last Commit: d3c2004
Last Changed Date: 2020-10-27 11:14:04 -0400
malbec1Linux (Ubuntu 18.04.5 LTS) / x86_64  OK    OK    OK  UNNEEDED, same version exists in internal repository
tokay1Windows Server 2012 R2 Standard / x64  OK    OK    OK    OK  UNNEEDED, same version exists in internal repository
merida1macOS 10.14.6 Mojave / x86_64  OK    OK    OK    OK  UNNEEDED, same version exists in internal repository
Package 93/257HostnameOS / ArchINSTALLBUILDCHECKBUILD BIN
geneAttribution 1.16.0  (landing page)
Arthur Wuster
Last Commit: 4f9fa9a
Last Changed Date: 2020-10-27 11:17:20 -0400
malbec1Linux (Ubuntu 18.04.5 LTS) / x86_64  OK    OK    OK  UNNEEDED, same version exists in internal repository
tokay1Windows Server 2012 R2 Standard / x64  OK    OK    OK    OK  UNNEEDED, same version exists in internal repository
merida1macOS 10.14.6 Mojave / x86_64  OK    OK    OK    OK  UNNEEDED, same version exists in internal repository
Package 94/257HostnameOS / ArchINSTALLBUILDCHECKBUILD BIN
GenoGAM 2.8.0  (landing page)
Georg Stricker
Last Commit: 7698827
Last Changed Date: 2020-10-27 11:13:12 -0400
malbec1Linux (Ubuntu 18.04.5 LTS) / x86_64  OK    OK    WARNINGS  UNNEEDED, same version exists in internal repository
tokay1Windows Server 2012 R2 Standard / x64  OK    OK    WARNINGS    OK  UNNEEDED, same version exists in internal repository
merida1macOS 10.14.6 Mojave / x86_64  OK    OK    WARNINGS    OK  UNNEEDED, same version exists in internal repository
Package 95/257HostnameOS / ArchINSTALLBUILDCHECKBUILD BIN
genomation 1.22.0  (landing page)
Altuna Akalin , Vedran Franke
Last Commit: 4ab56f3
Last Changed Date: 2020-10-27 11:01:16 -0400
malbec1Linux (Ubuntu 18.04.5 LTS) / x86_64  OK    OK    WARNINGS  UNNEEDED, same version exists in internal repository
tokay1Windows Server 2012 R2 Standard / x64  OK    OK    WARNINGS    OK  UNNEEDED, same version exists in internal repository
merida1macOS 10.14.6 Mojave / x86_64  OK    OK    WARNINGS    OK  UNNEEDED, same version exists in internal repository
Package 96/257HostnameOS / ArchINSTALLBUILDCHECKBUILD BIN
genomeIntervals 1.46.0  (landing page)
Julien Gagneur
Last Commit: 519c416
Last Changed Date: 2020-10-27 10:35:22 -0400
malbec1Linux (Ubuntu 18.04.5 LTS) / x86_64  OK    OK    OK  UNNEEDED, same version exists in internal repository
tokay1Windows Server 2012 R2 Standard / x64  OK    OK    WARNINGS    OK  UNNEEDED, same version exists in internal repository
merida1macOS 10.14.6 Mojave / x86_64  OK    OK    OK    OK  UNNEEDED, same version exists in internal repository
Package 97/257HostnameOS / ArchINSTALLBUILDCHECKBUILD BIN
GenomicAlignments 1.26.0  (landing page)
Bioconductor Package Maintainer
Last Commit: 6c74c74
Last Changed Date: 2020-10-27 10:53:58 -0400
malbec1Linux (Ubuntu 18.04.5 LTS) / x86_64  OK    OK    OK  UNNEEDED, same version exists in internal repository
tokay1Windows Server 2012 R2 Standard / x64  OK    OK    WARNINGS    OK  UNNEEDED, same version exists in internal repository
merida1macOS 10.14.6 Mojave / x86_64  OK    OK    OK    OK  UNNEEDED, same version exists in internal repository
Package 98/257HostnameOS / ArchINSTALLBUILDCHECKBUILD BIN
GenomicFeatures 1.42.3  (landing page)
Bioconductor Package Maintainer
Last Commit: 9ce5435
Last Changed Date: 2021-03-31 23:51:33 -0400
malbec1Linux (Ubuntu 18.04.5 LTS) / x86_64  OK    OK    OK  UNNEEDED, same version exists in internal repository
tokay1Windows Server 2012 R2 Standard / x64  OK    OK    WARNINGS    OK  UNNEEDED, same version exists in internal repository
merida1macOS 10.14.6 Mojave / x86_64  OK    OK    OK    OK  UNNEEDED, same version exists in internal repository
Package 99/257HostnameOS / ArchINSTALLBUILDCHECKBUILD BIN
GenomicFiles 1.26.0  (landing page)
Bioconductor Package Maintainer
Last Commit: 8c9e00d
Last Changed Date: 2020-10-27 10:56:29 -0400
malbec1Linux (Ubuntu 18.04.5 LTS) / x86_64  OK    OK    OK  UNNEEDED, same version exists in internal repository
tokay1Windows Server 2012 R2 Standard / x64  OK    OK    WARNINGS    OK  UNNEEDED, same version exists in internal repository
merida1macOS 10.14.6 Mojave / x86_64  OK    OK    OK    OK  UNNEEDED, same version exists in internal repository
Package 100/257HostnameOS / ArchINSTALLBUILDCHECKBUILD BIN
GenomicInteractions 1.24.0  (landing page)
Liz Ing-Simmons
Last Commit: 014f226
Last Changed Date: 2020-10-27 10:59:15 -0400
malbec1Linux (Ubuntu 18.04.5 LTS) / x86_64  OK    OK    OK  UNNEEDED, same version exists in internal repository
tokay1Windows Server 2012 R2 Standard / x64  OK    OK    WARNINGS    OK  UNNEEDED, same version exists in internal repository
merida1macOS 10.14.6 Mojave / x86_64  OK    OK    OK    OK  UNNEEDED, same version exists in internal repository
Package 101/257HostnameOS / ArchINSTALLBUILDCHECKBUILD BIN
GenomicOZone 1.4.1  (landing page)
Mingzhou Song
Last Commit: 4bc5a11
Last Changed Date: 2021-04-27 11:18:29 -0400
malbec1Linux (Ubuntu 18.04.5 LTS) / x86_64  OK    OK    OK  UNNEEDED, same version exists in internal repository
tokay1Windows Server 2012 R2 Standard / x64  OK    OK    OK    OK  UNNEEDED, same version exists in internal repository
merida1macOS 10.14.6 Mojave / x86_64  OK    OK    OK    OK  UNNEEDED, same version exists in internal repository
Package 102/257HostnameOS / ArchINSTALLBUILDCHECKBUILD BIN
GenomicRanges 1.42.0  (landing page)
Bioconductor Package Maintainer
Last Commit: 32baca7
Last Changed Date: 2020-10-27 10:37:41 -0400
malbec1Linux (Ubuntu 18.04.5 LTS) / x86_64  OK    OK    OK  UNNEEDED, same version exists in internal repository
tokay1Windows Server 2012 R2 Standard / x64  OK    OK    WARNINGS    OK  UNNEEDED, same version exists in internal repository
merida1macOS 10.14.6 Mojave / x86_64  OK    OK    OK    OK  UNNEEDED, same version exists in internal repository
Package 103/257HostnameOS / ArchINSTALLBUILDCHECKBUILD BIN
GenomicScores 2.2.0  (landing page)
Robert Castelo
Last Commit: 1a877e1
Last Changed Date: 2020-10-27 11:23:24 -0400
malbec1Linux (Ubuntu 18.04.5 LTS) / x86_64  OK    OK    OK  UNNEEDED, same version exists in internal repository
tokay1Windows Server 2012 R2 Standard / x64  OK    OK    WARNINGS    OK  UNNEEDED, same version exists in internal repository
merida1macOS 10.14.6 Mojave / x86_64  OK    OK    OK    OK  UNNEEDED, same version exists in internal repository
Package 104/257HostnameOS / ArchINSTALLBUILDCHECKBUILD BIN
GenomicTuples 1.24.0  (landing page)
Peter Hickey
Last Commit: c458252
Last Changed Date: 2020-10-27 10:59:57 -0400
malbec1Linux (Ubuntu 18.04.5 LTS) / x86_64  OK    OK    OK  UNNEEDED, same version exists in internal repository
tokay1Windows Server 2012 R2 Standard / x64  OK    OK    OK    OK  UNNEEDED, same version exists in internal repository
merida1macOS 10.14.6 Mojave / x86_64  OK    OK    OK    OK  UNNEEDED, same version exists in internal repository
Package 105/257HostnameOS / ArchINSTALLBUILDCHECKBUILD BIN
genoset 1.46.0  (landing page)
Peter M. Haverty
Last Commit: 74cd3c5
Last Changed Date: 2020-10-27 10:40:59 -0400
malbec1Linux (Ubuntu 18.04.5 LTS) / x86_64  OK    ERROR  skipped
tokay1Windows Server 2012 R2 Standard / x64  OK    ERROR  skippedskipped
merida1macOS 10.14.6 Mojave / x86_64  OK    ERROR  skippedskipped
Package 106/257HostnameOS / ArchINSTALLBUILDCHECKBUILD BIN
genotypeeval 1.22.0  (landing page)
Jennifer Tom
Last Commit: fdb3376
Last Changed Date: 2020-10-27 11:06:38 -0400
malbec1Linux (Ubuntu 18.04.5 LTS) / x86_64  OK    OK    OK  UNNEEDED, same version exists in internal repository
tokay1Windows Server 2012 R2 Standard / x64  OK    OK    OK    OK  UNNEEDED, same version exists in internal repository
merida1macOS 10.14.6 Mojave / x86_64  OK    OK    OK    OK  UNNEEDED, same version exists in internal repository
Package 107/257HostnameOS / ArchINSTALLBUILDCHECKBUILD BIN
GenVisR 1.22.1  (landing page)
Zachary Skidmore
Last Commit: 2e30ead
Last Changed Date: 2020-12-25 19:00:29 -0400
malbec1Linux (Ubuntu 18.04.5 LTS) / x86_64  OK    OK    OK  UNNEEDED, same version exists in internal repository
tokay1Windows Server 2012 R2 Standard / x64  OK    OK    OK    OK  UNNEEDED, same version exists in internal repository
merida1macOS 10.14.6 Mojave / x86_64  OK    OK    ERROR    OK  
Package 108/257HostnameOS / ArchINSTALLBUILDCHECKBUILD BIN
ggbio 1.38.0  (landing page)
Michael Lawrence
Last Commit: c39c519
Last Changed Date: 2020-10-27 10:43:32 -0400
malbec1Linux (Ubuntu 18.04.5 LTS) / x86_64  OK    OK    OK  UNNEEDED, same version exists in internal repository
tokay1Windows Server 2012 R2 Standard / x64  OK    OK    WARNINGS    OK  UNNEEDED, same version exists in internal repository
merida1macOS 10.14.6 Mojave / x86_64  OK    OK    OK    OK  UNNEEDED, same version exists in internal repository
Package 109/257HostnameOS / ArchINSTALLBUILDCHECKBUILD BIN
GGtools 5.26.0  (landing page)
VJ Carey
Last Commit: e3aed73
Last Changed Date: 2020-10-27 10:29:23 -0400
malbec1Linux (Ubuntu 18.04.5 LTS) / x86_64  OK    OK    ERROR  
tokay1Windows Server 2012 R2 Standard / x64  OK    OK    ERROR    OK  
merida1macOS 10.14.6 Mojave / x86_64  OK    OK    ERROR    OK  
Package 110/257HostnameOS / ArchINSTALLBUILDCHECKBUILD BIN
gmapR 1.32.0  (landing page)
Michael Lawrence
Last Commit: 02e06e4
Last Changed Date: 2020-11-06 12:06:58 -0400
malbec1Linux (Ubuntu 18.04.5 LTS) / x86_64  OK    OK    WARNINGS  UNNEEDED, same version exists in internal repository
tokay1Windows Server 2012 R2 Standard / x64... NOT SUPPORTED ...
merida1macOS 10.14.6 Mojave / x86_64  OK    OK    WARNINGS    OK  UNNEEDED, same version exists in internal repository
Package 111/257HostnameOS / ArchINSTALLBUILDCHECKBUILD BIN
gmoviz 1.2.0  (landing page)
Kathleen Zeglinski
Last Commit: 67f6302
Last Changed Date: 2020-10-27 11:54:40 -0400
malbec1Linux (Ubuntu 18.04.5 LTS) / x86_64  OK    OK    OK  UNNEEDED, same version exists in internal repository
tokay1Windows Server 2012 R2 Standard / x64  OK    OK    OK    OK  UNNEEDED, same version exists in internal repository
merida1macOS 10.14.6 Mojave / x86_64  OK    OK    OK    OK  UNNEEDED, same version exists in internal repository
Package 112/257HostnameOS / ArchINSTALLBUILDCHECKBUILD BIN
GOTHiC 1.26.0  (landing page)
Borbala Mifsud
Last Commit: 49fc755
Last Changed Date: 2020-10-27 11:47:18 -0400
malbec1Linux (Ubuntu 18.04.5 LTS) / x86_64  OK    OK    OK  UNNEEDED, same version exists in internal repository
tokay1Windows Server 2012 R2 Standard / x64  OK    OK    OK    OK  UNNEEDED, same version exists in internal repository
merida1macOS 10.14.6 Mojave / x86_64  OK    OK    OK    OK  UNNEEDED, same version exists in internal repository
Package 113/257HostnameOS / ArchINSTALLBUILDCHECKBUILD BIN
gQTLstats 1.22.0  (landing page)
VJ Carey
Last Commit: cf2dc31
Last Changed Date: 2020-10-27 11:01:32 -0400
malbec1Linux (Ubuntu 18.04.5 LTS) / x86_64  ERROR    ERROR  skipped
tokay1Windows Server 2012 R2 Standard / x64  ERROR    ERROR  skippedskipped
merida1macOS 10.14.6 Mojave / x86_64  ERROR    ERROR  skippedskipped
Package 114/257HostnameOS / ArchINSTALLBUILDCHECKBUILD BIN
GreyListChIP 1.22.0  (landing page)
Gordon Brown
Last Commit: 7026152
Last Changed Date: 2020-10-27 11:02:17 -0400
malbec1Linux (Ubuntu 18.04.5 LTS) / x86_64  OK    OK    OK  UNNEEDED, same version exists in internal repository
tokay1Windows Server 2012 R2 Standard / x64  OK    OK    OK    OK  UNNEEDED, same version exists in internal repository
merida1macOS 10.14.6 Mojave / x86_64  OK    OK    OK    OK  UNNEEDED, same version exists in internal repository
Package 115/257HostnameOS / ArchINSTALLBUILDCHECKBUILD BIN
groHMM 1.24.0  (landing page)
Anusha Nagari , Tulip Nandu , W. Lee Kraus
Last Commit: 40688b8
Last Changed Date: 2020-10-27 11:00:20 -0400
malbec1Linux (Ubuntu 18.04.5 LTS) / x86_64  OK    OK    OK  UNNEEDED, same version exists in internal repository
tokay1Windows Server 2012 R2 Standard / x64  OK    OK    OK    OK  UNNEEDED, same version exists in internal repository
merida1macOS 10.14.6 Mojave / x86_64  OK    OK    OK    OK  UNNEEDED, same version exists in internal repository
Package 116/257HostnameOS / ArchINSTALLBUILDCHECKBUILD BIN
GUIDEseq 1.20.0  (landing page)
Lihua Julie Zhu
Last Commit: ccacc7a
Last Changed Date: 2020-10-27 11:08:56 -0400
malbec1Linux (Ubuntu 18.04.5 LTS) / x86_64  OK    OK    OK  UNNEEDED, same version exists in internal repository
tokay1Windows Server 2012 R2 Standard / x64  OK    OK    OK    OK  UNNEEDED, same version exists in internal repository
merida1macOS 10.14.6 Mojave / x86_64  OK    OK    OK    OK  UNNEEDED, same version exists in internal repository
Package 117/257HostnameOS / ArchINSTALLBUILDCHECKBUILD BIN
Gviz 1.34.1  (landing page)
Robert Ivanek
Last Commit: 5aa425a
Last Changed Date: 2021-03-14 18:05:41 -0400
malbec1Linux (Ubuntu 18.04.5 LTS) / x86_64  OK    OK    OK  UNNEEDED, same version exists in internal repository
tokay1Windows Server 2012 R2 Standard / x64  OK    OK    OK    OK  UNNEEDED, same version exists in internal repository
merida1macOS 10.14.6 Mojave / x86_64  OK    OK    OK    OK  UNNEEDED, same version exists in internal repository
Package 118/257HostnameOS / ArchINSTALLBUILDCHECKBUILD BIN
gwascat 2.22.0  (landing page)
VJ Carey
Last Commit: 2340948
Last Changed Date: 2020-10-27 10:44:53 -0400
malbec1Linux (Ubuntu 18.04.5 LTS) / x86_64  OK    OK    OK  UNNEEDED, same version exists in internal repository
tokay1Windows Server 2012 R2 Standard / x64  OK    OK    OK    OK  UNNEEDED, same version exists in internal repository
merida1macOS 10.14.6 Mojave / x86_64  OK    OK    OK    OK  UNNEEDED, same version exists in internal repository
Package 119/257HostnameOS / ArchINSTALLBUILDCHECKBUILD BIN
h5vc 2.24.0  (landing page)
Paul Theodor Pyl
Last Commit: 325e19e
Last Changed Date: 2020-10-27 10:53:51 -0400
malbec1Linux (Ubuntu 18.04.5 LTS) / x86_64  OK    OK    OK  UNNEEDED, same version exists in internal repository
tokay1Windows Server 2012 R2 Standard / x64  OK    OK    WARNINGS    OK  UNNEEDED, same version exists in internal repository
merida1macOS 10.14.6 Mojave / x86_64  OK    OK    OK    OK  UNNEEDED, same version exists in internal repository
Package 120/257HostnameOS / ArchINSTALLBUILDCHECKBUILD BIN
heatmaps 1.14.0  (landing page)
Malcolm Perry
Last Commit: 6e5cabd
Last Changed Date: 2020-10-27 11:24:04 -0400
malbec1Linux (Ubuntu 18.04.5 LTS) / x86_64  OK    OK    OK  UNNEEDED, same version exists in internal repository
tokay1Windows Server 2012 R2 Standard / x64  OK    OK    OK    OK  UNNEEDED, same version exists in internal repository
merida1macOS 10.14.6 Mojave / x86_64  OK    OK    OK    OK  UNNEEDED, same version exists in internal repository
Package 121/257HostnameOS / ArchINSTALLBUILDCHECKBUILD BIN
HelloRanges 1.16.0  (landing page)
Michael Lawrence
Last Commit: 49e5245
Last Changed Date: 2020-10-27 11:18:48 -0400
malbec1Linux (Ubuntu 18.04.5 LTS) / x86_64  OK    OK    OK  UNNEEDED, same version exists in internal repository
tokay1Windows Server 2012 R2 Standard / x64  OK    OK    WARNINGS    OK  UNNEEDED, same version exists in internal repository
merida1macOS 10.14.6 Mojave / x86_64  OK    OK    OK    OK  UNNEEDED, same version exists in internal repository
Package 122/257HostnameOS / ArchINSTALLBUILDCHECKBUILD BIN
HiCBricks 1.8.0  (landing page)
Koustav Pal
Last Commit: 12ba995
Last Changed Date: 2020-10-27 11:39:46 -0400
malbec1Linux (Ubuntu 18.04.5 LTS) / x86_64  OK    OK    OK  UNNEEDED, same version exists in internal repository
tokay1Windows Server 2012 R2 Standard / x64  OK    OK    OK    OK  UNNEEDED, same version exists in internal repository
merida1macOS 10.14.6 Mojave / x86_64  OK    OK    OK    OK  UNNEEDED, same version exists in internal repository
Package 123/257HostnameOS / ArchINSTALLBUILDCHECKBUILD BIN
HiTC 1.34.0  (landing page)
Nicolas Servant
Last Commit: b68a85e
Last Changed Date: 2020-10-27 10:45:35 -0400
malbec1Linux (Ubuntu 18.04.5 LTS) / x86_64  OK    OK    OK  UNNEEDED, same version exists in internal repository
tokay1Windows Server 2012 R2 Standard / x64  OK    OK    OK    OK  UNNEEDED, same version exists in internal repository
merida1macOS 10.14.6 Mojave / x86_64  OK    OK    OK    OK  UNNEEDED, same version exists in internal repository
Package 124/257HostnameOS / ArchINSTALLBUILDCHECKBUILD BIN
HTSeqGenie 4.20.0  (landing page)
Jens Reeder
Last Commit: 1967349
Last Changed Date: 2020-10-27 10:47:41 -0400
malbec1Linux (Ubuntu 18.04.5 LTS) / x86_64  OK    OK    OK  UNNEEDED, same version exists in internal repository
tokay1Windows Server 2012 R2 Standard / x64... NOT SUPPORTED ...
merida1macOS 10.14.6 Mojave / x86_64... NOT SUPPORTED ...
Package 125/257HostnameOS / ArchINSTALLBUILDCHECKBUILD BIN
IdeoViz 1.26.0  (landing page)
Shraddha Pai
Last Commit: 72f01cf
Last Changed Date: 2020-10-27 10:59:40 -0400
malbec1Linux (Ubuntu 18.04.5 LTS) / x86_64  OK    OK    WARNINGS  UNNEEDED, same version exists in internal repository
tokay1Windows Server 2012 R2 Standard / x64  OK    OK    WARNINGS    OK  UNNEEDED, same version exists in internal repository
merida1macOS 10.14.6 Mojave / x86_64  OK    OK    WARNINGS    OK  UNNEEDED, same version exists in internal repository
Package 126/257HostnameOS / ArchINSTALLBUILDCHECKBUILD BIN
idr2d 1.4.0  (landing page)
Konstantin Krismer
Last Commit: 53471a2
Last Changed Date: 2020-10-29 13:13:10 -0400
malbec1Linux (Ubuntu 18.04.5 LTS) / x86_64  OK    OK    OK  UNNEEDED, same version exists in internal repository
tokay1Windows Server 2012 R2 Standard / x64  OK    OK    OK    OK  UNNEEDED, same version exists in internal repository
merida1macOS 10.14.6 Mojave / x86_64  OK    OK    OK    OK  UNNEEDED, same version exists in internal repository
Package 127/257HostnameOS / ArchINSTALLBUILDCHECKBUILD BIN
IMAS 1.14.0  (landing page)
Seonggyun Han
Last Commit: 541abe0
Last Changed Date: 2020-10-27 11:23:28 -0400
malbec1Linux (Ubuntu 18.04.5 LTS) / x86_64  OK    OK    OK  UNNEEDED, same version exists in internal repository
tokay1Windows Server 2012 R2 Standard / x64  OK    OK    OK    OK  UNNEEDED, same version exists in internal repository
merida1macOS 10.14.6 Mojave / x86_64  OK    OK    OK    OK  UNNEEDED, same version exists in internal repository
Package 128/257HostnameOS / ArchINSTALLBUILDCHECKBUILD BIN
InPAS 1.22.0  (landing page)
Jianhong Ou
Last Commit: f692ba0
Last Changed Date: 2020-10-27 11:03:35 -0400
malbec1Linux (Ubuntu 18.04.5 LTS) / x86_64  OK    OK    OK  UNNEEDED, same version exists in internal repository
tokay1Windows Server 2012 R2 Standard / x64  OK    OK    OK    OK  UNNEEDED, same version exists in internal repository
merida1macOS 10.14.6 Mojave / x86_64  OK    OK    OK    OK  UNNEEDED, same version exists in internal repository
Package 129/257HostnameOS / ArchINSTALLBUILDCHECKBUILD BIN
INSPEcT 1.20.0  (landing page)
Stefano de Pretis
Last Commit: d952c98
Last Changed Date: 2020-10-27 11:06:18 -0400
malbec1Linux (Ubuntu 18.04.5 LTS) / x86_64  OK    OK    OK  UNNEEDED, same version exists in internal repository
tokay1Windows Server 2012 R2 Standard / x64  OK    OK    OK    OK  UNNEEDED, same version exists in internal repository
merida1macOS 10.14.6 Mojave / x86_64  OK    OK    OK    OK  UNNEEDED, same version exists in internal repository
Package 130/257HostnameOS / ArchINSTALLBUILDCHECKBUILD BIN
InteractionSet 1.18.1  (landing page)
Aaron Lun
Last Commit: f39d50d
Last Changed Date: 2021-04-16 03:32:49 -0400
malbec1Linux (Ubuntu 18.04.5 LTS) / x86_64  OK    OK    OK  UNNEEDED, same version exists in internal repository
tokay1Windows Server 2012 R2 Standard / x64  OK    OK    WARNINGS    OK  UNNEEDED, same version exists in internal repository
merida1macOS 10.14.6 Mojave / x86_64  OK    OK    OK    OK  UNNEEDED, same version exists in internal repository
Package 131/257HostnameOS / ArchINSTALLBUILDCHECKBUILD BIN
IsoformSwitchAnalyzeR 1.12.0  (landing page)
Kristoffer Vitting-Seerup
Last Commit: c799e51
Last Changed Date: 2020-10-27 11:24:48 -0400
malbec1Linux (Ubuntu 18.04.5 LTS) / x86_64  OK    OK    OK  UNNEEDED, same version exists in internal repository
tokay1Windows Server 2012 R2 Standard / x64  OK    OK    OK    OK  UNNEEDED, same version exists in internal repository
merida1macOS 10.14.6 Mojave / x86_64  OK    OK    OK    OK  UNNEEDED, same version exists in internal repository
Package 132/257HostnameOS / ArchINSTALLBUILDCHECKBUILD BIN
IVAS 2.10.0  (landing page)
Seonggyun Han
Last Commit: 5ca83c4
Last Changed Date: 2020-10-27 11:02:14 -0400
malbec1Linux (Ubuntu 18.04.5 LTS) / x86_64  OK    OK    WARNINGS  UNNEEDED, same version exists in internal repository
tokay1Windows Server 2012 R2 Standard / x64  OK    OK    WARNINGS    OK  UNNEEDED, same version exists in internal repository
merida1macOS 10.14.6 Mojave / x86_64  OK    OK    WARNINGS    OK  UNNEEDED, same version exists in internal repository
Package 133/257HostnameOS / ArchINSTALLBUILDCHECKBUILD BIN
karyoploteR 1.16.0  (landing page)
Bernat Gel
Last Commit: 7562c22
Last Changed Date: 2020-10-27 11:21:06 -0400
malbec1Linux (Ubuntu 18.04.5 LTS) / x86_64  OK    OK    OK  UNNEEDED, same version exists in internal repository
tokay1Windows Server 2012 R2 Standard / x64  OK    OK    OK    OK  UNNEEDED, same version exists in internal repository
merida1macOS 10.14.6 Mojave / x86_64  OK    OK    OK    OK  UNNEEDED, same version exists in internal repository
Package 134/257HostnameOS / ArchINSTALLBUILDCHECKBUILD BIN
ldblock 1.20.0  (landing page)
VJ Carey
Last Commit: bf913a7
Last Changed Date: 2020-10-27 11:07:34 -0400
malbec1Linux (Ubuntu 18.04.5 LTS) / x86_64  OK    OK    OK  UNNEEDED, same version exists in internal repository
tokay1Windows Server 2012 R2 Standard / x64  OK    OK    OK    OK  UNNEEDED, same version exists in internal repository
merida1macOS 10.14.6 Mojave / x86_64  OK    OK    OK    OK  UNNEEDED, same version exists in internal repository
Package 135/257HostnameOS / ArchINSTALLBUILDCHECKBUILD BIN
MACPET 1.10.0  (landing page)
Ioannis Vardaxis
Last Commit: bf2919e
Last Changed Date: 2020-10-27 11:32:24 -0400
malbec1Linux (Ubuntu 18.04.5 LTS) / x86_64  OK    OK    OK  UNNEEDED, same version exists in internal repository
tokay1Windows Server 2012 R2 Standard / x64  OK    OK    OK    OK  UNNEEDED, same version exists in internal repository
merida1macOS 10.14.6 Mojave / x86_64  OK    OK    OK    OK  UNNEEDED, same version exists in internal repository
Package 136/257HostnameOS / ArchINSTALLBUILDCHECKBUILD BIN
MADSEQ 1.16.0  (landing page)
Yu Kong
Last Commit: 970e1fe
Last Changed Date: 2020-10-27 11:15:16 -0400
malbec1Linux (Ubuntu 18.04.5 LTS) / x86_64  OK    OK    OK  UNNEEDED, same version exists in internal repository
tokay1Windows Server 2012 R2 Standard / x64  OK    OK    OK    OK  UNNEEDED, same version exists in internal repository
merida1macOS 10.14.6 Mojave / x86_64  OK    OK    OK    OK  UNNEEDED, same version exists in internal repository
Package 137/257HostnameOS / ArchINSTALLBUILDCHECKBUILD BIN
maser 1.8.0  (landing page)
Diogo F.T. Veiga
Last Commit: e86964d
Last Changed Date: 2020-10-27 11:35:52 -0400
malbec1Linux (Ubuntu 18.04.5 LTS) / x86_64  OK    OK    OK  UNNEEDED, same version exists in internal repository
tokay1Windows Server 2012 R2 Standard / x64  OK    OK    OK    OK  UNNEEDED, same version exists in internal repository
merida1macOS 10.14.6 Mojave / x86_64  OK    OK    OK    OK  UNNEEDED, same version exists in internal repository
Package 138/257HostnameOS / ArchINSTALLBUILDCHECKBUILD BIN
metagene 2.22.0  (landing page)
Charles Joly Beauparlant
Last Commit: cdf1dbb
Last Changed Date: 2020-10-27 10:58:00 -0400
malbec1Linux (Ubuntu 18.04.5 LTS) / x86_64  OK    OK    OK  UNNEEDED, same version exists in internal repository
tokay1Windows Server 2012 R2 Standard / x64  OK    OK    OK    OK  UNNEEDED, same version exists in internal repository
merida1macOS 10.14.6 Mojave / x86_64  OK    OK    OK    OK  UNNEEDED, same version exists in internal repository
Package 139/257HostnameOS / ArchINSTALLBUILDCHECKBUILD BIN
metagene2 1.6.1  (landing page)
Eric Fournier
Last Commit: 2610629
Last Changed Date: 2021-03-17 10:40:21 -0400
malbec1Linux (Ubuntu 18.04.5 LTS) / x86_64  OK    OK    OK  UNNEEDED, same version exists in internal repository
tokay1Windows Server 2012 R2 Standard / x64  OK    OK    OK    OK  UNNEEDED, same version exists in internal repository
merida1macOS 10.14.6 Mojave / x86_64  OK    OK    OK    OK  UNNEEDED, same version exists in internal repository
Package 140/257HostnameOS / ArchINSTALLBUILDCHECKBUILD BIN
metaseqR2 1.2.0  (landing page)
Panagiotis Moulos
Last Commit: 2bcc067
Last Changed Date: 2020-10-27 11:57:00 -0400
malbec1Linux (Ubuntu 18.04.5 LTS) / x86_64  OK    OK    OK  UNNEEDED, same version exists in internal repository
tokay1Windows Server 2012 R2 Standard / x64  OK    OK    OK    OK  UNNEEDED, same version exists in internal repository
merida1macOS 10.14.6 Mojave / x86_64  OK    OK    OK    OK  UNNEEDED, same version exists in internal repository
Package 141/257HostnameOS / ArchINSTALLBUILDCHECKBUILD BIN
metavizr 1.14.0  (landing page)
Hector Corrada Bravo
Last Commit: 36ae820
Last Changed Date: 2020-10-27 11:23:52 -0400
malbec1Linux (Ubuntu 18.04.5 LTS) / x86_64  OK    OK    OK  UNNEEDED, same version exists in internal repository
tokay1Windows Server 2012 R2 Standard / x64  OK    OK    WARNINGS    OK  UNNEEDED, same version exists in internal repository
merida1macOS 10.14.6 Mojave / x86_64  OK    OK    OK    OK  UNNEEDED, same version exists in internal repository
Package 142/257HostnameOS / ArchINSTALLBUILDCHECKBUILD BIN
MethCP 1.4.0  (landing page)
Boying Gong
Last Commit: 06c4008
Last Changed Date: 2020-10-27 11:50:49 -0400
malbec1Linux (Ubuntu 18.04.5 LTS) / x86_64  OK    OK    OK  UNNEEDED, same version exists in internal repository
tokay1Windows Server 2012 R2 Standard / x64  OK    OK    OK    OK  UNNEEDED, same version exists in internal repository
merida1macOS 10.14.6 Mojave / x86_64  OK    OK    OK    OK  UNNEEDED, same version exists in internal repository
Package 143/257HostnameOS / ArchINSTALLBUILDCHECKBUILD BIN
methimpute 1.12.0  (landing page)
Aaron Taudt
Last Commit: a13a2af
Last Changed Date: 2020-10-27 11:28:28 -0400
malbec1Linux (Ubuntu 18.04.5 LTS) / x86_64  OK    OK    OK  UNNEEDED, same version exists in internal repository
tokay1Windows Server 2012 R2 Standard / x64  OK    OK    OK    OK  UNNEEDED, same version exists in internal repository
merida1macOS 10.14.6 Mojave / x86_64  OK    OK    OK    OK  UNNEEDED, same version exists in internal repository
Package 144/257HostnameOS / ArchINSTALLBUILDCHECKBUILD BIN
methInheritSim 1.12.0  (landing page)
Pascal Belleau
Last Commit: 36e0739
Last Changed Date: 2020-10-27 11:24:40 -0400
malbec1Linux (Ubuntu 18.04.5 LTS) / x86_64  OK    OK    OK  UNNEEDED, same version exists in internal repository
tokay1Windows Server 2012 R2 Standard / x64  OK    OK    OK    OK  UNNEEDED, same version exists in internal repository
merida1macOS 10.14.6 Mojave / x86_64  OK    OK    OK    OK  UNNEEDED, same version exists in internal repository
Package 145/257HostnameOS / ArchINSTALLBUILDCHECKBUILD BIN
methyAnalysis 1.32.0  (landing page)
Lei Huang
Last Commit: 722c722
Last Changed Date: 2020-10-27 10:46:56 -0400
malbec1Linux (Ubuntu 18.04.5 LTS) / x86_64  OK    OK    WARNINGS  UNNEEDED, same version exists in internal repository
tokay1Windows Server 2012 R2 Standard / x64... NOT SUPPORTED ...
merida1macOS 10.14.6 Mojave / x86_64  OK    OK    WARNINGS    OK  UNNEEDED, same version exists in internal repository
Package 146/257HostnameOS / ArchINSTALLBUILDCHECKBUILD BIN
methylKit 1.16.1  (landing page)
Altuna Akalin , Alexander Gosdschan
Last Commit: a48c559
Last Changed Date: 2021-01-28 09:43:19 -0400
malbec1Linux (Ubuntu 18.04.5 LTS) / x86_64  OK    OK    OK  UNNEEDED, same version exists in internal repository
tokay1Windows Server 2012 R2 Standard / x64  OK    OK    OK    OK  UNNEEDED, same version exists in internal repository
merida1macOS 10.14.6 Mojave / x86_64  OK    OK    OK    OK  UNNEEDED, same version exists in internal repository
Package 147/257HostnameOS / ArchINSTALLBUILDCHECKBUILD BIN
methylPipe 1.24.0  (landing page)
Kamal Kishore
Last Commit: 5afa573
Last Changed Date: 2020-10-27 10:58:28 -0400
malbec1Linux (Ubuntu 18.04.5 LTS) / x86_64  OK    OK    WARNINGS  UNNEEDED, same version exists in internal repository
tokay1Windows Server 2012 R2 Standard / x64  OK    OK    WARNINGS    OK  UNNEEDED, same version exists in internal repository
merida1macOS 10.14.6 Mojave / x86_64  OK    OK    WARNINGS    OK  UNNEEDED, same version exists in internal repository
Package 148/257HostnameOS / ArchINSTALLBUILDCHECKBUILD BIN
methylSig 1.2.0  (landing page)
Raymond G. Cavalcante
Last Commit: 649ed96
Last Changed Date: 2020-10-27 11:56:20 -0400
malbec1Linux (Ubuntu 18.04.5 LTS) / x86_64  OK    OK    OK  UNNEEDED, same version exists in internal repository
tokay1Windows Server 2012 R2 Standard / x64  OK    OK    OK    OK  UNNEEDED, same version exists in internal repository
merida1macOS 10.14.6 Mojave / x86_64  OK    OK    OK    OK  UNNEEDED, same version exists in internal repository
Package 149/257HostnameOS / ArchINSTALLBUILDCHECKBUILD BIN
methylumi 2.36.0  (landing page)
Sean Davis
Last Commit: 5fb0b60
Last Changed Date: 2020-10-27 10:35:47 -0400
malbec1Linux (Ubuntu 18.04.5 LTS) / x86_64  OK    OK    WARNINGS  UNNEEDED, same version exists in internal repository
tokay1Windows Server 2012 R2 Standard / x64  OK    OK    ERROR    OK  
merida1macOS 10.14.6 Mojave / x86_64  OK    OK    WARNINGS    OK  UNNEEDED, same version exists in internal repository
Package 150/257HostnameOS / ArchINSTALLBUILDCHECKBUILD BIN
methyvim 1.12.0  (landing page)
Nima Hejazi
Last Commit: bdbbbdb
Last Changed Date: 2020-10-27 11:28:18 -0400
malbec1Linux (Ubuntu 18.04.5 LTS) / x86_64  OK    ERROR  skipped
tokay1Windows Server 2012 R2 Standard / x64  OK    ERROR  skippedskipped
merida1macOS 10.14.6 Mojave / x86_64  OK    ERROR  skippedskipped
Package 151/257HostnameOS / ArchINSTALLBUILDCHECKBUILD BIN
minfi 1.36.0  (landing page)
Kasper Daniel Hansen
Last Commit: 94301da
Last Changed Date: 2020-10-27 10:43:17 -0400
malbec1Linux (Ubuntu 18.04.5 LTS) / x86_64  OK    OK    OK  UNNEEDED, same version exists in internal repository
tokay1Windows Server 2012 R2 Standard / x64  OK    OK    WARNINGS    OK  UNNEEDED, same version exists in internal repository
merida1macOS 10.14.6 Mojave / x86_64  OK    OK    OK    OK  UNNEEDED, same version exists in internal repository
Package 152/257HostnameOS / ArchINSTALLBUILDCHECKBUILD BIN
MinimumDistance 1.34.0  (landing page)
Robert Scharpf
Last Commit: 50ebfdd
Last Changed Date: 2020-10-27 10:45:43 -0400
malbec1Linux (Ubuntu 18.04.5 LTS) / x86_64  OK    OK    WARNINGS  UNNEEDED, same version exists in internal repository
tokay1Windows Server 2012 R2 Standard / x64  OK    OK    WARNINGS    OK  UNNEEDED, same version exists in internal repository
merida1macOS 10.14.6 Mojave / x86_64  OK    OK    WARNINGS    OK  UNNEEDED, same version exists in internal repository
Package 153/257HostnameOS / ArchINSTALLBUILDCHECKBUILD BIN
MMAPPR2 1.4.0  (landing page)
Jonathon Hill
Last Commit: 2727adf
Last Changed Date: 2020-10-27 11:47:04 -0400
malbec1Linux (Ubuntu 18.04.5 LTS) / x86_64  OK    OK    OK  UNNEEDED, same version exists in internal repository
tokay1Windows Server 2012 R2 Standard / x64... NOT SUPPORTED ...
merida1macOS 10.14.6 Mojave / x86_64  OK    OK    OK    OK  UNNEEDED, same version exists in internal repository
Package 154/257HostnameOS / ArchINSTALLBUILDCHECKBUILD BIN
mosaics 2.28.0  (landing page)
Dongjun Chung
Last Commit: 4f6e125
Last Changed Date: 2020-10-27 10:40:07 -0400
malbec1Linux (Ubuntu 18.04.5 LTS) / x86_64  OK    OK    OK  UNNEEDED, same version exists in internal repository
tokay1Windows Server 2012 R2 Standard / x64  OK    OK    OK    OK  UNNEEDED, same version exists in internal repository
merida1macOS 10.14.6 Mojave / x86_64  OK    OK    OK    OK  UNNEEDED, same version exists in internal repository
Package 155/257HostnameOS / ArchINSTALLBUILDCHECKBUILD BIN
motifbreakR 2.4.0  (landing page)
Simon Gert Coetzee
Last Commit: b7ea7f4
Last Changed Date: 2020-10-27 11:07:51 -0400
malbec1Linux (Ubuntu 18.04.5 LTS) / x86_64  OK    OK    WARNINGS  UNNEEDED, same version exists in internal repository
tokay1Windows Server 2012 R2 Standard / x64  OK    OK    WARNINGS    OK  UNNEEDED, same version exists in internal repository
merida1macOS 10.14.6 Mojave / x86_64  OK    OK    WARNINGS    OK  UNNEEDED, same version exists in internal repository
Package 156/257HostnameOS / ArchINSTALLBUILDCHECKBUILD BIN
motifmatchr 1.12.0  (landing page)
Alicia Schep
Last Commit: 015a8b1
Last Changed Date: 2020-10-27 11:24:45 -0400
malbec1Linux (Ubuntu 18.04.5 LTS) / x86_64  OK    OK    OK  UNNEEDED, same version exists in internal repository
tokay1Windows Server 2012 R2 Standard / x64  OK    OK    WARNINGS    OK  UNNEEDED, same version exists in internal repository
merida1macOS 10.14.6 Mojave / x86_64  OK    OK    OK    OK  UNNEEDED, same version exists in internal repository
Package 157/257HostnameOS / ArchINSTALLBUILDCHECKBUILD BIN
MouseFM 1.0.0  (landing page)
Matthias Munz
Last Commit: b63d244
Last Changed Date: 2020-10-27 11:58:14 -0400
malbec1Linux (Ubuntu 18.04.5 LTS) / x86_64  OK    OK    ERROR  
tokay1Windows Server 2012 R2 Standard / x64  OK    OK    ERROR    OK  
merida1macOS 10.14.6 Mojave / x86_64  OK    OK    ERROR    OK  
Package 158/257HostnameOS / ArchINSTALLBUILDCHECKBUILD BIN
msgbsR 1.14.0  (landing page)
Benjamin Mayne
Last Commit: 9b64d08
Last Changed Date: 2020-10-27 11:24:25 -0400
malbec1Linux (Ubuntu 18.04.5 LTS) / x86_64  OK    OK    WARNINGS  UNNEEDED, same version exists in internal repository
tokay1Windows Server 2012 R2 Standard / x64  OK    OK    WARNINGS    OK  UNNEEDED, same version exists in internal repository
merida1macOS 10.14.6 Mojave / x86_64  OK    OK    WARNINGS    OK  UNNEEDED, same version exists in internal repository
Package 159/257HostnameOS / ArchINSTALLBUILDCHECKBUILD BIN
multicrispr 1.0.0  (landing page)
Aditya Bhagwat
Last Commit: c2d9878
Last Changed Date: 2020-10-27 11:57:55 -0400
malbec1Linux (Ubuntu 18.04.5 LTS) / x86_64  OK    OK    OK  UNNEEDED, same version exists in internal repository
tokay1Windows Server 2012 R2 Standard / x64  OK    OK    OK    OK  UNNEEDED, same version exists in internal repository
merida1macOS 10.14.6 Mojave / x86_64  OK    OK    OK    OK  UNNEEDED, same version exists in internal repository
Package 160/257HostnameOS / ArchINSTALLBUILDCHECKBUILD BIN
multiHiCcompare 1.8.0  (landing page)
John Stansfield , Mikhail Dozmorov
Last Commit: d2e0a2e
Last Changed Date: 2020-10-27 11:37:56 -0400
malbec1Linux (Ubuntu 18.04.5 LTS) / x86_64  OK    ERROR  skipped
tokay1Windows Server 2012 R2 Standard / x64  OK    ERROR  skippedskipped
merida1macOS 10.14.6 Mojave / x86_64  OK    ERROR  skippedskipped
Package 161/257HostnameOS / ArchINSTALLBUILDCHECKBUILD BIN
musicatk 1.0.0  (landing page)
Aaron Chevalier
Last Commit: 22a0020
Last Changed Date: 2020-10-27 12:03:18 -0400
malbec1Linux (Ubuntu 18.04.5 LTS) / x86_64  OK    OK    OK  UNNEEDED, same version exists in internal repository
tokay1Windows Server 2012 R2 Standard / x64  OK    OK    OK    OK  UNNEEDED, same version exists in internal repository
merida1macOS 10.14.6 Mojave / x86_64  OK    OK    OK    OK  UNNEEDED, same version exists in internal repository
Package 162/257HostnameOS / ArchINSTALLBUILDCHECKBUILD BIN
MutationalPatterns 3.0.1  (landing page)
Rurika Oka
Last Commit: 72983a7
Last Changed Date: 2020-11-12 05:21:39 -0400
malbec1Linux (Ubuntu 18.04.5 LTS) / x86_64  OK    OK    OK  UNNEEDED, same version exists in internal repository
tokay1Windows Server 2012 R2 Standard / x64  OK    OK    OK    OK  UNNEEDED, same version exists in internal repository
merida1macOS 10.14.6 Mojave / x86_64  OK    OK    OK    OK  UNNEEDED, same version exists in internal repository
Package 163/257HostnameOS / ArchINSTALLBUILDCHECKBUILD BIN
myvariant 1.20.0  (landing page)
Adam Mark, Chunlei Wu
Last Commit: 719e034
Last Changed Date: 2020-10-27 11:07:28 -0400
malbec1Linux (Ubuntu 18.04.5 LTS) / x86_64  OK    OK    OK  UNNEEDED, same version exists in internal repository
tokay1Windows Server 2012 R2 Standard / x64  OK    OK    OK    OK  UNNEEDED, same version exists in internal repository
merida1macOS 10.14.6 Mojave / x86_64  OK    OK    OK    OK  UNNEEDED, same version exists in internal repository
Package 164/257HostnameOS / ArchINSTALLBUILDCHECKBUILD BIN
NADfinder 1.14.0  (landing page)
Jianhong Ou
Last Commit: e5dde58
Last Changed Date: 2020-10-27 11:23:02 -0400
malbec1Linux (Ubuntu 18.04.5 LTS) / x86_64  OK    OK    OK  UNNEEDED, same version exists in internal repository
tokay1Windows Server 2012 R2 Standard / x64  OK    OK    OK    OK  UNNEEDED, same version exists in internal repository
merida1macOS 10.14.6 Mojave / x86_64  OK    OK    OK    OK  UNNEEDED, same version exists in internal repository
Package 165/257HostnameOS / ArchINSTALLBUILDCHECKBUILD BIN
NarrowPeaks 1.34.0  (landing page)
Pedro Madrigal
Last Commit: ef30d80
Last Changed Date: 2020-10-27 10:44:55 -0400
malbec1Linux (Ubuntu 18.04.5 LTS) / x86_64  OK    OK    ERROR  
tokay1Windows Server 2012 R2 Standard / x64  OK    OK    ERROR    OK  
merida1macOS 10.14.6 Mojave / x86_64  OK    OK    ERROR    OK  
Package 166/257HostnameOS / ArchINSTALLBUILDCHECKBUILD BIN
nearBynding 1.0.0  (landing page)
Veronica Busa
Last Commit: ccf44ab
Last Changed Date: 2020-10-27 12:01:04 -0400
malbec1Linux (Ubuntu 18.04.5 LTS) / x86_64  OK    OK    OK  UNNEEDED, same version exists in internal repository
tokay1Windows Server 2012 R2 Standard / x64  OK    OK    OK    OK  UNNEEDED, same version exists in internal repository
merida1macOS 10.14.6 Mojave / x86_64  OK    OK    OK    OK  UNNEEDED, same version exists in internal repository
Package 167/257HostnameOS / ArchINSTALLBUILDCHECKBUILD BIN
netDx 1.2.2  (landing page)
Shraddha Pai
Last Commit: 18994ef
Last Changed Date: 2020-12-21 11:12:36 -0400
malbec1Linux (Ubuntu 18.04.5 LTS) / x86_64  OK    OK    WARNINGS  UNNEEDED, same version exists in internal repository
tokay1Windows Server 2012 R2 Standard / x64... NOT SUPPORTED ...
merida1macOS 10.14.6 Mojave / x86_64  OK    OK    WARNINGS    OK  UNNEEDED, same version exists in internal repository
Package 168/257HostnameOS / ArchINSTALLBUILDCHECKBUILD BIN
normr 1.16.0  (landing page)
Johannes Helmuth
Last Commit: d829918
Last Changed Date: 2020-10-27 11:15:37 -0400
malbec1Linux (Ubuntu 18.04.5 LTS) / x86_64  OK    OK    OK  UNNEEDED, same version exists in internal repository
tokay1Windows Server 2012 R2 Standard / x64  OK    OK    WARNINGS    OK  UNNEEDED, same version exists in internal repository
merida1macOS 10.14.6 Mojave / x86_64  OK    OK    OK    OK  UNNEEDED, same version exists in internal repository
Package 169/257HostnameOS / ArchINSTALLBUILDCHECKBUILD BIN
nucleR 2.22.0  (landing page)
Diego Gallego
Last Commit: 4f0d071
Last Changed Date: 2020-11-15 11:56:00 -0400
malbec1Linux (Ubuntu 18.04.5 LTS) / x86_64  OK    OK    WARNINGS  UNNEEDED, same version exists in internal repository
tokay1Windows Server 2012 R2 Standard / x64  OK    OK    WARNINGS    OK  UNNEEDED, same version exists in internal repository
merida1macOS 10.14.6 Mojave / x86_64  OK    OK    WARNINGS    OK  UNNEEDED, same version exists in internal repository
Package 170/257HostnameOS / ArchINSTALLBUILDCHECKBUILD BIN
OMICsPCA 1.8.0  (landing page)
Subhadeep Das
Last Commit: 156d64b
Last Changed Date: 2020-10-27 11:39:03 -0400
malbec1Linux (Ubuntu 18.04.5 LTS) / x86_64  OK    OK    OK  UNNEEDED, same version exists in internal repository
tokay1Windows Server 2012 R2 Standard / x64  OK    OK    OK    OK  UNNEEDED, same version exists in internal repository
merida1macOS 10.14.6 Mojave / x86_64  ERROR    ERROR  skippedskipped
Package 171/257HostnameOS / ArchINSTALLBUILDCHECKBUILD BIN
ORFik 1.10.13  (landing page)
Haakon Tjeldnes
Last Commit: 3f2976e
Last Changed Date: 2021-03-26 10:15:54 -0400
malbec1Linux (Ubuntu 18.04.5 LTS) / x86_64  OK    OK    OK  UNNEEDED, same version exists in internal repository
tokay1Windows Server 2012 R2 Standard / x64  OK    OK    WARNINGS    OK  UNNEEDED, same version exists in internal repository
merida1macOS 10.14.6 Mojave / x86_64  OK    OK    OK    OK  UNNEEDED, same version exists in internal repository
Package 172/257HostnameOS / ArchINSTALLBUILDCHECKBUILD BIN
Organism.dplyr 1.18.0  (landing page)
Martin Morgan
Last Commit: f57cfd5
Last Changed Date: 2020-10-27 11:21:56 -0400
malbec1Linux (Ubuntu 18.04.5 LTS) / x86_64  OK    OK    OK  UNNEEDED, same version exists in internal repository
tokay1Windows Server 2012 R2 Standard / x64  OK    OK    OK    OK  UNNEEDED, same version exists in internal repository
merida1macOS 10.14.6 Mojave / x86_64  OK    OK    OK    OK  UNNEEDED, same version exists in internal repository
Package 173/257HostnameOS / ArchINSTALLBUILDCHECKBUILD BIN
panelcn.mops 1.12.0  (landing page)
Gundula Povysil
Last Commit: 0876d43
Last Changed Date: 2021-05-02 11:32:37 -0400
malbec1Linux (Ubuntu 18.04.5 LTS) / x86_64  OK    OK    OK  UNNEEDED, same version exists in internal repository
tokay1Windows Server 2012 R2 Standard / x64  OK    OK    OK    OK  UNNEEDED, same version exists in internal repository
merida1macOS 10.14.6 Mojave / x86_64  OK    OK    OK    OK  UNNEEDED, same version exists in internal repository
Package 174/257HostnameOS / ArchINSTALLBUILDCHECKBUILD BIN
periodicDNA 1.0.0  (landing page)
Jacques Serizay
Last Commit: f4416e8
Last Changed Date: 2020-10-27 12:00:35 -0400
malbec1Linux (Ubuntu 18.04.5 LTS) / x86_64  OK    OK    OK  UNNEEDED, same version exists in internal repository
tokay1Windows Server 2012 R2 Standard / x64  OK    OK    OK    OK  UNNEEDED, same version exists in internal repository
merida1macOS 10.14.6 Mojave / x86_64  OK    OK    OK    OK  UNNEEDED, same version exists in internal repository
Package 175/257HostnameOS / ArchINSTALLBUILDCHECKBUILD BIN
Pi 2.2.1  (landing page)
Hai Fang
Last Commit: 1d30730
Last Changed Date: 2020-10-27 11:17:53 -0400
malbec1Linux (Ubuntu 18.04.5 LTS) / x86_64  OK    OK    OK  UNNEEDED, same version exists in internal repository
tokay1Windows Server 2012 R2 Standard / x64  OK    OK    WARNINGS    OK  UNNEEDED, same version exists in internal repository
merida1macOS 10.14.6 Mojave / x86_64  OK    OK    OK    OK  UNNEEDED, same version exists in internal repository
Package 176/257HostnameOS / ArchINSTALLBUILDCHECKBUILD BIN
pipeFrame 1.6.0  (landing page)
Zheng Wei
Last Commit: 952b4e0
Last Changed Date: 2020-10-27 11:45:40 -0400
malbec1Linux (Ubuntu 18.04.5 LTS) / x86_64  OK    OK    OK  UNNEEDED, same version exists in internal repository
tokay1Windows Server 2012 R2 Standard / x64  OK    OK    OK    OK  UNNEEDED, same version exists in internal repository
merida1macOS 10.14.6 Mojave / x86_64  OK    OK    OK    OK  UNNEEDED, same version exists in internal repository
Package 177/257HostnameOS / ArchINSTALLBUILDCHECKBUILD BIN
plyranges 1.10.0  (landing page)
Stuart Lee
Last Commit: 5856b8c
Last Changed Date: 2020-10-27 11:34:01 -0400
malbec1Linux (Ubuntu 18.04.5 LTS) / x86_64  OK    OK    OK  UNNEEDED, same version exists in internal repository
tokay1Windows Server 2012 R2 Standard / x64  OK    OK    WARNINGS    OK  UNNEEDED, same version exists in internal repository
merida1macOS 10.14.6 Mojave / x86_64  OK    OK    OK    OK  UNNEEDED, same version exists in internal repository
Package 178/257HostnameOS / ArchINSTALLBUILDCHECKBUILD BIN
podkat 1.22.0  (landing page)
Ulrich Bodenhofer
Last Commit: 64f1344
Last Changed Date: 2020-10-27 11:03:58 -0400
malbec1Linux (Ubuntu 18.04.5 LTS) / x86_64  OK    OK    OK  UNNEEDED, same version exists in internal repository
tokay1Windows Server 2012 R2 Standard / x64  OK    OK    WARNINGS    OK  UNNEEDED, same version exists in internal repository
merida1macOS 10.14.6 Mojave / x86_64  OK    OK    OK    OK  UNNEEDED, same version exists in internal repository
Package 179/257HostnameOS / ArchINSTALLBUILDCHECKBUILD BIN
pram 1.6.0  (landing page)
Peng Liu
Last Commit: 2a91c54
Last Changed Date: 2020-10-27 11:43:36 -0400
malbec1Linux (Ubuntu 18.04.5 LTS) / x86_64  OK    OK    OK  UNNEEDED, same version exists in internal repository
tokay1Windows Server 2012 R2 Standard / x64  OK    OK    OK    OK  UNNEEDED, same version exists in internal repository
merida1macOS 10.14.6 Mojave / x86_64  OK    OK    OK    OK  UNNEEDED, same version exists in internal repository
Package 180/257HostnameOS / ArchINSTALLBUILDCHECKBUILD BIN
prebs 1.30.0  (landing page)
Karolis Uziela
Last Commit: 24d9c3a
Last Changed Date: 2020-10-27 10:50:26 -0400
malbec1Linux (Ubuntu 18.04.5 LTS) / x86_64  OK    OK    OK  UNNEEDED, same version exists in internal repository
tokay1Windows Server 2012 R2 Standard / x64  OK    OK    OK    OK  UNNEEDED, same version exists in internal repository
merida1macOS 10.14.6 Mojave / x86_64  OK    OK    OK    OK  UNNEEDED, same version exists in internal repository
Package 181/257HostnameOS / ArchINSTALLBUILDCHECKBUILD BIN
proActiv 1.0.0  (landing page)
Joseph Lee
Last Commit: a9bc3ac
Last Changed Date: 2020-10-27 12:00:53 -0400
malbec1Linux (Ubuntu 18.04.5 LTS) / x86_64  OK    OK    OK  UNNEEDED, same version exists in internal repository
tokay1Windows Server 2012 R2 Standard / x64  OK    OK    OK    OK  UNNEEDED, same version exists in internal repository
merida1macOS 10.14.6 Mojave / x86_64  OK    OK    OK    OK  UNNEEDED, same version exists in internal repository
Package 182/257HostnameOS / ArchINSTALLBUILDCHECKBUILD BIN
profileplyr 1.6.0  (landing page)
Tom Carroll , Doug Barrows
Last Commit: 6b87625
Last Changed Date: 2020-10-27 11:44:50 -0400
malbec1Linux (Ubuntu 18.04.5 LTS) / x86_64  OK    OK    WARNINGS  UNNEEDED, same version exists in internal repository
tokay1Windows Server 2012 R2 Standard / x64  OK    OK    WARNINGS    OK  UNNEEDED, same version exists in internal repository
merida1macOS 10.14.6 Mojave / x86_64  OK    OK    WARNINGS    OK  UNNEEDED, same version exists in internal repository
Package 183/257HostnameOS / ArchINSTALLBUILDCHECKBUILD BIN
ProteomicsAnnotationHubData 1.20.0  (landing page)
Laurent Gatto
Last Commit: b1494af
Last Changed Date: 2020-10-27 11:07:54 -0400
malbec1Linux (Ubuntu 18.04.5 LTS) / x86_64  OK    OK    OK  UNNEEDED, same version exists in internal repository
tokay1Windows Server 2012 R2 Standard / x64  OK    OK    OK    OK  UNNEEDED, same version exists in internal repository
merida1macOS 10.14.6 Mojave / x86_64  OK    OK    OK    OK  UNNEEDED, same version exists in internal repository
Package 184/257HostnameOS / ArchINSTALLBUILDCHECKBUILD BIN
PureCN 1.20.0  (landing page)
Markus Riester
Last Commit: 582f4fa
Last Changed Date: 2020-10-27 11:14:15 -0400
malbec1Linux (Ubuntu 18.04.5 LTS) / x86_64  OK    OK    OK  UNNEEDED, same version exists in internal repository
tokay1Windows Server 2012 R2 Standard / x64  OK    OK    OK    OK  UNNEEDED, same version exists in internal repository
merida1macOS 10.14.6 Mojave / x86_64  OK    OK    OK    OK  UNNEEDED, same version exists in internal repository
Package 185/257HostnameOS / ArchINSTALLBUILDCHECKBUILD BIN
qpgraph 2.24.3  (landing page)
Robert Castelo
Last Commit: 38302eb
Last Changed Date: 2021-01-08 02:28:45 -0400
malbec1Linux (Ubuntu 18.04.5 LTS) / x86_64  OK    OK    WARNINGS  UNNEEDED, same version exists in internal repository
tokay1Windows Server 2012 R2 Standard / x64  OK    OK    WARNINGS    OK  UNNEEDED, same version exists in internal repository
merida1macOS 10.14.6 Mojave / x86_64  OK    OK    WARNINGS    OK  UNNEEDED, same version exists in internal repository
Package 186/257HostnameOS / ArchINSTALLBUILDCHECKBUILD BIN
qsea 1.16.0  (landing page)
Matthias Lienhard
Last Commit: d0e6ac0
Last Changed Date: 2020-10-27 11:15:42 -0400
malbec1Linux (Ubuntu 18.04.5 LTS) / x86_64  OK    OK    OK  UNNEEDED, same version exists in internal repository
tokay1Windows Server 2012 R2 Standard / x64  OK    OK    OK    OK  UNNEEDED, same version exists in internal repository
merida1macOS 10.14.6 Mojave / x86_64  OK    OK    OK    OK  UNNEEDED, same version exists in internal repository
Package 187/257HostnameOS / ArchINSTALLBUILDCHECKBUILD BIN
QuasR 1.30.0  (landing page)
Michael Stadler
Last Commit: 1b9d992
Last Changed Date: 2020-10-27 10:48:46 -0400
malbec1Linux (Ubuntu 18.04.5 LTS) / x86_64  OK    OK    OK  UNNEEDED, same version exists in internal repository
tokay1Windows Server 2012 R2 Standard / x64  OK    OK    OK    OK  UNNEEDED, same version exists in internal repository
merida1macOS 10.14.6 Mojave / x86_64  OK    OK    OK    OK  UNNEEDED, same version exists in internal repository
Package 188/257HostnameOS / ArchINSTALLBUILDCHECKBUILD BIN
R3CPET 1.22.0  (landing page)
Mohamed Nadhir Djekidel
Last Commit: bae520d
Last Changed Date: 2020-10-27 11:04:55 -0400
malbec1Linux (Ubuntu 18.04.5 LTS) / x86_64  OK    OK    OK  UNNEEDED, same version exists in internal repository
tokay1Windows Server 2012 R2 Standard / x64  OK    OK    OK    OK  UNNEEDED, same version exists in internal repository
merida1macOS 10.14.6 Mojave / x86_64  OK    OK    OK    OK  UNNEEDED, same version exists in internal repository
Package 189/257HostnameOS / ArchINSTALLBUILDCHECKBUILD BIN
r3Cseq 1.36.0  (landing page)
Supat Thongjuea or
Last Commit: 5903521
Last Changed Date: 2020-10-27 10:43:30 -0400
malbec1Linux (Ubuntu 18.04.5 LTS) / x86_64  OK    OK    OK  UNNEEDED, same version exists in internal repository
tokay1Windows Server 2012 R2 Standard / x64  OK    OK    OK    OK  UNNEEDED, same version exists in internal repository
merida1macOS 10.14.6 Mojave / x86_64  OK    OK    OK    OK  UNNEEDED, same version exists in internal repository
Package 190/257HostnameOS / ArchINSTALLBUILDCHECKBUILD BIN
RaggedExperiment 1.14.2  (landing page)
Martin Morgan
Last Commit: 5940392
Last Changed Date: 2021-04-16 11:36:42 -0400
malbec1Linux (Ubuntu 18.04.5 LTS) / x86_64  OK    OK    OK  UNNEEDED, same version exists in internal repository
tokay1Windows Server 2012 R2 Standard / x64  OK    OK    WARNINGS    OK  UNNEEDED, same version exists in internal repository
merida1macOS 10.14.6 Mojave / x86_64  OK    OK    OK    OK  UNNEEDED, same version exists in internal repository
Package 191/257HostnameOS / ArchINSTALLBUILDCHECKBUILD BIN
RareVariantVis 2.18.0  (landing page)
Tomasz Stokowy
Last Commit: ceca9d8
Last Changed Date: 2020-10-27 11:05:46 -0400
malbec1Linux (Ubuntu 18.04.5 LTS) / x86_64  OK    OK    OK  UNNEEDED, same version exists in internal repository
tokay1Windows Server 2012 R2 Standard / x64  OK    OK    OK    OK  UNNEEDED, same version exists in internal repository
merida1macOS 10.14.6 Mojave / x86_64  OK    OK    OK    OK  UNNEEDED, same version exists in internal repository
Package 192/257HostnameOS / ArchINSTALLBUILDCHECKBUILD BIN
Rariant 1.26.0  (landing page)
Julian Gehring
Last Commit: 44c0bc2
Last Changed Date: 2020-10-27 10:55:57 -0400
malbec1Linux (Ubuntu 18.04.5 LTS) / x86_64  ERROR    ERROR  skipped
tokay1Windows Server 2012 R2 Standard / x64  ERROR    ERROR  skippedskipped
merida1macOS 10.14.6 Mojave / x86_64  ERROR    ERROR  skippedskipped
Package 193/257HostnameOS / ArchINSTALLBUILDCHECKBUILD BIN
Rcade 1.32.0  (landing page)
Jonathan Cairns
Last Commit: 41f4e17
Last Changed Date: 2020-10-27 10:47:44 -0400
malbec1Linux (Ubuntu 18.04.5 LTS) / x86_64  OK    OK    OK  UNNEEDED, same version exists in internal repository
tokay1Windows Server 2012 R2 Standard / x64  OK    OK    OK    OK  UNNEEDED, same version exists in internal repository
merida1macOS 10.14.6 Mojave / x86_64  ERROR    ERROR  skippedskipped
Package 194/257HostnameOS / ArchINSTALLBUILDCHECKBUILD BIN
RCAS 1.16.0  (landing page)
Bora Uyar
Last Commit: ece9ca7
Last Changed Date: 2020-10-27 11:16:18 -0400
malbec1Linux (Ubuntu 18.04.5 LTS) / x86_64  OK    OK    OK  UNNEEDED, same version exists in internal repository
tokay1Windows Server 2012 R2 Standard / x64  OK    OK    OK    OK  UNNEEDED, same version exists in internal repository
merida1macOS 10.14.6 Mojave / x86_64  OK    OK    OK    OK  UNNEEDED, same version exists in internal repository
Package 195/257HostnameOS / ArchINSTALLBUILDCHECKBUILD BIN
rCGH 1.20.0  (landing page)
Frederic Commo
Last Commit: 35225d2
Last Changed Date: 2020-10-27 11:06:33 -0400
malbec1Linux (Ubuntu 18.04.5 LTS) / x86_64  OK    OK    OK  UNNEEDED, same version exists in internal repository
tokay1Windows Server 2012 R2 Standard / x64  OK    OK    WARNINGS    OK  UNNEEDED, same version exists in internal repository
merida1macOS 10.14.6 Mojave / x86_64  OK    OK    OK    OK  UNNEEDED, same version exists in internal repository
Package 196/257HostnameOS / ArchINSTALLBUILDCHECKBUILD BIN
recount 1.16.1  (landing page)
Leonardo Collado-Torres
Last Commit: 002d29b
Last Changed Date: 2020-12-18 19:46:09 -0400
malbec1Linux (Ubuntu 18.04.5 LTS) / x86_64  OK    OK    OK  UNNEEDED, same version exists in internal repository
tokay1Windows Server 2012 R2 Standard / x64  OK    OK    OK    OK  UNNEEDED, same version exists in internal repository
merida1macOS 10.14.6 Mojave / x86_64  OK    OK    OK    OK  UNNEEDED, same version exists in internal repository
Package 197/257HostnameOS / ArchINSTALLBUILDCHECKBUILD BIN
recoup 1.18.0  (landing page)
Panagiotis Moulos
Last Commit: 71261f1
Last Changed Date: 2020-10-27 11:12:57 -0400
malbec1Linux (Ubuntu 18.04.5 LTS) / x86_64  OK    OK    OK  UNNEEDED, same version exists in internal repository
tokay1Windows Server 2012 R2 Standard / x64  OK    OK    OK    OK  UNNEEDED, same version exists in internal repository
merida1macOS 10.14.6 Mojave / x86_64  OK    OK    OK    OK  UNNEEDED, same version exists in internal repository
Package 198/257HostnameOS / ArchINSTALLBUILDCHECKBUILD BIN
regioneR 1.22.0  (landing page)
Bernat Gel
Last Commit: fb28e1a
Last Changed Date: 2020-10-27 11:04:09 -0400
malbec1Linux (Ubuntu 18.04.5 LTS) / x86_64  OK    OK    OK  UNNEEDED, same version exists in internal repository
tokay1Windows Server 2012 R2 Standard / x64  OK    OK    OK    OK  UNNEEDED, same version exists in internal repository
merida1macOS 10.14.6 Mojave / x86_64  OK    OK    OK    OK  UNNEEDED, same version exists in internal repository
Package 199/257HostnameOS / ArchINSTALLBUILDCHECKBUILD BIN
regionReport 1.24.2  (landing page)
Leonardo Collado-Torres
Last Commit: 4eb94a2
Last Changed Date: 2020-12-18 12:59:23 -0400
malbec1Linux (Ubuntu 18.04.5 LTS) / x86_64  OK    OK    OK  UNNEEDED, same version exists in internal repository
tokay1Windows Server 2012 R2 Standard / x64  OK    OK    OK    OK  UNNEEDED, same version exists in internal repository
merida1macOS 10.14.6 Mojave / x86_64  OK    OK    OK    OK  UNNEEDED, same version exists in internal repository
Package 200/257HostnameOS / ArchINSTALLBUILDCHECKBUILD BIN
REMP 1.14.0  (landing page)
Yinan Zheng
Last Commit: cdf19ff
Last Changed Date: 2020-10-27 11:21:28 -0400
malbec1Linux (Ubuntu 18.04.5 LTS) / x86_64  OK    OK    OK  UNNEEDED, same version exists in internal repository
tokay1Windows Server 2012 R2 Standard / x64  OK    OK    OK    OK  UNNEEDED, same version exists in internal repository
merida1macOS 10.14.6 Mojave / x86_64  OK    OK    OK    OK  UNNEEDED, same version exists in internal repository
Package 201/257HostnameOS / ArchINSTALLBUILDCHECKBUILD BIN
Repitools 1.36.0  (landing page)
Mark Robinson
Last Commit: 60617aa
Last Changed Date: 2020-10-27 10:41:57 -0400
malbec1Linux (Ubuntu 18.04.5 LTS) / x86_64  OK    OK    OK  UNNEEDED, same version exists in internal repository
tokay1Windows Server 2012 R2 Standard / x64  OK    OK    WARNINGS    OK  UNNEEDED, same version exists in internal repository
merida1macOS 10.14.6 Mojave / x86_64  OK    OK    OK    OK  UNNEEDED, same version exists in internal repository
Package 202/257HostnameOS / ArchINSTALLBUILDCHECKBUILD BIN
RiboProfiling 1.20.0  (landing page)
A. Popa
Last Commit: 0037574
Last Changed Date: 2020-10-27 11:09:02 -0400
malbec1Linux (Ubuntu 18.04.5 LTS) / x86_64  OK    OK    WARNINGS  UNNEEDED, same version exists in internal repository
tokay1Windows Server 2012 R2 Standard / x64  OK    OK    WARNINGS    OK  UNNEEDED, same version exists in internal repository
merida1macOS 10.14.6 Mojave / x86_64  OK    OK    WARNINGS    OK  UNNEEDED, same version exists in internal repository
Package 203/257HostnameOS / ArchINSTALLBUILDCHECKBUILD BIN
riboSeqR 1.24.0  (landing page)
Thomas J. Hardcastle
Last Commit: ac2e64e
Last Changed Date: 2020-10-27 10:57:17 -0400
malbec1Linux (Ubuntu 18.04.5 LTS) / x86_64  OK    OK    OK  UNNEEDED, same version exists in internal repository
tokay1Windows Server 2012 R2 Standard / x64  OK    OK    OK    OK  UNNEEDED, same version exists in internal repository
merida1macOS 10.14.6 Mojave / x86_64  OK    OK    OK    OK  UNNEEDED, same version exists in internal repository
Package 204/257HostnameOS / ArchINSTALLBUILDCHECKBUILD BIN
ribosomeProfilingQC 1.2.1  (landing page)
Jianhong Ou
Last Commit: 5c7f59f
Last Changed Date: 2021-03-10 18:24:26 -0400
malbec1Linux (Ubuntu 18.04.5 LTS) / x86_64  OK    OK    OK  UNNEEDED, same version exists in internal repository
tokay1Windows Server 2012 R2 Standard / x64  OK    OK    OK    OK  UNNEEDED, same version exists in internal repository
merida1macOS 10.14.6 Mojave / x86_64  OK    OK    OK    OK  UNNEEDED, same version exists in internal repository
Package 205/257HostnameOS / ArchINSTALLBUILDCHECKBUILD BIN
RJMCMCNucleosomes 1.14.0  (landing page)
Astrid Deschênes
Last Commit: 1638992
Last Changed Date: 2020-10-27 11:20:36 -0400
malbec1Linux (Ubuntu 18.04.5 LTS) / x86_64  OK    OK    OK  UNNEEDED, same version exists in internal repository
tokay1Windows Server 2012 R2 Standard / x64  OK    OK    OK    OK  UNNEEDED, same version exists in internal repository
merida1macOS 10.14.6 Mojave / x86_64  OK    OK    OK    OK  UNNEEDED, same version exists in internal repository
Package 206/257HostnameOS / ArchINSTALLBUILDCHECKBUILD BIN
rnaEditr 1.0.0  (landing page)
Lanyu Zhang
Last Commit: bc58dff
Last Changed Date: 2020-10-27 12:02:18 -0400
malbec1Linux (Ubuntu 18.04.5 LTS) / x86_64  OK    OK    OK  UNNEEDED, same version exists in internal repository
tokay1Windows Server 2012 R2 Standard / x64  OK    OK    OK    OK  UNNEEDED, same version exists in internal repository
merida1macOS 10.14.6 Mojave / x8