Back to Multiple platform build/check report for BioC 3.12
ABCDEF[G]HIJKLMNOPQRSTUVWXYZ

INSTALL report for GSEABenchmarkeR on tokay1

This page was generated on 2021-05-05 12:12:04 -0400 (Wed, 05 May 2021).

To the developers/maintainers of the GSEABenchmarkeR package:
Please make sure to use the following settings in order to reproduce any error or warning you see on this page.
Package 795/1974HostnameOS / ArchINSTALLBUILDCHECKBUILD BIN
GSEABenchmarkeR 1.10.1  (landing page)
Ludwig Geistlinger
Snapshot Date: 2021-05-04 14:50:13 -0400 (Tue, 04 May 2021)
URL: https://git.bioconductor.org/packages/GSEABenchmarkeR
Branch: RELEASE_3_12
Last Commit: 4980161
Last Changed Date: 2020-12-09 16:49:51 -0400 (Wed, 09 Dec 2020)
malbec1Linux (Ubuntu 18.04.5 LTS) / x86_64  OK    OK    OK  UNNEEDED, same version exists in internal repository
tokay1Windows Server 2012 R2 Standard / x64  OK    OK    OK    OK  UNNEEDED, same version exists in internal repository
merida1macOS 10.14.6 Mojave / x86_64  OK    OK    OK    OK  UNNEEDED, same version exists in internal repository

Summary

Package: GSEABenchmarkeR
Version: 1.10.1
Command: C:\cygwin\bin\curl.exe -O http://172.29.0.3/BBS/3.12/bioc/src/contrib/GSEABenchmarkeR_1.10.1.tar.gz && rm -rf GSEABenchmarkeR.buildbin-libdir && mkdir GSEABenchmarkeR.buildbin-libdir && C:\Users\biocbuild\bbs-3.12-bioc\R\bin\R.exe CMD INSTALL --merge-multiarch --build --library=GSEABenchmarkeR.buildbin-libdir GSEABenchmarkeR_1.10.1.tar.gz && C:\Users\biocbuild\bbs-3.12-bioc\R\bin\R.exe CMD INSTALL GSEABenchmarkeR_1.10.1.zip && rm GSEABenchmarkeR_1.10.1.tar.gz GSEABenchmarkeR_1.10.1.zip
StartedAt: 2021-05-04 18:08:00 -0400 (Tue, 04 May 2021)
EndedAt: 2021-05-04 18:09:25 -0400 (Tue, 04 May 2021)
EllapsedTime: 85.1 seconds
RetCode: 0
Status:   OK   

Command output

##############################################################################
##############################################################################
###
### Running command:
###
###   C:\cygwin\bin\curl.exe -O http://172.29.0.3/BBS/3.12/bioc/src/contrib/GSEABenchmarkeR_1.10.1.tar.gz && rm -rf GSEABenchmarkeR.buildbin-libdir && mkdir GSEABenchmarkeR.buildbin-libdir && C:\Users\biocbuild\bbs-3.12-bioc\R\bin\R.exe CMD INSTALL --merge-multiarch --build --library=GSEABenchmarkeR.buildbin-libdir GSEABenchmarkeR_1.10.1.tar.gz && C:\Users\biocbuild\bbs-3.12-bioc\R\bin\R.exe CMD INSTALL GSEABenchmarkeR_1.10.1.zip && rm GSEABenchmarkeR_1.10.1.tar.gz GSEABenchmarkeR_1.10.1.zip
###
##############################################################################
##############################################################################


  % Total    % Received % Xferd  Average Speed   Time    Time     Time  Current
                                 Dload  Upload   Total   Spent    Left  Speed

  0     0    0     0    0     0      0      0 --:--:-- --:--:-- --:--:--     0
100  299k  100  299k    0     0  12.4M      0 --:--:-- --:--:-- --:--:-- 13.2M

install for i386

* installing *source* package 'GSEABenchmarkeR' ...
** using staged installation
** R
** inst
** byte-compile and prepare package for lazy loading
** help
*** installing help indices
  converting help for package 'GSEABenchmarkeR'
    finding HTML links ... done
    bpPlot                                  html  
    cacheResource                           html  
    finding level-2 HTML links ... done

    evalNrSigSets                           html  
    evalRandomGS                            html  
    evalRelevance                           html  
    evalTypeIError                          html  
    loadEData                               html  
    maPreproc                               html  
    readDataId2diseaseCodeMap               html  
    readResults                             html  
    runDE                                   html  
    runEA                                   html  
** building package indices
** installing vignettes
** testing if installed package can be loaded from temporary location
** testing if installed package can be loaded from final location
** testing if installed package keeps a record of temporary installation path

install for x64

* installing *source* package 'GSEABenchmarkeR' ...
** testing if installed package can be loaded
* MD5 sums
packaged installation of 'GSEABenchmarkeR' as GSEABenchmarkeR_1.10.1.zip
* DONE (GSEABenchmarkeR)
* installing to library 'C:/Users/biocbuild/bbs-3.12-bioc/R/library'
package 'GSEABenchmarkeR' successfully unpacked and MD5 sums checked