Back to Multiple platform build/check report for BioC 3.12
ABCD[E]FGHIJKLMNOPQRSTUVWXYZ

BUILD report for EnrichmentBrowser on merida1

This page was generated on 2021-05-05 12:14:09 -0400 (Wed, 05 May 2021).

To the developers/maintainers of the EnrichmentBrowser package:
Please make sure to use the following settings in order to reproduce any error or warning you see on this page.
Package 549/1974HostnameOS / ArchINSTALLBUILDCHECKBUILD BIN
EnrichmentBrowser 2.20.7  (landing page)
Ludwig Geistlinger
Snapshot Date: 2021-05-04 14:50:13 -0400 (Tue, 04 May 2021)
URL: https://git.bioconductor.org/packages/EnrichmentBrowser
Branch: RELEASE_3_12
Last Commit: 4e4444e
Last Changed Date: 2020-12-09 17:07:17 -0400 (Wed, 09 Dec 2020)
malbec1Linux (Ubuntu 18.04.5 LTS) / x86_64  OK    OK    OK  UNNEEDED, same version exists in internal repository
tokay1Windows Server 2012 R2 Standard / x64  OK    OK    OK    OK  UNNEEDED, same version exists in internal repository
merida1macOS 10.14.6 Mojave / x86_64  OK    OK    OK    OK  UNNEEDED, same version exists in internal repository

Summary

Package: EnrichmentBrowser
Version: 2.20.7
Command: /Library/Frameworks/R.framework/Versions/Current/Resources/bin/R CMD build --keep-empty-dirs --no-resave-data EnrichmentBrowser
StartedAt: 2021-05-04 19:19:07 -0400 (Tue, 04 May 2021)
EndedAt: 2021-05-04 19:22:03 -0400 (Tue, 04 May 2021)
EllapsedTime: 175.1 seconds
RetCode: 0
Status:   OK  
PackageFile: EnrichmentBrowser_2.20.7.tar.gz
PackageFileSize: 1.911 MiB

Command output

##############################################################################
##############################################################################
###
### Running command:
###
###   /Library/Frameworks/R.framework/Versions/Current/Resources/bin/R CMD build --keep-empty-dirs --no-resave-data EnrichmentBrowser
###
##############################################################################
##############################################################################


* checking for file ‘EnrichmentBrowser/DESCRIPTION’ ... OK
* preparing ‘EnrichmentBrowser’:
* checking DESCRIPTION meta-information ... OK
* installing the package to build vignettes
* creating vignettes ... OK
* checking for LF line-endings in source and make files and shell scripts
* checking for empty or unneeded directories
* building ‘EnrichmentBrowser_2.20.7.tar.gz’