Back to Multiple platform build/check report for BioC 3.12
ABCD[E]FGHIJKLMNOPQRSTUVWXYZ

BUILD BIN report for EnrichmentBrowser on merida1

This page was generated on 2021-05-05 12:14:09 -0400 (Wed, 05 May 2021).

To the developers/maintainers of the EnrichmentBrowser package:
Please make sure to use the following settings in order to reproduce any error or warning you see on this page.
Package 549/1974HostnameOS / ArchINSTALLBUILDCHECKBUILD BIN
EnrichmentBrowser 2.20.7  (landing page)
Ludwig Geistlinger
Snapshot Date: 2021-05-04 14:50:13 -0400 (Tue, 04 May 2021)
URL: https://git.bioconductor.org/packages/EnrichmentBrowser
Branch: RELEASE_3_12
Last Commit: 4e4444e
Last Changed Date: 2020-12-09 17:07:17 -0400 (Wed, 09 Dec 2020)
malbec1Linux (Ubuntu 18.04.5 LTS) / x86_64  OK    OK    OK  UNNEEDED, same version exists in internal repository
tokay1Windows Server 2012 R2 Standard / x64  OK    OK    OK    OK  UNNEEDED, same version exists in internal repository
merida1macOS 10.14.6 Mojave / x86_64  OK    OK    OK    OK  UNNEEDED, same version exists in internal repository

Summary

Package: EnrichmentBrowser
Version: 2.20.7
Command: rm -rf EnrichmentBrowser.buildbin-libdir && mkdir EnrichmentBrowser.buildbin-libdir && /Users/biocbuild/BBS/utils/build-universal.sh EnrichmentBrowser_2.20.7.tar.gz /Library/Frameworks/R.framework/Versions/Current/Resources/bin/R EnrichmentBrowser.buildbin-libdir
StartedAt: 2021-05-05 08:57:17 -0400 (Wed, 05 May 2021)
EndedAt: 2021-05-05 08:58:14 -0400 (Wed, 05 May 2021)
EllapsedTime: 56.9 seconds
RetCode: 0
Status:   OK  
PackageFile: EnrichmentBrowser_2.20.7.tgz
PackageFileSize: 2.101 MiB

Command output

##############################################################################
##############################################################################
###
### Running command:
###
###   rm -rf EnrichmentBrowser.buildbin-libdir && mkdir EnrichmentBrowser.buildbin-libdir && /Users/biocbuild/BBS/utils/build-universal.sh EnrichmentBrowser_2.20.7.tar.gz /Library/Frameworks/R.framework/Versions/Current/Resources/bin/R EnrichmentBrowser.buildbin-libdir
###
##############################################################################
##############################################################################


>>>>>>> 
>>>>>>> INSTALLATION WITH 'R CMD INSTALL --preclean --no-multiarch --library=EnrichmentBrowser.buildbin-libdir EnrichmentBrowser_2.20.7.tar.gz'
>>>>>>> 

* installing *source* package ‘EnrichmentBrowser’ ...
** using staged installation
** R
** inst
** byte-compile and prepare package for lazy loading
** help
*** installing help indices
** building package indices
** installing vignettes
** testing if installed package can be loaded from temporary location
** testing if installed package can be loaded from final location
** testing if installed package keeps a record of temporary installation path
* DONE (EnrichmentBrowser)