Back to Multiple platform build/check report for BioC 3.12
ABCD[E]FGHIJKLMNOPQRSTUVWXYZ

BUILD BIN report for EGSEA on tokay1

This page was generated on 2021-05-05 12:11:47 -0400 (Wed, 05 May 2021).

To the developers/maintainers of the EGSEA package:
Please make sure to use the following settings in order to reproduce any error or warning you see on this page.
Package 536/1974HostnameOS / ArchINSTALLBUILDCHECKBUILD BIN
EGSEA 1.18.1  (landing page)
Monther Alhamdoosh
Snapshot Date: 2021-05-04 14:50:13 -0400 (Tue, 04 May 2021)
URL: https://git.bioconductor.org/packages/EGSEA
Branch: RELEASE_3_12
Last Commit: f1be510
Last Changed Date: 2021-01-27 17:53:54 -0400 (Wed, 27 Jan 2021)
malbec1Linux (Ubuntu 18.04.5 LTS) / x86_64  OK    OK    OK  UNNEEDED, same version exists in internal repository
tokay1Windows Server 2012 R2 Standard / x64  OK    OK    OK    OK  UNNEEDED, same version exists in internal repository
merida1macOS 10.14.6 Mojave / x86_64  OK    OK    OK    OK  UNNEEDED, same version exists in internal repository

Summary

Package: EGSEA
Version: 1.18.1
Command: rm -rf EGSEA.buildbin-libdir && mkdir EGSEA.buildbin-libdir && C:\Users\biocbuild\bbs-3.12-bioc\R\bin\R.exe CMD INSTALL --merge-multiarch --build --library=EGSEA.buildbin-libdir EGSEA_1.18.1.tar.gz
StartedAt: 2021-05-05 09:02:44 -0400 (Wed, 05 May 2021)
EndedAt: 2021-05-05 09:04:08 -0400 (Wed, 05 May 2021)
EllapsedTime: 83.1 seconds
RetCode: 0
Status:   OK   
PackageFile: EGSEA_1.18.1.zip
PackageFileSize: 1.77 MiB

Command output

##############################################################################
##############################################################################
###
### Running command:
###
###   rm -rf EGSEA.buildbin-libdir && mkdir EGSEA.buildbin-libdir && C:\Users\biocbuild\bbs-3.12-bioc\R\bin\R.exe CMD INSTALL --merge-multiarch --build --library=EGSEA.buildbin-libdir EGSEA_1.18.1.tar.gz
###
##############################################################################
##############################################################################



install for i386

* installing *source* package 'EGSEA' ...
** using staged installation
** R
** inst
** byte-compile and prepare package for lazy loading

groupGOTerms: 	GOBPTerm, GOMFTerm, GOCCTerm environments built.
** help
*** installing help indices
  converting help for package 'EGSEA'
    finding HTML links ... done
    EGSEA-package                           html  
    EGSEAResults-methods                    html  
    GSCollectionIndex-methods               html  
    egsea-aux                               html  
    egsea-index                             html  
    egsea-main                              html  
** building package indices
** installing vignettes
** testing if installed package can be loaded from temporary location

groupGOTerms: 	GOBPTerm, GOMFTerm, GOCCTerm environments built.
** testing if installed package can be loaded from final location

groupGOTerms: 	GOBPTerm, GOMFTerm, GOCCTerm environments built.
** testing if installed package keeps a record of temporary installation path

install for x64

* installing *source* package 'EGSEA' ...
** testing if installed package can be loaded

groupGOTerms: 	GOBPTerm, GOMFTerm, GOCCTerm environments built.
* MD5 sums
packaged installation of 'EGSEA' as EGSEA_1.18.1.zip
* DONE (EGSEA)