Back to Multiple platform build/check report for BioC 3.12
ABCD[E]FGHIJKLMNOPQRSTUVWXYZ

BUILD report for EBImage on tokay1

This page was generated on 2021-05-06 12:31:00 -0400 (Thu, 06 May 2021).

To the developers/maintainers of the EBImage package:
Please make sure to use the following settings in order to reproduce any error or warning you see on this page.
Package 525/1974HostnameOS / ArchINSTALLBUILDCHECKBUILD BIN
EBImage 4.32.0  (landing page)
Andrzej OleĊ›
Snapshot Date: 2021-05-05 14:51:38 -0400 (Wed, 05 May 2021)
URL: https://git.bioconductor.org/packages/EBImage
Branch: RELEASE_3_12
Last Commit: de9ff23
Last Changed Date: 2020-10-27 10:28:18 -0400 (Tue, 27 Oct 2020)
malbec1Linux (Ubuntu 18.04.5 LTS) / x86_64  OK    OK    OK  UNNEEDED, same version exists in internal repository
tokay1Windows Server 2012 R2 Standard / x64  OK    OK    OK    OK  UNNEEDED, same version exists in internal repository
merida1macOS 10.14.6 Mojave / x86_64  OK    OK    OK    OK  UNNEEDED, same version exists in internal repository

Summary

Package: EBImage
Version: 4.32.0
Command: chmod a+r EBImage -R && C:\Users\biocbuild\bbs-3.12-bioc\R\bin\R.exe CMD build --keep-empty-dirs --no-resave-data EBImage
StartedAt: 2021-05-05 20:41:55 -0400 (Wed, 05 May 2021)
EndedAt: 2021-05-05 20:43:06 -0400 (Wed, 05 May 2021)
EllapsedTime: 71.6 seconds
RetCode: 0
Status:   OK   
PackageFile: EBImage_4.32.0.tar.gz
PackageFileSize: 5.192 MiB

Command output

##############################################################################
##############################################################################
###
### Running command:
###
###   chmod a+r EBImage -R && C:\Users\biocbuild\bbs-3.12-bioc\R\bin\R.exe CMD build --keep-empty-dirs --no-resave-data EBImage
###
##############################################################################
##############################################################################


* checking for file 'EBImage/DESCRIPTION' ... OK
* preparing 'EBImage':
* checking DESCRIPTION meta-information ... OK
* cleaning src
* installing the package to build vignettes
* creating vignettes ... OK
* cleaning src
* checking for LF line-endings in source and make files and shell scripts
* checking for empty or unneeded directories
* building 'EBImage_4.32.0.tar.gz'