Back to Multiple platform build/check report for BioC 3.12
ABCD[E]FGHIJKLMNOPQRSTUVWXYZ

Multiple platform build/check report for BioC 3.12

All results for package EBImage

This page was generated on 2021-05-06 12:25:49 -0400 (Thu, 06 May 2021).

Package 525/1974HostnameOS / ArchINSTALLBUILDCHECKBUILD BIN
EBImage 4.32.0  (landing page)
Andrzej OleĊ›
Snapshot Date: 2021-05-05 14:51:38 -0400 (Wed, 05 May 2021)
URL: https://git.bioconductor.org/packages/EBImage
Branch: RELEASE_3_12
Last Commit: de9ff23
Last Changed Date: 2020-10-27 10:28:18 -0400 (Tue, 27 Oct 2020)
malbec1Linux (Ubuntu 18.04.5 LTS) / x86_64  OK    OK    OK  UNNEEDED, same version exists in internal repository
tokay1Windows Server 2012 R2 Standard / x64  OK    OK    OK    OK  UNNEEDED, same version exists in internal repository
merida1macOS 10.14.6 Mojave / x86_64  OK    OK    OK    OK  UNNEEDED, same version exists in internal repository

Results for Bioconductor software packages that depend directly on package EBImage

QUICK STATSOS / ArchINSTALLBUILDCHECKBUILD BIN
malbec1Linux (Ubuntu 18.04.5 LTS) / x86_64
0012
0012
00210
tokay1Windows Server 2012 R2 Standard / x64
0012
0012
00210
0012
merida1macOS 10.14.6 Mojave / x86_64
0012
0012
00210
0012
Package 1/12HostnameOS / ArchINSTALLBUILDCHECKBUILD BIN
bnbc 1.12.0  (landing page)
Kipper Fletez-Brant
Last Commit: 191bf12
Last Changed Date: 2020-10-27 11:28:47 -0400
malbec1Linux (Ubuntu 18.04.5 LTS) / x86_64  OK    OK    OK  UNNEEDED, same version exists in internal repository
tokay1Windows Server 2012 R2 Standard / x64  OK    OK    OK    OK  UNNEEDED, same version exists in internal repository
merida1macOS 10.14.6 Mojave / x86_64  OK    OK    OK    OK  UNNEEDED, same version exists in internal repository
Package 2/12HostnameOS / ArchINSTALLBUILDCHECKBUILD BIN
Cardinal 2.8.0  (landing page)
Kylie A. Bemis
Last Commit: 2df8fad
Last Changed Date: 2020-10-27 11:02:20 -0400
malbec1Linux (Ubuntu 18.04.5 LTS) / x86_64  OK    OK    OK  UNNEEDED, same version exists in internal repository
tokay1Windows Server 2012 R2 Standard / x64  OK    OK    OK    OK  UNNEEDED, same version exists in internal repository
merida1macOS 10.14.6 Mojave / x86_64  OK    OK    OK    OK  UNNEEDED, same version exists in internal repository
Package 3/12HostnameOS / ArchINSTALLBUILDCHECKBUILD BIN
CONFESS 1.18.0  (landing page)
Diana LOW
Last Commit: a8b55b3
Last Changed Date: 2020-10-27 11:13:37 -0400
malbec1Linux (Ubuntu 18.04.5 LTS) / x86_64  OK    OK    WARNINGS  UNNEEDED, same version exists in internal repository
tokay1Windows Server 2012 R2 Standard / x64  OK    OK    WARNINGS    OK  UNNEEDED, same version exists in internal repository
merida1macOS 10.14.6 Mojave / x86_64  OK    OK    WARNINGS    OK  UNNEEDED, same version exists in internal repository
Package 4/12HostnameOS / ArchINSTALLBUILDCHECKBUILD BIN
CRImage 1.38.0  (landing page)
Henrik Failmezger , Yinyin Yuan
Last Commit: a469669
Last Changed Date: 2020-10-27 10:39:21 -0400
malbec1Linux (Ubuntu 18.04.5 LTS) / x86_64  OK    OK    OK  UNNEEDED, same version exists in internal repository
tokay1Windows Server 2012 R2 Standard / x64  OK    OK    OK    OK  UNNEEDED, same version exists in internal repository
merida1macOS 10.14.6 Mojave / x86_64  OK    OK    OK    OK  UNNEEDED, same version exists in internal repository
Package 5/12HostnameOS / ArchINSTALLBUILDCHECKBUILD BIN
cytomapper 1.2.1  (landing page)
Nils Eling
Last Commit: cdddecf
Last Changed Date: 2021-01-28 04:42:24 -0400
malbec1Linux (Ubuntu 18.04.5 LTS) / x86_64  OK    OK    OK  UNNEEDED, same version exists in internal repository
tokay1Windows Server 2012 R2 Standard / x64  OK    OK    OK    OK  UNNEEDED, same version exists in internal repository
merida1macOS 10.14.6 Mojave / x86_64  OK    OK    OK    OK  UNNEEDED, same version exists in internal repository
Package 6/12HostnameOS / ArchINSTALLBUILDCHECKBUILD BIN
FISHalyseR 1.24.0  (landing page)
Karesh Arunakirinathan
Last Commit: 59239bd
Last Changed Date: 2020-10-27 11:04:15 -0400
malbec1Linux (Ubuntu 18.04.5 LTS) / x86_64  OK    OK    WARNINGS  UNNEEDED, same version exists in internal repository
tokay1Windows Server 2012 R2 Standard / x64  OK    OK    WARNINGS    OK  UNNEEDED, same version exists in internal repository
merida1macOS 10.14.6 Mojave / x86_64  OK    OK    WARNINGS    OK  UNNEEDED, same version exists in internal repository
Package 7/12HostnameOS / ArchINSTALLBUILDCHECKBUILD BIN
flowcatchR 1.24.0  (landing page)
Federico Marini
Last Commit: 2749cf4
Last Changed Date: 2020-10-27 10:59:52 -0400
malbec1Linux (Ubuntu 18.04.5 LTS) / x86_64  OK    OK    OK  UNNEEDED, same version exists in internal repository
tokay1Windows Server 2012 R2 Standard / x64  OK    OK    OK    OK  UNNEEDED, same version exists in internal repository
merida1macOS 10.14.6 Mojave / x86_64  OK    OK    OK    OK  UNNEEDED, same version exists in internal repository
Package 8/12HostnameOS / ArchINSTALLBUILDCHECKBUILD BIN
flowCHIC 1.24.0  (landing page)
Author: Joachim Schumann
Last Commit: a75c1d8
Last Changed Date: 2020-10-27 11:00:02 -0400
malbec1Linux (Ubuntu 18.04.5 LTS) / x86_64  OK    OK    OK  UNNEEDED, same version exists in internal repository
tokay1Windows Server 2012 R2 Standard / x64  OK    OK    OK    OK  UNNEEDED, same version exists in internal repository
merida1macOS 10.14.6 Mojave / x86_64  OK    OK    OK    OK  UNNEEDED, same version exists in internal repository
Package 9/12HostnameOS / ArchINSTALLBUILDCHECKBUILD BIN
heatmaps 1.14.0  (landing page)
Malcolm Perry
Last Commit: 6e5cabd
Last Changed Date: 2020-10-27 11:24:04 -0400
malbec1Linux (Ubuntu 18.04.5 LTS) / x86_64  OK    OK    OK  UNNEEDED, same version exists in internal repository
tokay1Windows Server 2012 R2 Standard / x64  OK    OK    OK    OK  UNNEEDED, same version exists in internal repository
merida1macOS 10.14.6 Mojave / x86_64  OK    OK    OK    OK  UNNEEDED, same version exists in internal repository
Package 10/12HostnameOS / ArchINSTALLBUILDCHECKBUILD BIN
imageHTS 1.40.0  (landing page)
Joseph Barry
Last Commit: 6be79b0
Last Changed Date: 2020-10-27 10:38:50 -0400
malbec1Linux (Ubuntu 18.04.5 LTS) / x86_64  OK    OK    OK  UNNEEDED, same version exists in internal repository
tokay1Windows Server 2012 R2 Standard / x64  OK    OK    OK    OK  UNNEEDED, same version exists in internal repository
merida1macOS 10.14.6 Mojave / x86_64  OK    OK    OK    OK  UNNEEDED, same version exists in internal repository
Package 11/12HostnameOS / ArchINSTALLBUILDCHECKBUILD BIN
sojourner 1.4.2  (landing page)
Sojourner Developer
Last Commit: 8242813
Last Changed Date: 2021-03-27 23:05:09 -0400
malbec1Linux (Ubuntu 18.04.5 LTS) / x86_64  OK    OK    OK  UNNEEDED, same version exists in internal repository
tokay1Windows Server 2012 R2 Standard / x64  OK    OK    OK    OK  UNNEEDED, same version exists in internal repository
merida1macOS 10.14.6 Mojave / x86_64  OK    OK    OK    OK  UNNEEDED, same version exists in internal repository
Package 12/12HostnameOS / ArchINSTALLBUILDCHECKBUILD BIN
yamss 1.16.0  (landing page)
Leslie Myint
Last Commit: 4d52fba
Last Changed Date: 2020-10-27 11:19:11 -0400
malbec1Linux (Ubuntu 18.04.5 LTS) / x86_64  OK    OK    OK  UNNEEDED, same version exists in internal repository
tokay1Windows Server 2012 R2 Standard / x64  OK    OK    OK    OK  UNNEEDED, same version exists in internal repository
merida1macOS 10.14.6 Mojave / x86_64  OK    OK    OK    OK  UNNEEDED, same version exists in internal repository