Back to Multiple platform build/check report for BioC 3.12
ABC[D]EFGHIJKLMNOPQRSTUVWXYZ

BUILD BIN report for DirichletMultinomial on tokay1

This page was generated on 2021-05-05 12:11:42 -0400 (Wed, 05 May 2021).

To the developers/maintainers of the DirichletMultinomial package:
Please make sure to use the following settings in order to reproduce any error or warning you see on this page.
Package 484/1974HostnameOS / ArchINSTALLBUILDCHECKBUILD BIN
DirichletMultinomial 1.32.0  (landing page)
Martin Morgan
Snapshot Date: 2021-05-04 14:50:13 -0400 (Tue, 04 May 2021)
URL: https://git.bioconductor.org/packages/DirichletMultinomial
Branch: RELEASE_3_12
Last Commit: 6949aba
Last Changed Date: 2020-10-27 10:45:48 -0400 (Tue, 27 Oct 2020)
malbec1Linux (Ubuntu 18.04.5 LTS) / x86_64  OK    OK    OK  UNNEEDED, same version exists in internal repository
tokay1Windows Server 2012 R2 Standard / x64  OK    OK    OK    OK  UNNEEDED, same version exists in internal repository
merida1macOS 10.14.6 Mojave / x86_64  OK    OK    OK    OK  UNNEEDED, same version exists in internal repository

Summary

Package: DirichletMultinomial
Version: 1.32.0
Command: rm -rf DirichletMultinomial.buildbin-libdir && mkdir DirichletMultinomial.buildbin-libdir && C:\Users\biocbuild\bbs-3.12-bioc\R\bin\R.exe CMD INSTALL --merge-multiarch --build --library=DirichletMultinomial.buildbin-libdir DirichletMultinomial_1.32.0.tar.gz
StartedAt: 2021-05-05 08:59:24 -0400 (Wed, 05 May 2021)
EndedAt: 2021-05-05 09:00:12 -0400 (Wed, 05 May 2021)
EllapsedTime: 47.6 seconds
RetCode: 0
Status:   OK   
PackageFile: DirichletMultinomial_1.32.0.zip
PackageFileSize: 1006 KiB

Command output

##############################################################################
##############################################################################
###
### Running command:
###
###   rm -rf DirichletMultinomial.buildbin-libdir && mkdir DirichletMultinomial.buildbin-libdir && C:\Users\biocbuild\bbs-3.12-bioc\R\bin\R.exe CMD INSTALL --merge-multiarch --build --library=DirichletMultinomial.buildbin-libdir DirichletMultinomial_1.32.0.tar.gz
###
##############################################################################
##############################################################################



install for i386

* installing *source* package 'DirichletMultinomial' ...
** using staged installation
** libs
"C:/rtools40/mingw32/bin/"gcc  -I"C:/Users/BIOCBU~1/BBS-3~1.12-/R/include" -DNDEBUG -I/src/include -I/i386/include    -I"C:/extsoft/include"     -O2 -Wall  -std=gnu99 -mfpmath=sse -msse2 -mstackrealign -c R_init_DirichletMultinomial.c -o R_init_DirichletMultinomial.o
"C:/rtools40/mingw32/bin/"gcc  -I"C:/Users/BIOCBU~1/BBS-3~1.12-/R/include" -DNDEBUG -I/src/include -I/i386/include    -I"C:/extsoft/include"     -O2 -Wall  -std=gnu99 -mfpmath=sse -msse2 -mstackrealign -c dirichlet_fit.c -o dirichlet_fit.o
"C:/rtools40/mingw32/bin/"gcc  -I"C:/Users/BIOCBU~1/BBS-3~1.12-/R/include" -DNDEBUG -I/src/include -I/i386/include    -I"C:/extsoft/include"     -O2 -Wall  -std=gnu99 -mfpmath=sse -msse2 -mstackrealign -c dirichlet_fit_main.c -o dirichlet_fit_main.o
dirichlet_fit_main.c: In function 'hessian':
dirichlet_fit_main.c:391:34: warning: '*' in boolean context, suggest '&&' instead [-Wint-in-bool-context]
             adCJK0[j] += adPi[i] * n ? gsl_sf_psi(adAlpha[j] + n) : dPsiAlpha;
                          ~~~~~~~~^~~
dirichlet_fit_main.c:393:33: warning: '*' in boolean context, suggest '&&' instead [-Wint-in-bool-context]
             adCJK[j] += adPi[i] * n ? gsl_sf_psi_1(adAlpha[j] + n): dPsi1Alpha;
                         ~~~~~~~~^~~
dirichlet_fit_main.c: In function 'dirichlet_fit_main':
dirichlet_fit_main.c:542:17: warning: variable 'status' set but not used [-Wunused-but-set-variable]
     int signum, status;
                 ^~~~~~
C:/rtools40/mingw32/bin/gcc -shared -s -static-libgcc -o DirichletMultinomial.dll tmp.def R_init_DirichletMultinomial.o dirichlet_fit.o dirichlet_fit_main.o -L/i386/lib -lgsl -lgslcblas -lm -LC:/extsoft/lib/i386 -LC:/extsoft/lib -LC:/Users/BIOCBU~1/BBS-3~1.12-/R/bin/i386 -lR
installing to C:/Users/biocbuild/bbs-3.12-bioc/meat/DirichletMultinomial.buildbin-libdir/00LOCK-DirichletMultinomial/00new/DirichletMultinomial/libs/i386
** R
** data
** inst
** byte-compile and prepare package for lazy loading
** help
*** installing help indices
  converting help for package 'DirichletMultinomial'
    finding HTML links ... done
    DMN-class                               html  
    DMNGroup-class                          html  
    finding level-2 HTML links ... done

    DirichletMultinomial-package            html  
    cvdmngroup                              html  
    dataobjects                             html  
    dmn                                     html  
    dmngroup                                html  
    fitted                                  html  
    heatmapdmn                              html  
    roc                                     html  
    util                                    html  
** building package indices
** installing vignettes
** testing if installed package can be loaded from temporary location
** testing if installed package can be loaded from final location
** testing if installed package keeps a record of temporary installation path

install for x64

* installing *source* package 'DirichletMultinomial' ...
** libs
"C:/rtools40/mingw64/bin/"gcc  -I"C:/Users/BIOCBU~1/BBS-3~1.12-/R/include" -DNDEBUG -I/src/include -I/x64/include    -I"C:/extsoft/include"     -O2 -Wall  -std=gnu99 -mfpmath=sse -msse2 -mstackrealign -c R_init_DirichletMultinomial.c -o R_init_DirichletMultinomial.o
"C:/rtools40/mingw64/bin/"gcc  -I"C:/Users/BIOCBU~1/BBS-3~1.12-/R/include" -DNDEBUG -I/src/include -I/x64/include    -I"C:/extsoft/include"     -O2 -Wall  -std=gnu99 -mfpmath=sse -msse2 -mstackrealign -c dirichlet_fit.c -o dirichlet_fit.o
"C:/rtools40/mingw64/bin/"gcc  -I"C:/Users/BIOCBU~1/BBS-3~1.12-/R/include" -DNDEBUG -I/src/include -I/x64/include    -I"C:/extsoft/include"     -O2 -Wall  -std=gnu99 -mfpmath=sse -msse2 -mstackrealign -c dirichlet_fit_main.c -o dirichlet_fit_main.o
dirichlet_fit_main.c: In function 'hessian':
dirichlet_fit_main.c:391:34: warning: '*' in boolean context, suggest '&&' instead [-Wint-in-bool-context]
             adCJK0[j] += adPi[i] * n ? gsl_sf_psi(adAlpha[j] + n) : dPsiAlpha;
                          ~~~~~~~~^~~
dirichlet_fit_main.c:393:33: warning: '*' in boolean context, suggest '&&' instead [-Wint-in-bool-context]
             adCJK[j] += adPi[i] * n ? gsl_sf_psi_1(adAlpha[j] + n): dPsi1Alpha;
                         ~~~~~~~~^~~
dirichlet_fit_main.c: In function 'dirichlet_fit_main':
dirichlet_fit_main.c:542:17: warning: variable 'status' set but not used [-Wunused-but-set-variable]
     int signum, status;
                 ^~~~~~
C:/rtools40/mingw64/bin/gcc -shared -s -static-libgcc -o DirichletMultinomial.dll tmp.def R_init_DirichletMultinomial.o dirichlet_fit.o dirichlet_fit_main.o -L/x64/lib -lgsl -lgslcblas -lm -LC:/extsoft/lib/x64 -LC:/extsoft/lib -LC:/Users/BIOCBU~1/BBS-3~1.12-/R/bin/x64 -lR
installing to C:/Users/biocbuild/bbs-3.12-bioc/meat/DirichletMultinomial.buildbin-libdir/DirichletMultinomial/libs/x64
** testing if installed package can be loaded
* MD5 sums
packaged installation of 'DirichletMultinomial' as DirichletMultinomial_1.32.0.zip
* DONE (DirichletMultinomial)