Back to Multiple platform build/check report for BioC 3.12
ABC[D]EFGHIJKLMNOPQRSTUVWXYZ

BUILD report for DelayedArray on tokay1

This page was generated on 2021-05-05 12:11:40 -0400 (Wed, 05 May 2021).

To the developers/maintainers of the DelayedArray package:
Please make sure to use the following settings in order to reproduce any error or warning you see on this page.
Package 449/1974HostnameOS / ArchINSTALLBUILDCHECKBUILD BIN
DelayedArray 0.16.3  (landing page)
Hervé Pagès
Snapshot Date: 2021-05-04 14:50:13 -0400 (Tue, 04 May 2021)
URL: https://git.bioconductor.org/packages/DelayedArray
Branch: RELEASE_3_12
Last Commit: 42c3398
Last Changed Date: 2021-03-23 21:38:17 -0400 (Tue, 23 Mar 2021)
malbec1Linux (Ubuntu 18.04.5 LTS) / x86_64  OK    OK    WARNINGS  UNNEEDED, same version exists in internal repository
tokay1Windows Server 2012 R2 Standard / x64  OK    OK    WARNINGS    OK  UNNEEDED, same version exists in internal repository
merida1macOS 10.14.6 Mojave / x86_64  OK    OK    WARNINGS    OK  UNNEEDED, same version exists in internal repository

Summary

Package: DelayedArray
Version: 0.16.3
Command: chmod a+r DelayedArray -R && C:\Users\biocbuild\bbs-3.12-bioc\R\bin\R.exe CMD build --keep-empty-dirs --no-resave-data DelayedArray
StartedAt: 2021-05-04 20:33:53 -0400 (Tue, 04 May 2021)
EndedAt: 2021-05-04 20:34:54 -0400 (Tue, 04 May 2021)
EllapsedTime: 61.0 seconds
RetCode: 0
Status:   OK   
PackageFile: DelayedArray_0.16.3.tar.gz
PackageFileSize: 566.3 KiB

Command output

##############################################################################
##############################################################################
###
### Running command:
###
###   chmod a+r DelayedArray -R && C:\Users\biocbuild\bbs-3.12-bioc\R\bin\R.exe CMD build --keep-empty-dirs --no-resave-data DelayedArray
###
##############################################################################
##############################################################################


* checking for file 'DelayedArray/DESCRIPTION' ... OK
* preparing 'DelayedArray':
* checking DESCRIPTION meta-information ... OK
* cleaning src
* installing the package to build vignettes
* creating vignettes ... OK
* cleaning src
* excluding invalid files
Subdirectory 'inst/doc' contains invalid file names:
  '02-Implementing_a_backend.Rmd' '01-Working_with_large_arrays.Rnw'
  '02-Implementing_a_backend.html' '01-Working_with_large_arrays.pdf'
* checking for LF line-endings in source and make files and shell scripts
* checking for empty or unneeded directories
* building 'DelayedArray_0.16.3.tar.gz'