Back to Multiple platform build/check report for BioC 3.12
ABC[D]EFGHIJKLMNOPQRSTUVWXYZ

Multiple platform build/check report for BioC 3.12

All results for package DelayedArray

This page was generated on 2021-05-05 12:08:43 -0400 (Wed, 05 May 2021).

Package 449/1974HostnameOS / ArchINSTALLBUILDCHECKBUILD BIN
DelayedArray 0.16.3  (landing page)
Hervé Pagès
Snapshot Date: 2021-05-04 14:50:13 -0400 (Tue, 04 May 2021)
URL: https://git.bioconductor.org/packages/DelayedArray
Branch: RELEASE_3_12
Last Commit: 42c3398
Last Changed Date: 2021-03-23 21:38:17 -0400 (Tue, 23 Mar 2021)
malbec1Linux (Ubuntu 18.04.5 LTS) / x86_64  OK    OK    WARNINGS  UNNEEDED, same version exists in internal repository
tokay1Windows Server 2012 R2 Standard / x64  OK    OK    WARNINGS    OK  UNNEEDED, same version exists in internal repository
merida1macOS 10.14.6 Mojave / x86_64  OK    OK    WARNINGS    OK  UNNEEDED, same version exists in internal repository

Results for Bioconductor software packages that depend directly on package DelayedArray

QUICK STATSOS / ArchINSTALLBUILDCHECKBUILD BIN
malbec1Linux (Ubuntu 18.04.5 LTS) / x86_64
0155
0155
03943
tokay1Windows Server 2012 R2 Standard / x64
0155
0155
011638
0055
merida1macOS 10.14.6 Mojave / x86_64
0155
0155
01945
0055
Package 1/56HostnameOS / ArchINSTALLBUILDCHECKBUILD BIN
batchelor 1.6.3  (landing page)
Aaron Lun
Last Commit: b108a53
Last Changed Date: 2021-04-16 03:26:43 -0400
malbec1Linux (Ubuntu 18.04.5 LTS) / x86_64  OK    OK    OK  UNNEEDED, same version exists in internal repository
tokay1Windows Server 2012 R2 Standard / x64  OK    OK    OK    OK  UNNEEDED, same version exists in internal repository
merida1macOS 10.14.6 Mojave / x86_64  OK    OK    OK    OK  UNNEEDED, same version exists in internal repository
Package 2/56HostnameOS / ArchINSTALLBUILDCHECKBUILD BIN
beachmat 2.6.4  (landing page)
Aaron Lun
Last Commit: 7d9dc63
Last Changed Date: 2020-12-19 18:15:07 -0400
malbec1Linux (Ubuntu 18.04.5 LTS) / x86_64  OK    OK    OK  UNNEEDED, same version exists in internal repository
tokay1Windows Server 2012 R2 Standard / x64  OK    OK    OK    OK  UNNEEDED, same version exists in internal repository
merida1macOS 10.14.6 Mojave / x86_64  OK    OK    OK    OK  UNNEEDED, same version exists in internal repository
Package 3/56HostnameOS / ArchINSTALLBUILDCHECKBUILD BIN
bigPint 1.6.0  (landing page)
Lindsay Rutter
Last Commit: e7062bb
Last Changed Date: 2020-10-27 11:41:54 -0400
malbec1Linux (Ubuntu 18.04.5 LTS) / x86_64  OK    OK    OK  UNNEEDED, same version exists in internal repository
tokay1Windows Server 2012 R2 Standard / x64  OK    OK    OK    OK  UNNEEDED, same version exists in internal repository
merida1macOS 10.14.6 Mojave / x86_64  OK    OK    OK    OK  UNNEEDED, same version exists in internal repository
Package 4/56HostnameOS / ArchINSTALLBUILDCHECKBUILD BIN
BiocSingular 1.6.0  (landing page)
Aaron Lun
Last Commit: 11baf10
Last Changed Date: 2020-10-27 11:42:55 -0400
malbec1Linux (Ubuntu 18.04.5 LTS) / x86_64  OK    OK    OK  UNNEEDED, same version exists in internal repository
tokay1Windows Server 2012 R2 Standard / x64  OK    OK    OK    OK  UNNEEDED, same version exists in internal repository
merida1macOS 10.14.6 Mojave / x86_64  OK    OK    OK    OK  UNNEEDED, same version exists in internal repository
Package 5/56HostnameOS / ArchINSTALLBUILDCHECKBUILD BIN
bsseq 1.26.0  (landing page)
Kasper Daniel Hansen
Last Commit: fae3229
Last Changed Date: 2020-10-27 10:46:25 -0400
malbec1Linux (Ubuntu 18.04.5 LTS) / x86_64  OK    OK    ERROR  
tokay1Windows Server 2012 R2 Standard / x64  OK    OK    OK    OK  UNNEEDED, same version exists in internal repository
merida1macOS 10.14.6 Mojave / x86_64  OK    OK    OK    OK  UNNEEDED, same version exists in internal repository
Package 6/56HostnameOS / ArchINSTALLBUILDCHECKBUILD BIN
CAGEr 1.32.1  (landing page)
Vanja Haberle , Charles Plessy , Damir Baranasic , Sarvesh Nikumbh
Last Commit: 034e4bf
Last Changed Date: 2021-01-15 01:28:35 -0400
malbec1Linux (Ubuntu 18.04.5 LTS) / x86_64  OK    OK    WARNINGS  UNNEEDED, same version exists in internal repository
tokay1Windows Server 2012 R2 Standard / x64  OK    OK    WARNINGS    OK  UNNEEDED, same version exists in internal repository
merida1macOS 10.14.6 Mojave / x86_64  OK    OK    WARNINGS    OK  UNNEEDED, same version exists in internal repository
Package 7/56HostnameOS / ArchINSTALLBUILDCHECKBUILD BIN
celaref 1.8.0  (landing page)
Sarah Williams
Last Commit: 446dc60
Last Changed Date: 2020-10-27 11:37:46 -0400
malbec1Linux (Ubuntu 18.04.5 LTS) / x86_64  OK    OK    OK  UNNEEDED, same version exists in internal repository
tokay1Windows Server 2012 R2 Standard / x64  OK    OK    OK    OK  UNNEEDED, same version exists in internal repository
merida1macOS 10.14.6 Mojave / x86_64  OK    OK    OK    OK  UNNEEDED, same version exists in internal repository
Package 8/56HostnameOS / ArchINSTALLBUILDCHECKBUILD BIN
celda 1.6.1  (landing page)
Joshua Campbell
Last Commit: c18034f
Last Changed Date: 2020-10-27 13:51:27 -0400
malbec1Linux (Ubuntu 18.04.5 LTS) / x86_64  OK    OK    OK  UNNEEDED, same version exists in internal repository
tokay1Windows Server 2012 R2 Standard / x64  OK    OK    OK    OK  UNNEEDED, same version exists in internal repository
merida1macOS 10.14.6 Mojave / x86_64  OK    OK    OK    OK  UNNEEDED, same version exists in internal repository
Package 9/56HostnameOS / ArchINSTALLBUILDCHECKBUILD BIN
clusterExperiment 2.10.1  (landing page)
Elizabeth Purdom
Last Commit: 499be02
Last Changed Date: 2021-02-05 16:08:37 -0400
malbec1Linux (Ubuntu 18.04.5 LTS) / x86_64  OK    OK    WARNINGS  UNNEEDED, same version exists in internal repository
tokay1Windows Server 2012 R2 Standard / x64  OK    OK    WARNINGS    OK  UNNEEDED, same version exists in internal repository
merida1macOS 10.14.6 Mojave / x86_64  OK    OK    WARNINGS    OK  UNNEEDED, same version exists in internal repository
Package 10/56HostnameOS / ArchINSTALLBUILDCHECKBUILD BIN
DelayedDataFrame 1.6.0  (landing page)
Qian Liu
Last Commit: 7bffba7
Last Changed Date: 2020-10-27 11:41:07 -0400
malbec1Linux (Ubuntu 18.04.5 LTS) / x86_64  OK    OK    OK  UNNEEDED, same version exists in internal repository
tokay1Windows Server 2012 R2 Standard / x64  OK    OK    OK    OK  UNNEEDED, same version exists in internal repository
merida1macOS 10.14.6 Mojave / x86_64  OK    OK    OK    OK  UNNEEDED, same version exists in internal repository
Package 11/56HostnameOS / ArchINSTALLBUILDCHECKBUILD BIN
DelayedMatrixStats 1.12.3  (landing page)
Peter Hickey
Last Commit: 2b3091d
Last Changed Date: 2021-02-05 14:41:19 -0400
malbec1Linux (Ubuntu 18.04.5 LTS) / x86_64  OK    OK    OK  UNNEEDED, same version exists in internal repository
tokay1Windows Server 2012 R2 Standard / x64  OK    OK    OK    OK  UNNEEDED, same version exists in internal repository
merida1macOS 10.14.6 Mojave / x86_64  OK    OK    OK    OK  UNNEEDED, same version exists in internal repository
Package 12/56HostnameOS / ArchINSTALLBUILDCHECKBUILD BIN
DEScan2 1.10.0  (landing page)
Dario Righelli
Last Commit: 7a7d1be
Last Changed Date: 2020-10-27 11:32:55 -0400
malbec1Linux (Ubuntu 18.04.5 LTS) / x86_64  OK    OK    WARNINGS  UNNEEDED, same version exists in internal repository
tokay1Windows Server 2012 R2 Standard / x64  OK    OK    WARNINGS    OK  UNNEEDED, same version exists in internal repository
merida1macOS 10.14.6 Mojave / x86_64  OK    OK    WARNINGS    OK  UNNEEDED, same version exists in internal repository
Package 13/56HostnameOS / ArchINSTALLBUILDCHECKBUILD BIN
DropletUtils 1.10.3  (landing page)
Aaron Lun
Last Commit: 4bdf932
Last Changed Date: 2021-02-01 11:41:53 -0400
malbec1Linux (Ubuntu 18.04.5 LTS) / x86_64  OK    OK    OK  UNNEEDED, same version exists in internal repository
tokay1Windows Server 2012 R2 Standard / x64  OK    OK    OK    OK  UNNEEDED, same version exists in internal repository
merida1macOS 10.14.6 Mojave / x86_64  OK    OK    OK    OK  UNNEEDED, same version exists in internal repository
Package 14/56HostnameOS / ArchINSTALLBUILDCHECKBUILD BIN
DSS 2.38.0  (landing page)
Hao Wu , Hao Feng
Last Commit: 82e65b9
Last Changed Date: 2020-10-27 10:46:08 -0400
malbec1Linux (Ubuntu 18.04.5 LTS) / x86_64  OK    OK    OK  UNNEEDED, same version exists in internal repository
tokay1Windows Server 2012 R2 Standard / x64  OK    OK    OK    OK  UNNEEDED, same version exists in internal repository
merida1macOS 10.14.6 Mojave / x86_64  OK    OK    OK    OK  UNNEEDED, same version exists in internal repository
Package 15/56HostnameOS / ArchINSTALLBUILDCHECKBUILD BIN
ELMER 2.14.0  (landing page)
Tiago Chedraoui Silva
Last Commit: 1a74024
Last Changed Date: 2020-10-27 11:05:43 -0400
malbec1Linux (Ubuntu 18.04.5 LTS) / x86_64  OK    OK    OK  UNNEEDED, same version exists in internal repository
tokay1Windows Server 2012 R2 Standard / x64  OK    OK    OK    OK  UNNEEDED, same version exists in internal repository
merida1macOS 10.14.6 Mojave / x86_64  OK    OK    OK    OK  UNNEEDED, same version exists in internal repository
Package 16/56HostnameOS / ArchINSTALLBUILDCHECKBUILD BIN
FRASER 1.2.1  (landing page)
Christian Mertes
Last Commit: 9160638
Last Changed Date: 2021-01-31 17:38:49 -0400
malbec1Linux (Ubuntu 18.04.5 LTS) / x86_64  OK    OK    OK  UNNEEDED, same version exists in internal repository
tokay1Windows Server 2012 R2 Standard / x64  OK    OK    OK    OK  UNNEEDED, same version exists in internal repository
merida1macOS 10.14.6 Mojave / x86_64  OK    OK    OK    OK  UNNEEDED, same version exists in internal repository
Package 17/56HostnameOS / ArchINSTALLBUILDCHECKBUILD BIN
GDSArray 1.10.1  (landing page)
Qian Liu
Last Commit: f10b9d6
Last Changed Date: 2021-04-09 12:26:44 -0400
malbec1Linux (Ubuntu 18.04.5 LTS) / x86_64  OK    OK    OK  UNNEEDED, same version exists in internal repository
tokay1Windows Server 2012 R2 Standard / x64  OK    OK    OK    OK  UNNEEDED, same version exists in internal repository
merida1macOS 10.14.6 Mojave / x86_64  OK    OK    OK    OK  UNNEEDED, same version exists in internal repository
Package 18/56HostnameOS / ArchINSTALLBUILDCHECKBUILD BIN
GenoGAM 2.8.0  (landing page)
Georg Stricker
Last Commit: 7698827
Last Changed Date: 2020-10-27 11:13:12 -0400
malbec1Linux (Ubuntu 18.04.5 LTS) / x86_64  OK    OK    WARNINGS  UNNEEDED, same version exists in internal repository
tokay1Windows Server 2012 R2 Standard / x64  OK    OK    WARNINGS    OK  UNNEEDED, same version exists in internal repository
merida1macOS 10.14.6 Mojave / x86_64  OK    OK    WARNINGS    OK  UNNEEDED, same version exists in internal repository
Package 19/56HostnameOS / ArchINSTALLBUILDCHECKBUILD BIN
GenomicScores 2.2.0  (landing page)
Robert Castelo
Last Commit: 1a877e1
Last Changed Date: 2020-10-27 11:23:24 -0400
malbec1Linux (Ubuntu 18.04.5 LTS) / x86_64  OK    OK    OK  UNNEEDED, same version exists in internal repository
tokay1Windows Server 2012 R2 Standard / x64  OK    OK    WARNINGS    OK  UNNEEDED, same version exists in internal repository
merida1macOS 10.14.6 Mojave / x86_64  OK    OK    OK    OK  UNNEEDED, same version exists in internal repository
Package 20/56HostnameOS / ArchINSTALLBUILDCHECKBUILD BIN
glmGamPoi 1.2.0  (landing page)
Constantin Ahlmann-Eltze
Last Commit: a11d461
Last Changed Date: 2020-10-27 11:55:36 -0400
malbec1Linux (Ubuntu 18.04.5 LTS) / x86_64  OK    OK    OK  UNNEEDED, same version exists in internal repository
tokay1Windows Server 2012 R2 Standard / x64  OK    OK    OK    OK  UNNEEDED, same version exists in internal repository
merida1macOS 10.14.6 Mojave / x86_64  OK    OK    OK    OK  UNNEEDED, same version exists in internal repository
Package 21/56HostnameOS / ArchINSTALLBUILDCHECKBUILD BIN
gramm4R 1.4.0  (landing page)
Tianlu Chen
Last Commit: a617642
Last Changed Date: 2020-10-27 11:48:57 -0400
malbec1Linux (Ubuntu 18.04.5 LTS) / x86_64  ERROR    ERROR  skipped
tokay1Windows Server 2012 R2 Standard / x64  ERROR    ERROR  skippedskipped
merida1macOS 10.14.6 Mojave / x86_64  ERROR    ERROR  skippedskipped
Package 22/56HostnameOS / ArchINSTALLBUILDCHECKBUILD BIN
HDF5Array 1.18.1  (landing page)
Hervé Pagès
Last Commit: 5bc12e4
Last Changed Date: 2021-02-04 13:15:08 -0400
malbec1Linux (Ubuntu 18.04.5 LTS) / x86_64  OK    OK    OK  UNNEEDED, same version exists in internal repository
tokay1Windows Server 2012 R2 Standard / x64  OK    OK    WARNINGS    OK  UNNEEDED, same version exists in internal repository
merida1macOS 10.14.6 Mojave / x86_64  OK    OK    OK    OK  UNNEEDED, same version exists in internal repository
Package 23/56HostnameOS / ArchINSTALLBUILDCHECKBUILD BIN
hipathia 2.6.0  (landing page)
Marta R. Hidalgo
Last Commit: e436824
Last Changed Date: 2020-10-27 11:34:44 -0400
malbec1Linux (Ubuntu 18.04.5 LTS) / x86_64  OK    OK    OK  UNNEEDED, same version exists in internal repository
tokay1Windows Server 2012 R2 Standard / x64  OK    OK    OK    OK  UNNEEDED, same version exists in internal repository
merida1macOS 10.14.6 Mojave / x86_64  OK    OK    OK    OK  UNNEEDED, same version exists in internal repository
Package 24/56HostnameOS / ArchINSTALLBUILDCHECKBUILD BIN
LoomExperiment 1.8.0  (landing page)
Bioconductor Package Maintainer
Last Commit: affa25d
Last Changed Date: 2020-10-27 11:40:42 -0400
malbec1Linux (Ubuntu 18.04.5 LTS) / x86_64  OK    OK    OK  UNNEEDED, same version exists in internal repository
tokay1Windows Server 2012 R2 Standard / x64  OK    OK    OK    OK  UNNEEDED, same version exists in internal repository
merida1macOS 10.14.6 Mojave / x86_64  OK    OK    OK    OK  UNNEEDED, same version exists in internal repository
Package 25/56HostnameOS / ArchINSTALLBUILDCHECKBUILD BIN
mbkmeans 1.6.1  (landing page)
Davide Risso
Last Commit: ee9603a
Last Changed Date: 2020-11-13 11:28:21 -0400
malbec1Linux (Ubuntu 18.04.5 LTS) / x86_64  OK    OK    OK  UNNEEDED, same version exists in internal repository
tokay1Windows Server 2012 R2 Standard / x64  OK    OK    OK    OK  UNNEEDED, same version exists in internal repository
merida1macOS 10.14.6 Mojave / x86_64  OK    OK    OK    OK  UNNEEDED, same version exists in internal repository
Package 26/56HostnameOS / ArchINSTALLBUILDCHECKBUILD BIN
MethReg 1.0.0  (landing page)
Tiago Silva
Last Commit: 2932aa8
Last Changed Date: 2020-10-27 12:01:18 -0400
malbec1Linux (Ubuntu 18.04.5 LTS) / x86_64  OK    OK    OK  UNNEEDED, same version exists in internal repository
tokay1Windows Server 2012 R2 Standard / x64  OK    OK    OK    OK  UNNEEDED, same version exists in internal repository
merida1macOS 10.14.6 Mojave / x86_64  OK    OK    OK    OK  UNNEEDED, same version exists in internal repository
Package 27/56HostnameOS / ArchINSTALLBUILDCHECKBUILD BIN
methrix 1.4.07  (landing page)
Anand Mayakonda
Last Commit: 012a4cc
Last Changed Date: 2021-02-11 03:54:37 -0400
malbec1Linux (Ubuntu 18.04.5 LTS) / x86_64  OK    OK    OK  UNNEEDED, same version exists in internal repository
tokay1Windows Server 2012 R2 Standard / x64  OK    OK    OK    OK  UNNEEDED, same version exists in internal repository
merida1macOS 10.14.6 Mojave / x86_64  OK    OK    OK    OK  UNNEEDED, same version exists in internal repository
Package 28/56HostnameOS / ArchINSTALLBUILDCHECKBUILD BIN
methylSig 1.2.0  (landing page)
Raymond G. Cavalcante
Last Commit: 649ed96
Last Changed Date: 2020-10-27 11:56:20 -0400
malbec1Linux (Ubuntu 18.04.5 LTS) / x86_64  OK    OK    OK  UNNEEDED, same version exists in internal repository
tokay1Windows Server 2012 R2 Standard / x64  OK    OK    OK    OK  UNNEEDED, same version exists in internal repository
merida1macOS 10.14.6 Mojave / x86_64  OK    OK    OK    OK  UNNEEDED, same version exists in internal repository
Package 29/56HostnameOS / ArchINSTALLBUILDCHECKBUILD BIN
minfi 1.36.0  (landing page)
Kasper Daniel Hansen
Last Commit: 94301da
Last Changed Date: 2020-10-27 10:43:17 -0400
malbec1Linux (Ubuntu 18.04.5 LTS) / x86_64  OK    OK    OK  UNNEEDED, same version exists in internal repository
tokay1Windows Server 2012 R2 Standard / x64  OK    OK    WARNINGS    OK  UNNEEDED, same version exists in internal repository
merida1macOS 10.14.6 Mojave / x86_64  OK    OK    OK    OK  UNNEEDED, same version exists in internal repository
Package 30/56HostnameOS / ArchINSTALLBUILDCHECKBUILD BIN
MOFA2 1.0.1  (landing page)
Britta Velten
Last Commit: 1b28109
Last Changed Date: 2020-11-03 01:58:41 -0400
malbec1Linux (Ubuntu 18.04.5 LTS) / x86_64  OK    OK    OK  UNNEEDED, same version exists in internal repository
tokay1Windows Server 2012 R2 Standard / x64  OK    OK    WARNINGS    OK  UNNEEDED, same version exists in internal repository
merida1macOS 10.14.6 Mojave / x86_64  OK    OK    OK    OK  UNNEEDED, same version exists in internal repository
Package 31/56HostnameOS / ArchINSTALLBUILDCHECKBUILD BIN
netSmooth 1.10.0  (landing page)
Jonathan Ronen
Last Commit: 3e13f53
Last Changed Date: 2020-10-27 11:35:31 -0400
malbec1Linux (Ubuntu 18.04.5 LTS) / x86_64  OK    OK    OK  UNNEEDED, same version exists in internal repository
tokay1Windows Server 2012 R2 Standard / x64  OK    OK    OK    OK  UNNEEDED, same version exists in internal repository
merida1macOS 10.14.6 Mojave / x86_64  OK    OK    OK    OK  UNNEEDED, same version exists in internal repository
Package 32/56HostnameOS / ArchINSTALLBUILDCHECKBUILD BIN
NewWave 1.0.2  (landing page)
Federico Agostinis
Last Commit: b343548
Last Changed Date: 2020-12-21 14:25:52 -0400
malbec1Linux (Ubuntu 18.04.5 LTS) / x86_64  OK    OK    ERROR  
tokay1Windows Server 2012 R2 Standard / x64  OK    OK    OK    OK  UNNEEDED, same version exists in internal repository
merida1macOS 10.14.6 Mojave / x86_64  OK    OK    OK    OK  UNNEEDED, same version exists in internal repository
Package 33/56HostnameOS / ArchINSTALLBUILDCHECKBUILD BIN
PCAtools 2.2.0  (landing page)
Kevin Blighe
Last Commit: 5dfce3b
Last Changed Date: 2020-10-27 11:41:37 -0400
malbec1Linux (Ubuntu 18.04.5 LTS) / x86_64  OK    OK    OK  UNNEEDED, same version exists in internal repository
tokay1Windows Server 2012 R2 Standard / x64  OK    OK    OK    OK  UNNEEDED, same version exists in internal repository
merida1macOS 10.14.6 Mojave / x86_64  OK    OK    OK    OK  UNNEEDED, same version exists in internal repository
Package 34/56HostnameOS / ArchINSTALLBUILDCHECKBUILD BIN
ResidualMatrix 1.0.0  (landing page)
Aaron Lun
Last Commit: 120f14f
Last Changed Date: 2020-10-27 12:00:49 -0400
malbec1Linux (Ubuntu 18.04.5 LTS) / x86_64  OK    OK    OK  UNNEEDED, same version exists in internal repository
tokay1Windows Server 2012 R2 Standard / x64  OK    OK    OK    OK  UNNEEDED, same version exists in internal repository
merida1macOS 10.14.6 Mojave / x86_64  OK    OK    OK    OK  UNNEEDED, same version exists in internal repository
Package 35/56HostnameOS / ArchINSTALLBUILDCHECKBUILD BIN
restfulSE 1.12.0  (landing page)
Shweta Gopaulakrishnan
Last Commit: 0466453
Last Changed Date: 2020-10-27 11:28:01 -0400
malbec1Linux (Ubuntu 18.04.5 LTS) / x86_64  OK    OK    WARNINGS  UNNEEDED, same version exists in internal repository
tokay1Windows Server 2012 R2 Standard / x64  OK    OK    WARNINGS    OK  UNNEEDED, same version exists in internal repository
merida1macOS 10.14.6 Mojave / x86_64  OK    OK    WARNINGS    OK  UNNEEDED, same version exists in internal repository
Package 36/56HostnameOS / ArchINSTALLBUILDCHECKBUILD BIN
rhdf5client 1.12.0  (landing page)
Vincent Carey
Last Commit: 4216a18
Last Changed Date: 2020-10-27 11:29:03 -0400
malbec1Linux (Ubuntu 18.04.5 LTS) / x86_64  OK    OK    OK  UNNEEDED, same version exists in internal repository
tokay1Windows Server 2012 R2 Standard / x64  OK    OK    OK    OK  UNNEEDED, same version exists in internal repository
merida1macOS 10.14.6 Mojave / x86_64  OK    OK    OK    OK  UNNEEDED, same version exists in internal repository
Package 37/56HostnameOS / ArchINSTALLBUILDCHECKBUILD BIN
RTCGAToolbox 2.20.0  (landing page)
Marcel Ramos
Last Commit: 224bf4c
Last Changed Date: 2020-10-27 11:05:35 -0400
malbec1Linux (Ubuntu 18.04.5 LTS) / x86_64  OK    OK    OK  UNNEEDED, same version exists in internal repository
tokay1Windows Server 2012 R2 Standard / x64  OK    OK    OK    OK  UNNEEDED, same version exists in internal repository
merida1macOS 10.14.6 Mojave / x86_64  OK    OK    OK    OK  UNNEEDED, same version exists in internal repository
Package 38/56HostnameOS / ArchINSTALLBUILDCHECKBUILD BIN
scater 1.18.6  (landing page)
Alan O'Callaghan
Last Commit: 813ccd0
Last Changed Date: 2021-02-25 19:11:31 -0400
malbec1Linux (Ubuntu 18.04.5 LTS) / x86_64  OK    OK    OK  UNNEEDED, same version exists in internal repository
tokay1Windows Server 2012 R2 Standard / x64  OK    OK    WARNINGS    OK  UNNEEDED, same version exists in internal repository
merida1macOS 10.14.6 Mojave / x86_64  OK    OK    OK    OK  UNNEEDED, same version exists in internal repository
Package 39/56HostnameOS / ArchINSTALLBUILDCHECKBUILD BIN
scDblFinder 1.4.0  (landing page)
Pierre-Luc Germain
Last Commit: b3dd92a
Last Changed Date: 2020-10-27 11:51:03 -0400
malbec1Linux (Ubuntu 18.04.5 LTS) / x86_64  OK    OK    WARNINGS  UNNEEDED, same version exists in internal repository
tokay1Windows Server 2012 R2 Standard / x64  OK    OK    WARNINGS    OK  UNNEEDED, same version exists in internal repository
merida1macOS 10.14.6 Mojave / x86_64  OK    OK    WARNINGS    OK  UNNEEDED, same version exists in internal repository
Package 40/56HostnameOS / ArchINSTALLBUILDCHECKBUILD BIN
scMerge 1.6.0  (landing page)
Yingxin Lin
Last Commit: 4d04879
Last Changed Date: 2020-10-27 11:45:43 -0400
malbec1Linux (Ubuntu 18.04.5 LTS) / x86_64  OK    OK    OK  UNNEEDED, same version exists in internal repository
tokay1Windows Server 2012 R2 Standard / x64  OK    OK    OK    OK  UNNEEDED, same version exists in internal repository
merida1macOS 10.14.6 Mojave / x86_64  OK    OK    OK    OK  UNNEEDED, same version exists in internal repository
Package 41/56HostnameOS / ArchINSTALLBUILDCHECKBUILD BIN
scmeth 1.10.0  (landing page)
Divy Kangeyan
Last Commit: cb60498
Last Changed Date: 2020-10-27 11:32:21 -0400
malbec1Linux (Ubuntu 18.04.5 LTS) / x86_64  OK    OK    OK  UNNEEDED, same version exists in internal repository
tokay1Windows Server 2012 R2 Standard / x64  OK    OK    OK    OK  UNNEEDED, same version exists in internal repository
merida1macOS 10.14.6 Mojave / x86_64  OK    OK    OK    OK  UNNEEDED, same version exists in internal repository
Package 42/56HostnameOS / ArchINSTALLBUILDCHECKBUILD BIN
scPCA 1.4.0  (landing page)
Philippe Boileau
Last Commit: 776cd89
Last Changed Date: 2020-10-27 11:51:06 -0400
malbec1Linux (Ubuntu 18.04.5 LTS) / x86_64  OK    OK    OK  UNNEEDED, same version exists in internal repository
tokay1Windows Server 2012 R2 Standard / x64  OK    OK    OK    OK  UNNEEDED, same version exists in internal repository
merida1macOS 10.14.6 Mojave / x86_64  OK    OK    OK    OK  UNNEEDED, same version exists in internal repository
Package 43/56HostnameOS / ArchINSTALLBUILDCHECKBUILD BIN
scran 1.18.7  (landing page)
Aaron Lun
Last Commit: 5849abc
Last Changed Date: 2021-04-16 03:30:33 -0400
malbec1Linux (Ubuntu 18.04.5 LTS) / x86_64  OK    OK    WARNINGS  UNNEEDED, same version exists in internal repository
tokay1Windows Server 2012 R2 Standard / x64  OK    OK    WARNINGS    OK  UNNEEDED, same version exists in internal repository
merida1macOS 10.14.6 Mojave / x86_64  OK    OK    WARNINGS    OK  UNNEEDED, same version exists in internal repository
Package 44/56HostnameOS / ArchINSTALLBUILDCHECKBUILD BIN
scry 1.2.0  (landing page)
Kelly Street
Last Commit: 1a47b34
Last Changed Date: 2020-10-27 11:56:49 -0400
malbec1Linux (Ubuntu 18.04.5 LTS) / x86_64  OK    OK    OK  UNNEEDED, same version exists in internal repository
tokay1Windows Server 2012 R2 Standard / x64  OK    OK    OK    OK  UNNEEDED, same version exists in internal repository
merida1macOS 10.14.6 Mojave / x86_64  OK    OK    OK    OK  UNNEEDED, same version exists in internal repository
Package 45/56HostnameOS / ArchINSTALLBUILDCHECKBUILD BIN
scuttle 1.0.4  (landing page)
Aaron Lun
Last Commit: a827e27
Last Changed Date: 2020-12-17 02:50:00 -0400
malbec1Linux (Ubuntu 18.04.5 LTS) / x86_64  OK    OK    OK  UNNEEDED, same version exists in internal repository
tokay1Windows Server 2012 R2 Standard / x64  OK    OK    OK    OK  UNNEEDED, same version exists in internal repository
merida1macOS 10.14.6 Mojave / x86_64  OK    OK    OK    OK  UNNEEDED, same version exists in internal repository
Package 46/56HostnameOS / ArchINSTALLBUILDCHECKBUILD BIN
signatureSearch 1.4.6  (landing page)
Yuzhu Duan
Last Commit: 0befcb1
Last Changed Date: 2021-04-23 09:29:56 -0400
malbec1Linux (Ubuntu 18.04.5 LTS) / x86_64  OK    OK    OK  UNNEEDED, same version exists in internal repository
tokay1Windows Server 2012 R2 Standard / x64  OK    OK    OK    OK  UNNEEDED, same version exists in internal repository
merida1macOS 10.14.6 Mojave / x86_64  OK    OK    OK    OK  UNNEEDED, same version exists in internal repository
Package 47/56HostnameOS / ArchINSTALLBUILDCHECKBUILD BIN
singleCellTK 2.0.0  (landing page)
Yusuke Koga
Last Commit: e97b135
Last Changed Date: 2020-10-27 11:34:50 -0400
malbec1Linux (Ubuntu 18.04.5 LTS) / x86_64  OK    OK    ERROR  
tokay1Windows Server 2012 R2 Standard / x64  OK    OK    ERROR    OK  
merida1macOS 10.14.6 Mojave / x86_64  OK    OK    ERROR    OK  
Package 48/56HostnameOS / ArchINSTALLBUILDCHECKBUILD BIN
SingleR 1.4.1  (landing page)
Aaron Lun
Last Commit: 5b9704c
Last Changed Date: 2021-02-02 03:46:49 -0400
malbec1Linux (Ubuntu 18.04.5 LTS) / x86_64  OK    OK    OK  UNNEEDED, same version exists in internal repository
tokay1Windows Server 2012 R2 Standard / x64  OK    OK    WARNINGS    OK  UNNEEDED, same version exists in internal repository
merida1macOS 10.14.6 Mojave / x86_64  OK    OK    OK    OK  UNNEEDED, same version exists in internal repository
Package 49/56HostnameOS / ArchINSTALLBUILDCHECKBUILD BIN
SummarizedExperiment 1.20.0  (landing page)
Bioconductor Package Maintainer
Last Commit: 874aa87
Last Changed Date: 2020-10-27 11:05:31 -0400
malbec1Linux (Ubuntu 18.04.5 LTS) / x86_64  OK    OK    OK  UNNEEDED, same version exists in internal repository
tokay1Windows Server 2012 R2 Standard / x64  OK    OK    WARNINGS    OK  UNNEEDED, same version exists in internal repository
merida1macOS 10.14.6 Mojave / x86_64  OK    OK    OK    OK  UNNEEDED, same version exists in internal repository
Package 50/56HostnameOS / ArchINSTALLBUILDCHECKBUILD BIN
TileDBArray 1.0.0  (landing page)
Aaron Lun
Last Commit: 37c4641
Last Changed Date: 2020-10-27 12:01:12 -0400
malbec1Linux (Ubuntu 18.04.5 LTS) / x86_64  OK    OK    WARNINGS  UNNEEDED, same version exists in internal repository
tokay1Windows Server 2012 R2 Standard / x64  OK    OK    WARNINGS    OK  UNNEEDED, same version exists in internal repository
merida1macOS 10.14.6 Mojave / x86_64  OK    OK    WARNINGS    OK  UNNEEDED, same version exists in internal repository
Package 51/56HostnameOS / ArchINSTALLBUILDCHECKBUILD BIN
TSCAN 1.28.0  (landing page)
Zhicheng Ji
Last Commit: 7c1c17e
Last Changed Date: 2020-10-27 10:58:45 -0400
malbec1Linux (Ubuntu 18.04.5 LTS) / x86_64  OK    OK    WARNINGS  UNNEEDED, same version exists in internal repository
tokay1Windows Server 2012 R2 Standard / x64  OK    OK    WARNINGS    OK  UNNEEDED, same version exists in internal repository
merida1macOS 10.14.6 Mojave / x86_64  OK    OK    WARNINGS    OK  UNNEEDED, same version exists in internal repository
Package 52/56HostnameOS / ArchINSTALLBUILDCHECKBUILD BIN
VariantExperiment 1.4.2  (landing page)
Qian Liu
Last Commit: 2e0e24c
Last Changed Date: 2021-04-09 12:21:20 -0400
malbec1Linux (Ubuntu 18.04.5 LTS) / x86_64  OK    OK    OK  UNNEEDED, same version exists in internal repository
tokay1Windows Server 2012 R2 Standard / x64  OK    OK    OK    OK  UNNEEDED, same version exists in internal repository
merida1macOS 10.14.6 Mojave / x86_64  OK    OK    OK    OK  UNNEEDED, same version exists in internal repository
Package 53/56HostnameOS / ArchINSTALLBUILDCHECKBUILD BIN
VCFArray 1.6.0  (landing page)
Qian Liu
Last Commit: 07c9d67
Last Changed Date: 2020-10-27 11:41:14 -0400
malbec1Linux (Ubuntu 18.04.5 LTS) / x86_64  OK    OK    OK  UNNEEDED, same version exists in internal repository
tokay1Windows Server 2012 R2 Standard / x64  OK    OK    OK    OK  UNNEEDED, same version exists in internal repository
merida1macOS 10.14.6 Mojave / x86_64  OK    OK    OK    OK  UNNEEDED, same version exists in internal repository
Package 54/56HostnameOS / ArchINSTALLBUILDCHECKBUILD BIN
velociraptor 1.0.0  (landing page)
Kevin Rue-Albrecht
Last Commit: 7cd4624
Last Changed Date: 2020-10-27 12:01:39 -0400
malbec1Linux (Ubuntu 18.04.5 LTS) / x86_64  OK    OK    OK  UNNEEDED, same version exists in internal repository
tokay1Windows Server 2012 R2 Standard / x64  OK    OK    OK    OK  UNNEEDED, same version exists in internal repository
merida1macOS 10.14.6 Mojave / x86_64  OK    OK    OK    OK  UNNEEDED, same version exists in internal repository
Package 55/56HostnameOS / ArchINSTALLBUILDCHECKBUILD BIN
weitrix 1.2.0  (landing page)
Paul Harrison
Last Commit: 72b5965
Last Changed Date: 2020-10-27 11:57:06 -0400
malbec1Linux (Ubuntu 18.04.5 LTS) / x86_64  OK    OK    OK  UNNEEDED, same version exists in internal repository
tokay1Windows Server 2012 R2 Standard / x64  OK    OK    OK    OK  UNNEEDED, same version exists in internal repository
merida1macOS 10.14.6 Mojave / x86_64  OK    OK    OK    OK  UNNEEDED, same version exists in internal repository
Package 56/56HostnameOS / ArchINSTALLBUILDCHECKBUILD BIN
zellkonverter 1.0.3  (landing page)
Luke Zappia
Last Commit: e504d10
Last Changed Date: 2021-03-08 04:19:18 -0400
malbec1Linux (Ubuntu 18.04.5 LTS) / x86_64  OK    OK    OK  UNNEEDED, same version exists in internal repository
tokay1Windows Server 2012 R2 Standard / x64  OK    OK    OK    OK  UNNEEDED, same version exists in internal repository
merida1macOS 10.14.6 Mojave / x86_64  OK    OK    OK    OK  UNNEEDED, same version exists in internal repository