Back to Multiple platform build/check report for BioC 3.12
ABC[D]EFGHIJKLMNOPQRSTUVWXYZ

INSTALL report for DEWSeq on tokay1

This page was generated on 2021-05-05 12:11:41 -0400 (Wed, 05 May 2021).

To the developers/maintainers of the DEWSeq package:
Please make sure to use the following settings in order to reproduce any error or warning you see on this page.
Package 469/1974HostnameOS / ArchINSTALLBUILDCHECKBUILD BIN
DEWSeq 1.4.4  (landing page)
bioinformatics team Hentze
Snapshot Date: 2021-05-04 14:50:13 -0400 (Tue, 04 May 2021)
URL: https://git.bioconductor.org/packages/DEWSeq
Branch: RELEASE_3_12
Last Commit: 18bf75d
Last Changed Date: 2020-11-26 04:24:32 -0400 (Thu, 26 Nov 2020)
malbec1Linux (Ubuntu 18.04.5 LTS) / x86_64  OK    OK    OK  UNNEEDED, same version exists in internal repository
tokay1Windows Server 2012 R2 Standard / x64  OK    OK    OK    OK  UNNEEDED, same version exists in internal repository
merida1macOS 10.14.6 Mojave / x86_64  OK    OK    OK    OK  UNNEEDED, same version exists in internal repository

Summary

Package: DEWSeq
Version: 1.4.4
Command: C:\cygwin\bin\curl.exe -O http://172.29.0.3/BBS/3.12/bioc/src/contrib/DEWSeq_1.4.4.tar.gz && rm -rf DEWSeq.buildbin-libdir && mkdir DEWSeq.buildbin-libdir && C:\Users\biocbuild\bbs-3.12-bioc\R\bin\R.exe CMD INSTALL --merge-multiarch --build --library=DEWSeq.buildbin-libdir DEWSeq_1.4.4.tar.gz && C:\Users\biocbuild\bbs-3.12-bioc\R\bin\R.exe CMD INSTALL DEWSeq_1.4.4.zip && rm DEWSeq_1.4.4.tar.gz DEWSeq_1.4.4.zip
StartedAt: 2021-05-04 18:18:33 -0400 (Tue, 04 May 2021)
EndedAt: 2021-05-04 18:19:40 -0400 (Tue, 04 May 2021)
EllapsedTime: 66.3 seconds
RetCode: 0
Status:   OK   

Command output

##############################################################################
##############################################################################
###
### Running command:
###
###   C:\cygwin\bin\curl.exe -O http://172.29.0.3/BBS/3.12/bioc/src/contrib/DEWSeq_1.4.4.tar.gz && rm -rf DEWSeq.buildbin-libdir && mkdir DEWSeq.buildbin-libdir && C:\Users\biocbuild\bbs-3.12-bioc\R\bin\R.exe CMD INSTALL --merge-multiarch --build --library=DEWSeq.buildbin-libdir DEWSeq_1.4.4.tar.gz && C:\Users\biocbuild\bbs-3.12-bioc\R\bin\R.exe CMD INSTALL DEWSeq_1.4.4.zip && rm DEWSeq_1.4.4.tar.gz DEWSeq_1.4.4.zip
###
##############################################################################
##############################################################################


  % Total    % Received % Xferd  Average Speed   Time    Time     Time  Current
                                 Dload  Upload   Total   Spent    Left  Speed

  0     0    0     0    0     0      0      0 --:--:-- --:--:-- --:--:--     0
100 2012k  100 2012k    0     0  45.6M      0 --:--:-- --:--:-- --:--:-- 46.7M

install for i386

* installing *source* package 'DEWSeq' ...
** using staged installation
** R
** data
** inst
** byte-compile and prepare package for lazy loading
** help
*** installing help indices
  converting help for package 'DEWSeq'
    finding HTML links ... done
    DESeqDataSetFromSlidingWindows          html  
    SLBP_K562_w50s20                        html  
    dot-readAnnotation                      html  
    extractRegions                          html  
    resultsDEWSeq                           html  
    finding level-2 HTML links ... done

    slbpDds                                 html  
    slbpRegions                             html  
    slbpVst                                 html  
    slbpWindows                             html  
    toBED                                   html  
    topWindowStats                          html  
** building package indices
** installing vignettes
** testing if installed package can be loaded from temporary location
** testing if installed package can be loaded from final location
** testing if installed package keeps a record of temporary installation path

install for x64

* installing *source* package 'DEWSeq' ...
** testing if installed package can be loaded
* MD5 sums
packaged installation of 'DEWSeq' as DEWSeq_1.4.4.zip
* DONE (DEWSeq)
* installing to library 'C:/Users/biocbuild/bbs-3.12-bioc/R/library'
package 'DEWSeq' successfully unpacked and MD5 sums checked