Back to Multiple platform build/check report for BioC 3.12
ABC[D]EFGHIJKLMNOPQRSTUVWXYZ

Multiple platform build/check report for BioC 3.12

All results for package DESeq2

This page was generated on 2021-05-06 12:25:48 -0400 (Thu, 06 May 2021).

Package 465/1974HostnameOS / ArchINSTALLBUILDCHECKBUILD BIN
DESeq2 1.30.1  (landing page)
Michael Love
Snapshot Date: 2021-05-05 14:51:38 -0400 (Wed, 05 May 2021)
URL: https://git.bioconductor.org/packages/DESeq2
Branch: RELEASE_3_12
Last Commit: 340e674
Last Changed Date: 2021-02-19 14:26:47 -0400 (Fri, 19 Feb 2021)
malbec1Linux (Ubuntu 18.04.5 LTS) / x86_64  OK    OK    OK  UNNEEDED, same version exists in internal repository
tokay1Windows Server 2012 R2 Standard / x64  OK    OK    OK    OK  UNNEEDED, same version exists in internal repository
merida1macOS 10.14.6 Mojave / x86_64  OK    OK    OK    OK  UNNEEDED, same version exists in internal repository

Results for Bioconductor software packages that depend directly on package DESeq2

QUICK STATSOS / ArchINSTALLBUILDCHECKBUILD BIN
malbec1Linux (Ubuntu 18.04.5 LTS) / x86_64
0165
0165
03458
tokay1Windows Server 2012 R2 Standard / x64
0164
0164
13951
0064
merida1macOS 10.14.6 Mojave / x86_64
0264
0264
03457
0064
Package 1/66HostnameOS / ArchINSTALLBUILDCHECKBUILD BIN
Anaquin 2.14.0  (landing page)
Ted Wong
Last Commit: d0a34c9
Last Changed Date: 2020-10-27 11:17:12 -0400
malbec1Linux (Ubuntu 18.04.5 LTS) / x86_64  OK    OK    OK  UNNEEDED, same version exists in internal repository
tokay1Windows Server 2012 R2 Standard / x64  OK    OK    OK    OK  UNNEEDED, same version exists in internal repository
merida1macOS 10.14.6 Mojave / x86_64  OK    OK    OK    OK  UNNEEDED, same version exists in internal repository
Package 2/66HostnameOS / ArchINSTALLBUILDCHECKBUILD BIN
animalcules 1.6.0  (landing page)
Yue Zhao
Last Commit: a95d2e8
Last Changed Date: 2020-12-06 22:41:49 -0400
malbec1Linux (Ubuntu 18.04.5 LTS) / x86_64  ERROR    ERROR  skipped
tokay1Windows Server 2012 R2 Standard / x64  ERROR    ERROR  skippedskipped
merida1macOS 10.14.6 Mojave / x86_64  ERROR    ERROR  skippedskipped
Package 3/66HostnameOS / ArchINSTALLBUILDCHECKBUILD BIN
anota2seq 1.12.0  (landing page)
Christian Oertlin , Julie Lorent
Last Commit: 4435c78
Last Changed Date: 2020-10-27 11:28:38 -0400
malbec1Linux (Ubuntu 18.04.5 LTS) / x86_64  OK    OK    OK  UNNEEDED, same version exists in internal repository
tokay1Windows Server 2012 R2 Standard / x64  OK    OK    OK    OK  UNNEEDED, same version exists in internal repository
merida1macOS 10.14.6 Mojave / x86_64  OK    OK    OK    OK  UNNEEDED, same version exists in internal repository
Package 4/66HostnameOS / ArchINSTALLBUILDCHECKBUILD BIN
BRGenomics 1.2.0  (landing page)
Mike DeBerardine
Last Commit: 79bb3d5
Last Changed Date: 2020-10-27 11:54:54 -0400
malbec1Linux (Ubuntu 18.04.5 LTS) / x86_64  OK    OK    OK  UNNEEDED, same version exists in internal repository
tokay1Windows Server 2012 R2 Standard / x64  OK    OK    OK    OK  UNNEEDED, same version exists in internal repository
merida1macOS 10.14.6 Mojave / x86_64  OK    OK    OK    OK  UNNEEDED, same version exists in internal repository
Package 5/66HostnameOS / ArchINSTALLBUILDCHECKBUILD BIN
CeTF 1.2.4  (landing page)
Carlos Alberto Oliveira de Biagi Junior
Last Commit: 2896169
Last Changed Date: 2020-11-23 09:24:27 -0400
malbec1Linux (Ubuntu 18.04.5 LTS) / x86_64  OK    OK    OK  UNNEEDED, same version exists in internal repository
tokay1Windows Server 2012 R2 Standard / x64  OK    OK    OK    OK  UNNEEDED, same version exists in internal repository
merida1macOS 10.14.6 Mojave / x86_64  OK    OK    OK    OK  UNNEEDED, same version exists in internal repository
Package 6/66HostnameOS / ArchINSTALLBUILDCHECKBUILD BIN
circRNAprofiler 1.4.2  (landing page)
Simona Aufiero
Last Commit: d699b41
Last Changed Date: 2021-03-04 02:48:10 -0400
malbec1Linux (Ubuntu 18.04.5 LTS) / x86_64  OK    OK    OK  UNNEEDED, same version exists in internal repository
tokay1Windows Server 2012 R2 Standard / x64  OK    OK    OK    OK  UNNEEDED, same version exists in internal repository
merida1macOS 10.14.6 Mojave / x86_64  OK    OK    OK    OK  UNNEEDED, same version exists in internal repository
Package 7/66HostnameOS / ArchINSTALLBUILDCHECKBUILD BIN
consensusDE 1.8.0  (landing page)
Ashley J. Waardenberg
Last Commit: 0ade359
Last Changed Date: 2020-10-27 11:40:12 -0400
malbec1Linux (Ubuntu 18.04.5 LTS) / x86_64  OK    OK    OK  UNNEEDED, same version exists in internal repository
tokay1Windows Server 2012 R2 Standard / x64  OK    OK    OK    OK  UNNEEDED, same version exists in internal repository
merida1macOS 10.14.6 Mojave / x86_64  OK    OK    OK    OK  UNNEEDED, same version exists in internal repository
Package 8/66HostnameOS / ArchINSTALLBUILDCHECKBUILD BIN
coseq 1.14.0  (landing page)
Andrea Rau
Last Commit: 25e5aa6
Last Changed Date: 2020-10-27 11:20:42 -0400
malbec1Linux (Ubuntu 18.04.5 LTS) / x86_64  OK    OK    OK  UNNEEDED, same version exists in internal repository
tokay1Windows Server 2012 R2 Standard / x64  OK    OK    OK    OK  UNNEEDED, same version exists in internal repository
merida1macOS 10.14.6 Mojave / x86_64  OK    OK    OK    OK  UNNEEDED, same version exists in internal repository
Package 9/66HostnameOS / ArchINSTALLBUILDCHECKBUILD BIN
countsimQC 1.8.1  (landing page)
Charlotte Soneson
Last Commit: 9ad1241
Last Changed Date: 2021-02-02 16:20:16 -0400
malbec1Linux (Ubuntu 18.04.5 LTS) / x86_64  OK    OK    OK  UNNEEDED, same version exists in internal repository
tokay1Windows Server 2012 R2 Standard / x64  OK    OK    OK    OK  UNNEEDED, same version exists in internal repository
merida1macOS 10.14.6 Mojave / x86_64  OK    OK    OK    OK  UNNEEDED, same version exists in internal repository
Package 10/66HostnameOS / ArchINSTALLBUILDCHECKBUILD BIN
DaMiRseq 2.2.0  (landing page)
Mattia Chiesa
Last Commit: 2d32a85
Last Changed Date: 2020-10-27 11:22:28 -0400
malbec1Linux (Ubuntu 18.04.5 LTS) / x86_64  OK    OK    OK  UNNEEDED, same version exists in internal repository
tokay1Windows Server 2012 R2 Standard / x64  OK    OK    OK    OK  UNNEEDED, same version exists in internal repository
merida1macOS 10.14.6 Mojave / x86_64  ERROR    ERROR  skippedskipped
Package 11/66HostnameOS / ArchINSTALLBUILDCHECKBUILD BIN
debrowser 1.18.3  (landing page)
Alper Kucukural
Last Commit: 8dbbe8b
Last Changed Date: 2021-04-23 12:57:32 -0400
malbec1Linux (Ubuntu 18.04.5 LTS) / x86_64  OK    OK    OK  UNNEEDED, same version exists in internal repository
tokay1Windows Server 2012 R2 Standard / x64  OK    OK    OK    OK  UNNEEDED, same version exists in internal repository
merida1macOS 10.14.6 Mojave / x86_64  OK    OK    OK    OK  UNNEEDED, same version exists in internal repository
Package 12/66HostnameOS / ArchINSTALLBUILDCHECKBUILD BIN
DEComplexDisease 1.10.0  (landing page)
Guofeng Meng
Last Commit: 0ebebc3
Last Changed Date: 2020-10-27 11:31:59 -0400
malbec1Linux (Ubuntu 18.04.5 LTS) / x86_64  OK    OK    OK  UNNEEDED, same version exists in internal repository
tokay1Windows Server 2012 R2 Standard / x64  OK    OK    OK    OK  UNNEEDED, same version exists in internal repository
merida1macOS 10.14.6 Mojave / x86_64  OK    OK    OK    OK  UNNEEDED, same version exists in internal repository
Package 13/66HostnameOS / ArchINSTALLBUILDCHECKBUILD BIN
DEFormats 1.18.0  (landing page)
Andrzej Oleś
Last Commit: 5297c56
Last Changed Date: 2020-10-27 11:13:03 -0400
malbec1Linux (Ubuntu 18.04.5 LTS) / x86_64  OK    OK    OK  UNNEEDED, same version exists in internal repository
tokay1Windows Server 2012 R2 Standard / x64  OK    OK    OK    OK  UNNEEDED, same version exists in internal repository
merida1macOS 10.14.6 Mojave / x86_64  OK    OK    OK    OK  UNNEEDED, same version exists in internal repository
Package 14/66HostnameOS / ArchINSTALLBUILDCHECKBUILD BIN
DEGreport 1.26.0  (landing page)
Lorena Pantano
Last Commit: 18aeb4f
Last Changed Date: 2020-10-27 10:57:10 -0400
malbec1Linux (Ubuntu 18.04.5 LTS) / x86_64  OK    OK    OK  UNNEEDED, same version exists in internal repository
tokay1Windows Server 2012 R2 Standard / x64  OK    OK    OK    OK  UNNEEDED, same version exists in internal repository
merida1macOS 10.14.6 Mojave / x86_64  OK    OK    OK    OK  UNNEEDED, same version exists in internal repository
Package 15/66HostnameOS / ArchINSTALLBUILDCHECKBUILD BIN
deltaCaptureC 1.4.0  (landing page)
Michael Shapiro
Last Commit: 19f2c77
Last Changed Date: 2020-10-27 11:49:00 -0400
malbec1Linux (Ubuntu 18.04.5 LTS) / x86_64  OK    OK    OK  UNNEEDED, same version exists in internal repository
tokay1Windows Server 2012 R2 Standard / x64  OK    OK    OK    OK  UNNEEDED, same version exists in internal repository
merida1macOS 10.14.6 Mojave / x86_64  OK    OK    OK    OK  UNNEEDED, same version exists in internal repository
Package 16/66HostnameOS / ArchINSTALLBUILDCHECKBUILD BIN
DEsubs 1.16.0  (landing page)
Aristidis G. Vrahatis , Panos Balomenos
Last Commit: f47d89e
Last Changed Date: 2020-10-27 11:18:09 -0400
malbec1Linux (Ubuntu 18.04.5 LTS) / x86_64  OK    OK    OK  UNNEEDED, same version exists in internal repository
tokay1Windows Server 2012 R2 Standard / x64  OK    OK    OK    OK  UNNEEDED, same version exists in internal repository
merida1macOS 10.14.6 Mojave / x86_64  OK    OK    OK    OK  UNNEEDED, same version exists in internal repository
Package 17/66HostnameOS / ArchINSTALLBUILDCHECKBUILD BIN
DEWSeq 1.4.4  (landing page)
bioinformatics team Hentze
Last Commit: 18bf75d
Last Changed Date: 2020-11-26 04:24:32 -0400
malbec1Linux (Ubuntu 18.04.5 LTS) / x86_64  OK    OK    OK  UNNEEDED, same version exists in internal repository
tokay1Windows Server 2012 R2 Standard / x64  OK    OK    OK    OK  UNNEEDED, same version exists in internal repository
merida1macOS 10.14.6 Mojave / x86_64  OK    OK    OK    OK  UNNEEDED, same version exists in internal repository
Package 18/66HostnameOS / ArchINSTALLBUILDCHECKBUILD BIN
DEXSeq 1.36.0  (landing page)
Alejandro Reyes
Last Commit: f0a361a
Last Changed Date: 2020-10-27 10:41:49 -0400
malbec1Linux (Ubuntu 18.04.5 LTS) / x86_64  OK    OK    OK  UNNEEDED, same version exists in internal repository
tokay1Windows Server 2012 R2 Standard / x64  OK    OK    OK    OK  UNNEEDED, same version exists in internal repository
merida1macOS 10.14.6 Mojave / x86_64  OK    OK    OK    OK  UNNEEDED, same version exists in internal repository
Package 19/66HostnameOS / ArchINSTALLBUILDCHECKBUILD BIN
DiffBind 3.0.15  (landing page)
Rory Stark
Last Commit: 9c4e998
Last Changed Date: 2021-03-22 13:19:01 -0400
malbec1Linux (Ubuntu 18.04.5 LTS) / x86_64  OK    OK    OK  UNNEEDED, same version exists in internal repository
tokay1Windows Server 2012 R2 Standard / x64  OK    OK    OK    OK  UNNEEDED, same version exists in internal repository
merida1macOS 10.14.6 Mojave / x86_64  OK    OK    OK    OK  UNNEEDED, same version exists in internal repository
Package 20/66HostnameOS / ArchINSTALLBUILDCHECKBUILD BIN
EBSEA 1.18.0  (landing page)
Arfa Mehmood
Last Commit: ee7b37b
Last Changed Date: 2020-10-27 11:13:24 -0400
malbec1Linux (Ubuntu 18.04.5 LTS) / x86_64  OK    OK    OK  UNNEEDED, same version exists in internal repository
tokay1Windows Server 2012 R2 Standard / x64  OK    OK    OK    OK  UNNEEDED, same version exists in internal repository
merida1macOS 10.14.6 Mojave / x86_64  OK    OK    OK    OK  UNNEEDED, same version exists in internal repository
Package 21/66HostnameOS / ArchINSTALLBUILDCHECKBUILD BIN
eegc 1.16.0  (landing page)
Xiaoyuan Zhou
Last Commit: 8e13c5e
Last Changed Date: 2020-10-27 11:17:14 -0400
malbec1Linux (Ubuntu 18.04.5 LTS) / x86_64  OK    OK    WARNINGS  UNNEEDED, same version exists in internal repository
tokay1Windows Server 2012 R2 Standard / x64  OK    OK    WARNINGS    OK  UNNEEDED, same version exists in internal repository
merida1macOS 10.14.6 Mojave / x86_64  OK    OK    WARNINGS    OK  UNNEEDED, same version exists in internal repository
Package 22/66HostnameOS / ArchINSTALLBUILDCHECKBUILD BIN
ERSSA 1.8.0  (landing page)
Zixuan Shao
Last Commit: 88db202
Last Changed Date: 2020-10-27 11:38:46 -0400
malbec1Linux (Ubuntu 18.04.5 LTS) / x86_64  OK    OK    OK  UNNEEDED, same version exists in internal repository
tokay1Windows Server 2012 R2 Standard / x64  OK    OK    OK    OK  UNNEEDED, same version exists in internal repository
merida1macOS 10.14.6 Mojave / x86_64  OK    OK    OK    OK  UNNEEDED, same version exists in internal repository
Package 23/66HostnameOS / ArchINSTALLBUILDCHECKBUILD BIN
exomePeak2 1.2.0  (landing page)
Zhen Wei
Last Commit: a214469
Last Changed Date: 2020-10-27 11:53:58 -0400
malbec1Linux (Ubuntu 18.04.5 LTS) / x86_64  OK    OK    OK  UNNEEDED, same version exists in internal repository
tokay1Windows Server 2012 R2 Standard / x64  OK    OK    OK    OK  UNNEEDED, same version exists in internal repository
merida1macOS 10.14.6 Mojave / x86_64  OK    OK    OK    OK  UNNEEDED, same version exists in internal repository
Package 24/66HostnameOS / ArchINSTALLBUILDCHECKBUILD BIN
FourCSeq 1.24.0  (landing page)
Mike Smith
Last Commit: 5575105
Last Changed Date: 2020-10-27 10:58:38 -0400
malbec1Linux (Ubuntu 18.04.5 LTS) / x86_64  OK    OK    WARNINGS  UNNEEDED, same version exists in internal repository
tokay1Windows Server 2012 R2 Standard / x64  OK    OK    WARNINGS    OK  UNNEEDED, same version exists in internal repository
merida1macOS 10.14.6 Mojave / x86_64  OK    OK    WARNINGS    OK  UNNEEDED, same version exists in internal repository
Package 25/66HostnameOS / ArchINSTALLBUILDCHECKBUILD BIN
GDCRNATools 1.10.1  (landing page)
Ruidong Li
Last Commit: 0827796
Last Changed Date: 2020-11-25 02:46:19 -0400
malbec1Linux (Ubuntu 18.04.5 LTS) / x86_64  OK    OK    OK  UNNEEDED, same version exists in internal repository
tokay1Windows Server 2012 R2 Standard / x64  OK    OK    OK    OK  UNNEEDED, same version exists in internal repository
merida1macOS 10.14.6 Mojave / x86_64  OK    OK    OK    OK  UNNEEDED, same version exists in internal repository
Package 26/66HostnameOS / ArchINSTALLBUILDCHECKBUILD BIN
GeneTonic 1.2.0  (landing page)
Federico Marini
Last Commit: 6b41744
Last Changed Date: 2020-10-27 11:53:11 -0400
malbec1Linux (Ubuntu 18.04.5 LTS) / x86_64  OK    OK    OK  UNNEEDED, same version exists in internal repository
tokay1Windows Server 2012 R2 Standard / x64  OK    OK    OK    OK  UNNEEDED, same version exists in internal repository
merida1macOS 10.14.6 Mojave / x86_64  OK    OK    OK    OK  UNNEEDED, same version exists in internal repository
Package 27/66HostnameOS / ArchINSTALLBUILDCHECKBUILD BIN
GenoGAM 2.8.0  (landing page)
Georg Stricker
Last Commit: 7698827
Last Changed Date: 2020-10-27 11:13:12 -0400
malbec1Linux (Ubuntu 18.04.5 LTS) / x86_64  OK    OK    WARNINGS  UNNEEDED, same version exists in internal repository
tokay1Windows Server 2012 R2 Standard / x64  OK    OK    WARNINGS    OK  UNNEEDED, same version exists in internal repository
merida1macOS 10.14.6 Mojave / x86_64  OK    OK    WARNINGS    OK  UNNEEDED, same version exists in internal repository
Package 28/66HostnameOS / ArchINSTALLBUILDCHECKBUILD BIN
Glimma 2.0.0  (landing page)
Shian Su
Last Commit: 40bebaa
Last Changed Date: 2020-10-27 11:13:43 -0400
malbec1Linux (Ubuntu 18.04.5 LTS) / x86_64  OK    OK    OK  UNNEEDED, same version exists in internal repository
tokay1Windows Server 2012 R2 Standard / x64  OK    OK    OK    OK  UNNEEDED, same version exists in internal repository
merida1macOS 10.14.6 Mojave / x86_64  OK    OK    OK    OK  UNNEEDED, same version exists in internal repository
Package 29/66HostnameOS / ArchINSTALLBUILDCHECKBUILD BIN
HTSFilter 1.30.1  (landing page)
Andrea Rau
Last Commit: e4979de
Last Changed Date: 2020-12-16 05:55:34 -0400
malbec1Linux (Ubuntu 18.04.5 LTS) / x86_64  OK    OK    OK  UNNEEDED, same version exists in internal repository
tokay1Windows Server 2012 R2 Standard / x64  OK    OK    OK    OK  UNNEEDED, same version exists in internal repository
merida1macOS 10.14.6 Mojave / x86_64  OK    OK    OK    OK  UNNEEDED, same version exists in internal repository
Package 30/66HostnameOS / ArchINSTALLBUILDCHECKBUILD BIN
icetea 1.8.0  (landing page)
Vivek Bhardwaj
Last Commit: 72b27ba
Last Changed Date: 2020-10-27 11:36:17 -0400
malbec1Linux (Ubuntu 18.04.5 LTS) / x86_64  OK    OK    OK  UNNEEDED, same version exists in internal repository
tokay1Windows Server 2012 R2 Standard / x64  OK    OK    OK    OK  UNNEEDED, same version exists in internal repository
merida1macOS 10.14.6 Mojave / x86_64  OK    OK    OK    OK  UNNEEDED, same version exists in internal repository
Package 31/66HostnameOS / ArchINSTALLBUILDCHECKBUILD BIN
ideal 1.14.0  (landing page)
Federico Marini
Last Commit: 984d306
Last Changed Date: 2020-10-27 11:24:01 -0400
malbec1Linux (Ubuntu 18.04.5 LTS) / x86_64  OK    OK    OK  UNNEEDED, same version exists in internal repository
tokay1Windows Server 2012 R2 Standard / x64  OK    OK    OK    OK  UNNEEDED, same version exists in internal repository
merida1macOS 10.14.6 Mojave / x86_64  OK    OK    OK    OK  UNNEEDED, same version exists in internal repository
Package 32/66HostnameOS / ArchINSTALLBUILDCHECKBUILD BIN
ImpulseDE2 1.14.0  (landing page)
David S Fischer
Last Commit: c2f4775
Last Changed Date: 2020-10-27 11:23:35 -0400
malbec1Linux (Ubuntu 18.04.5 LTS) / x86_64  OK    OK    ERROR  
tokay1Windows Server 2012 R2 Standard / x64  OK    OK    ERROR    OK  
merida1macOS 10.14.6 Mojave / x86_64  OK    OK    ERROR    OK  
Package 33/66HostnameOS / ArchINSTALLBUILDCHECKBUILD BIN
INSPEcT 1.20.0  (landing page)
Stefano de Pretis
Last Commit: d952c98
Last Changed Date: 2020-10-27 11:06:18 -0400
malbec1Linux (Ubuntu 18.04.5 LTS) / x86_64  OK    OK    OK  UNNEEDED, same version exists in internal repository
tokay1Windows Server 2012 R2 Standard / x64  OK    OK    OK    OK  UNNEEDED, same version exists in internal repository
merida1macOS 10.14.6 Mojave / x86_64  OK    OK    OK    OK  UNNEEDED, same version exists in internal repository
Package 34/66HostnameOS / ArchINSTALLBUILDCHECKBUILD BIN
IntEREst 1.14.0  (landing page)
Ali Oghabian , Mikko Frilander
Last Commit: 514e896
Last Changed Date: 2020-10-27 11:22:16 -0400
malbec1Linux (Ubuntu 18.04.5 LTS) / x86_64  OK    OK    OK  UNNEEDED, same version exists in internal repository
tokay1Windows Server 2012 R2 Standard / x64  OK    OK    WARNINGS    OK  UNNEEDED, same version exists in internal repository
merida1macOS 10.14.6 Mojave / x86_64  OK    OK    OK    OK  UNNEEDED, same version exists in internal repository
Package 35/66HostnameOS / ArchINSTALLBUILDCHECKBUILD BIN
isomiRs 1.18.1  (landing page)
Lorena Pantano
Last Commit: 3f07703
Last Changed Date: 2021-01-28 15:04:24 -0400
malbec1Linux (Ubuntu 18.04.5 LTS) / x86_64  OK    OK    OK  UNNEEDED, same version exists in internal repository
tokay1Windows Server 2012 R2 Standard / x64  OK    OK    OK    OK  UNNEEDED, same version exists in internal repository
merida1macOS 10.14.6 Mojave / x86_64  OK    OK    OK    OK  UNNEEDED, same version exists in internal repository
Package 36/66HostnameOS / ArchINSTALLBUILDCHECKBUILD BIN
JunctionSeq 1.20.0  (landing page)
Stephen Hartley
Last Commit: b47b4bb
Last Changed Date: 2020-10-27 11:10:31 -0400
malbec1Linux (Ubuntu 18.04.5 LTS) / x86_64  OK    OK    ERROR  
tokay1Windows Server 2012 R2 Standard / x64  OK    OK    ERROR    OK  
merida1macOS 10.14.6 Mojave / x86_64  OK    OK    ERROR    OK  
Package 37/66HostnameOS / ArchINSTALLBUILDCHECKBUILD BIN
kissDE 1.10.0  (landing page)
Aurélie Siberchicot
Last Commit: 44e2b8d
Last Changed Date: 2020-10-27 11:32:12 -0400
malbec1Linux (Ubuntu 18.04.5 LTS) / x86_64  OK    OK    OK  UNNEEDED, same version exists in internal repository
tokay1Windows Server 2012 R2 Standard / x64  OK    OK    OK    OK  UNNEEDED, same version exists in internal repository
merida1macOS 10.14.6 Mojave / x86_64  OK    OK    OK    OK  UNNEEDED, same version exists in internal repository
Package 38/66HostnameOS / ArchINSTALLBUILDCHECKBUILD BIN
metaseqR2 1.2.0  (landing page)
Panagiotis Moulos
Last Commit: 2bcc067
Last Changed Date: 2020-10-27 11:57:00 -0400
malbec1Linux (Ubuntu 18.04.5 LTS) / x86_64  OK    OK    OK  UNNEEDED, same version exists in internal repository
tokay1Windows Server 2012 R2 Standard / x64  OK    OK    OK    OK  UNNEEDED, same version exists in internal repository
merida1macOS 10.14.6 Mojave / x86_64  OK    OK    OK    OK  UNNEEDED, same version exists in internal repository
Package 39/66HostnameOS / ArchINSTALLBUILDCHECKBUILD BIN
microbiomeExplorer 1.0.1  (landing page)
Janina Reeder
Last Commit: 17f035a
Last Changed Date: 2020-10-28 18:01:41 -0400
malbec1Linux (Ubuntu 18.04.5 LTS) / x86_64  OK    OK    OK  UNNEEDED, same version exists in internal repository
tokay1Windows Server 2012 R2 Standard / x64  OK    OK    OK    OK  UNNEEDED, same version exists in internal repository
merida1macOS 10.14.6 Mojave / x86_64  OK    OK    OK    OK  UNNEEDED, same version exists in internal repository
Package 40/66HostnameOS / ArchINSTALLBUILDCHECKBUILD BIN
MLSeq 2.8.0  (landing page)
Gokmen Zararsiz
Last Commit: 1b39bbe
Last Changed Date: 2020-10-27 10:55:23 -0400
malbec1Linux (Ubuntu 18.04.5 LTS) / x86_64  OK    OK    OK  UNNEEDED, same version exists in internal repository
tokay1Windows Server 2012 R2 Standard / x64  OK    OK    OK    OK  UNNEEDED, same version exists in internal repository
merida1macOS 10.14.6 Mojave / x86_64  OK    OK    OK    OK  UNNEEDED, same version exists in internal repository
Package 41/66HostnameOS / ArchINSTALLBUILDCHECKBUILD BIN
muscat 1.4.0  (landing page)
Helena L. Crowell
Last Commit: f9eef39
Last Changed Date: 2020-10-27 11:48:47 -0400
malbec1Linux (Ubuntu 18.04.5 LTS) / x86_64  OK    OK    OK  UNNEEDED, same version exists in internal repository
tokay1Windows Server 2012 R2 Standard / x64  OK    OK    WARNINGS    OK  UNNEEDED, same version exists in internal repository
merida1macOS 10.14.6 Mojave / x86_64  OK    OK    OK    OK  UNNEEDED, same version exists in internal repository
Package 42/66HostnameOS / ArchINSTALLBUILDCHECKBUILD BIN
NBAMSeq 1.6.1  (landing page)
Xu Ren
Last Commit: 854d381
Last Changed Date: 2020-10-28 18:00:35 -0400
malbec1Linux (Ubuntu 18.04.5 LTS) / x86_64  OK    OK    OK  UNNEEDED, same version exists in internal repository
tokay1Windows Server 2012 R2 Standard / x64  OK    OK    OK    OK  UNNEEDED, same version exists in internal repository
merida1macOS 10.14.6 Mojave / x86_64  OK    OK    OK    OK  UNNEEDED, same version exists in internal repository
Package 43/66HostnameOS / ArchINSTALLBUILDCHECKBUILD BIN
ORFik 1.10.13  (landing page)
Haakon Tjeldnes
Last Commit: 3f2976e
Last Changed Date: 2021-03-26 10:15:54 -0400
malbec1Linux (Ubuntu 18.04.5 LTS) / x86_64  OK    OK    OK  UNNEEDED, same version exists in internal repository
tokay1Windows Server 2012 R2 Standard / x64  OK    OK    WARNINGS    OK  UNNEEDED, same version exists in internal repository
merida1macOS 10.14.6 Mojave / x86_64  OK    OK    OK    OK  UNNEEDED, same version exists in internal repository
Package 44/66HostnameOS / ArchINSTALLBUILDCHECKBUILD BIN
OUTRIDER 1.8.0  (landing page)
Christian Mertes
Last Commit: ab85565
Last Changed Date: 2020-10-27 11:37:07 -0400
malbec1Linux (Ubuntu 18.04.5 LTS) / x86_64  OK    OK    OK  UNNEEDED, same version exists in internal repository
tokay1Windows Server 2012 R2 Standard / x64  OK    OK    OK    OK  UNNEEDED, same version exists in internal repository
merida1macOS 10.14.6 Mojave / x86_64  OK    OK    OK    OK  UNNEEDED, same version exists in internal repository
Package 45/66HostnameOS / ArchINSTALLBUILDCHECKBUILD BIN
PathoStat 1.16.0  (landing page)
Solaiappan Manimaran
Last Commit: d3ef0ce
Last Changed Date: 2020-10-27 11:18:31 -0400
malbec1Linux (Ubuntu 18.04.5 LTS) / x86_64  OK    OK    OK  UNNEEDED, same version exists in internal repository
tokay1Windows Server 2012 R2 Standard / x64  OK    OK    OK    OK  UNNEEDED, same version exists in internal repository
merida1macOS 10.14.6 Mojave / x86_64  OK    OK    OK    OK  UNNEEDED, same version exists in internal repository
Package 46/66HostnameOS / ArchINSTALLBUILDCHECKBUILD BIN
pcaExplorer 2.16.0  (landing page)
Federico Marini
Last Commit: d1867b5
Last Changed Date: 2020-10-27 11:13:51 -0400
malbec1Linux (Ubuntu 18.04.5 LTS) / x86_64  OK    OK    OK  UNNEEDED, same version exists in internal repository
tokay1Windows Server 2012 R2 Standard / x64  OK    OK    OK    OK  UNNEEDED, same version exists in internal repository
merida1macOS 10.14.6 Mojave / x86_64  OK    OK    OK    OK  UNNEEDED, same version exists in internal repository
Package 47/66HostnameOS / ArchINSTALLBUILDCHECKBUILD BIN
phantasus 1.10.0  (landing page)
Alexey Sergushichev
Last Commit: efcdf05
Last Changed Date: 2020-10-27 11:33:27 -0400
malbec1Linux (Ubuntu 18.04.5 LTS) / x86_64  OK    OK    OK  UNNEEDED, same version exists in internal repository
tokay1Windows Server 2012 R2 Standard / x64  OK    OK    OK    OK  UNNEEDED, same version exists in internal repository
merida1macOS 10.14.6 Mojave / x86_64  OK    OK    OK    OK  UNNEEDED, same version exists in internal repository
Package 48/66HostnameOS / ArchINSTALLBUILDCHECKBUILD BIN
proActiv 1.0.0  (landing page)
Joseph Lee
Last Commit: a9bc3ac
Last Changed Date: 2020-10-27 12:00:53 -0400
malbec1Linux (Ubuntu 18.04.5 LTS) / x86_64  OK    OK    OK  UNNEEDED, same version exists in internal repository
tokay1Windows Server 2012 R2 Standard / x64  OK    OK    OK    OK  UNNEEDED, same version exists in internal repository
merida1macOS 10.14.6 Mojave / x86_64  OK    OK    OK    OK  UNNEEDED, same version exists in internal repository
Package 49/66HostnameOS / ArchINSTALLBUILDCHECKBUILD BIN
RegEnrich 1.0.1  (landing page)
Weiyang Tao
Last Commit: bd81547
Last Changed Date: 2021-03-04 15:34:24 -0400
malbec1Linux (Ubuntu 18.04.5 LTS) / x86_64  OK    OK    OK  UNNEEDED, same version exists in internal repository
tokay1Windows Server 2012 R2 Standard / x64  OK    OK    OK    OK  UNNEEDED, same version exists in internal repository
merida1macOS 10.14.6 Mojave / x86_64  OK    OK    OK    OK  UNNEEDED, same version exists in internal repository
Package 50/66HostnameOS / ArchINSTALLBUILDCHECKBUILD BIN
regionReport 1.24.2  (landing page)
Leonardo Collado-Torres
Last Commit: 4eb94a2
Last Changed Date: 2020-12-18 12:59:23 -0400
malbec1Linux (Ubuntu 18.04.5 LTS) / x86_64  OK    OK    OK  UNNEEDED, same version exists in internal repository
tokay1Windows Server 2012 R2 Standard / x64  OK    OK    OK    OK  UNNEEDED, same version exists in internal repository
merida1macOS 10.14.6 Mojave / x86_64  OK    OK    OK    OK  UNNEEDED, same version exists in internal repository
Package 51/66HostnameOS / ArchINSTALLBUILDCHECKBUILD BIN
ReportingTools 2.30.2  (landing page)
Jason A. Hackney , Gabriel Becker
Last Commit: d0b7f53
Last Changed Date: 2021-03-08 14:30:05 -0400
malbec1Linux (Ubuntu 18.04.5 LTS) / x86_64  OK    OK    OK  UNNEEDED, same version exists in internal repository
tokay1Windows Server 2012 R2 Standard / x64  OK    OK    OK    OK  UNNEEDED, same version exists in internal repository
merida1macOS 10.14.6 Mojave / x86_64  OK    OK    OK    OK  UNNEEDED, same version exists in internal repository
Package 52/66HostnameOS / ArchINSTALLBUILDCHECKBUILD BIN
rgsepd 1.22.0  (landing page)
Karl Stamm
Last Commit: 3c6fade
Last Changed Date: 2020-10-27 11:01:40 -0400
malbec1Linux (Ubuntu 18.04.5 LTS) / x86_64  OK    OK    OK  UNNEEDED, same version exists in internal repository
tokay1Windows Server 2012 R2 Standard / x64  OK    OK    OK    OK  UNNEEDED, same version exists in internal repository
merida1macOS 10.14.6 Mojave / x86_64  OK    OK    OK    OK  UNNEEDED, same version exists in internal repository
Package 53/66HostnameOS / ArchINSTALLBUILDCHECKBUILD BIN
Rmmquant 1.8.1  (landing page)
Zytnicki Matthias
Last Commit: d8d5abd
Last Changed Date: 2021-01-05 12:29:45 -0400
malbec1Linux (Ubuntu 18.04.5 LTS) / x86_64  OK    OK    OK  UNNEEDED, same version exists in internal repository
tokay1Windows Server 2012 R2 Standard / x64  OK    OK    OK    OK  UNNEEDED, same version exists in internal repository
merida1macOS 10.14.6 Mojave / x86_64  OK    OK    OK    OK  UNNEEDED, same version exists in internal repository
Package 54/66HostnameOS / ArchINSTALLBUILDCHECKBUILD BIN
RNASeqR 1.8.0  (landing page)
Kuan-Hao Chao
Last Commit: 07483cd
Last Changed Date: 2020-10-27 11:39:29 -0400
malbec1Linux (Ubuntu 18.04.5 LTS) / x86_64  OK    OK    OK  UNNEEDED, same version exists in internal repository
tokay1Windows Server 2012 R2 Standard / x64... NOT SUPPORTED ...
merida1macOS 10.14.6 Mojave / x86_64  OK    OK    OK    OK  UNNEEDED, same version exists in internal repository
Package 55/66HostnameOS / ArchINSTALLBUILDCHECKBUILD BIN
scBFA 1.4.0  (landing page)
Ruoxin Li
Last Commit: 5575b66
Last Changed Date: 2020-10-27 11:47:56 -0400
malbec1Linux (Ubuntu 18.04.5 LTS) / x86_64  OK    OK    OK  UNNEEDED, same version exists in internal repository
tokay1Windows Server 2012 R2 Standard / x64  OK    OK    OK    OK  UNNEEDED, same version exists in internal repository
merida1macOS 10.14.6 Mojave / x86_64  OK    OK    OK    OK  UNNEEDED, same version exists in internal repository
Package 56/66HostnameOS / ArchINSTALLBUILDCHECKBUILD BIN
singleCellTK 2.0.0  (landing page)
Yusuke Koga
Last Commit: e97b135
Last Changed Date: 2020-10-27 11:34:50 -0400
malbec1Linux (Ubuntu 18.04.5 LTS) / x86_64  OK    OK    ERROR  
tokay1Windows Server 2012 R2 Standard / x64  OK    OK    ERROR    OK  
merida1macOS 10.14.6 Mojave / x86_64  OK    OK    ERROR    OK  
Package 57/66HostnameOS / ArchINSTALLBUILDCHECKBUILD BIN
SNPhood 1.20.0  (landing page)
Christian Arnold
Last Commit: 3ee61dc
Last Changed Date: 2020-10-27 11:09:04 -0400
malbec1Linux (Ubuntu 18.04.5 LTS) / x86_64  OK    OK    OK  UNNEEDED, same version exists in internal repository
tokay1Windows Server 2012 R2 Standard / x64  OK    OK    WARNINGS    OK  UNNEEDED, same version exists in internal repository
merida1macOS 10.14.6 Mojave / x86_64  OK    OK    OK    OK  UNNEEDED, same version exists in internal repository
Package 58/66HostnameOS / ArchINSTALLBUILDCHECKBUILD BIN
spatialHeatmap 1.0.0  (landing page)
Jianhai Zhang
Last Commit: c4cba0e
Last Changed Date: 2020-10-27 12:02:06 -0400
malbec1Linux (Ubuntu 18.04.5 LTS) / x86_64  OK    OK    OK  UNNEEDED, same version exists in internal repository
tokay1Windows Server 2012 R2 Standard / x64  OK    OK    OK    OK  UNNEEDED, same version exists in internal repository
merida1macOS 10.14.6 Mojave / x86_64  OK    OK    OK    OK  UNNEEDED, same version exists in internal repository
Package 59/66HostnameOS / ArchINSTALLBUILDCHECKBUILD BIN
srnadiff 1.10.1  (landing page)
Zytnicki Matthias
Last Commit: b06f511
Last Changed Date: 2020-10-13 05:50:14 -0400
malbec1Linux (Ubuntu 18.04.5 LTS) / x86_64  OK    OK    OK  UNNEEDED, same version exists in internal repository
tokay1Windows Server 2012 R2 Standard / x64  OK    OK    TIMEOUT    OK  
merida1macOS 10.14.6 Mojave / x86_64  OK    OK    OK    OK  UNNEEDED, same version exists in internal repository
Package 60/66HostnameOS / ArchINSTALLBUILDCHECKBUILD BIN
systemPipeR 1.24.6  (landing page)
Thomas Girke
Last Commit: a9dc042
Last Changed Date: 2021-05-01 02:53:49 -0400
malbec1Linux (Ubuntu 18.04.5 LTS) / x86_64  OK    OK    OK  UNNEEDED, same version exists in internal repository
tokay1Windows Server 2012 R2 Standard / x64  OK    OK    OK    OK  UNNEEDED, same version exists in internal repository
merida1macOS 10.14.6 Mojave / x86_64  OK    OK    OK    OK  UNNEEDED, same version exists in internal repository
Package 61/66HostnameOS / ArchINSTALLBUILDCHECKBUILD BIN
TBSignatureProfiler 1.2.0  (landing page)
David Jenkins
Last Commit: 16ccdd3
Last Changed Date: 2020-10-27 11:56:28 -0400
malbec1Linux (Ubuntu 18.04.5 LTS) / x86_64  OK    OK    OK  UNNEEDED, same version exists in internal repository
tokay1Windows Server 2012 R2 Standard / x64  OK    OK    OK    OK  UNNEEDED, same version exists in internal repository
merida1macOS 10.14.6 Mojave / x86_64  OK    OK    OK    OK  UNNEEDED, same version exists in internal repository
Package 62/66HostnameOS / ArchINSTALLBUILDCHECKBUILD BIN
TCC 1.30.0  (landing page)
Jianqiang Sun
Last Commit: 40c62a0
Last Changed Date: 2020-10-27 10:52:27 -0400
malbec1Linux (Ubuntu 18.04.5 LTS) / x86_64  OK    OK    OK  UNNEEDED, same version exists in internal repository
tokay1Windows Server 2012 R2 Standard / x64  OK    OK    WARNINGS    OK  UNNEEDED, same version exists in internal repository
merida1macOS 10.14.6 Mojave / x86_64  OK    OK    OK    OK  UNNEEDED, same version exists in internal repository
Package 63/66HostnameOS / ArchINSTALLBUILDCHECKBUILD BIN
TimeSeriesExperiment 1.8.0  (landing page)
Lan Huong Nguyen
Last Commit: 99d7630
Last Changed Date: 2020-10-27 11:40:31 -0400
malbec1Linux (Ubuntu 18.04.5 LTS) / x86_64  OK    OK    WARNINGS  UNNEEDED, same version exists in internal repository
tokay1Windows Server 2012 R2 Standard / x64  OK    OK    WARNINGS    OK  UNNEEDED, same version exists in internal repository
merida1macOS 10.14.6 Mojave / x86_64  OK    OK    WARNINGS    OK  UNNEEDED, same version exists in internal repository
Package 64/66HostnameOS / ArchINSTALLBUILDCHECKBUILD BIN
UMI4Cats 1.0.1  (landing page)
Mireia Ramos-Rodriguez
Last Commit: 1f6f3d8
Last Changed Date: 2020-12-29 05:50:42 -0400
malbec1Linux (Ubuntu 18.04.5 LTS) / x86_64  OK    OK    OK  UNNEEDED, same version exists in internal repository
tokay1Windows Server 2012 R2 Standard / x64  OK    OK    OK    OK  UNNEEDED, same version exists in internal repository
merida1macOS 10.14.6 Mojave / x86_64  OK    OK    OK    OK  UNNEEDED, same version exists in internal repository
Package 65/66HostnameOS / ArchINSTALLBUILDCHECKBUILD BIN
vidger 1.10.0  (landing page)
Brandon Monier
Last Commit: 3d28424
Last Changed Date: 2020-10-27 11:32:40 -0400
malbec1Linux (Ubuntu 18.04.5 LTS) / x86_64  OK    OK    OK  UNNEEDED, same version exists in internal repository
tokay1Windows Server 2012 R2 Standard / x64  OK    OK    OK    OK  UNNEEDED, same version exists in internal repository
merida1macOS 10.14.6 Mojave / x86_64  OK    OK    OK    OK  UNNEEDED, same version exists in internal repository
Package 66/66HostnameOS / ArchINSTALLBUILDCHECKBUILD BIN
XBSeq 1.22.0  (landing page)
Yuanhang Liu
Last Commit: 340f654
Last Changed Date: 2020-10-27 11:06:13 -0400
malbec1Linux (Ubuntu 18.04.5 LTS) / x86_64  OK    OK    OK  UNNEEDED, same version exists in internal repository
tokay1Windows Server 2012 R2 Standard / x64  OK    OK    OK    OK  UNNEEDED, same version exists in internal repository
merida1macOS 10.14.6 Mojave / x86_64  OK    OK    OK    OK  UNNEEDED, same version exists in internal repository